Workbook

Sheet Note_AmendCAPI
A1: Les points intégrés dans CAPI sont en couleur JAUNE
A2: Points intégrés mais necessitant une clarification par la suite en couleur VIOLET
A9: A FAIRE
A11: Revenir après à la section S04_Emploi

Sheet couvert
R2: REPÚBLICA DA GUINÉ-BISSAU
O5: MINISTÉRIO DA ECONOMIA, PLANO E INTEGRAÇÃO REGIONAL
S7: INSTITUTO NACIONAL DE ESTATÍSTICA
X8: EHCVM 2
T9: IDENTIFICAÇÃO DO AGREGADO FAMILIAR
T10: AGLOMERADO/DR | AB10: AGREGADO FAMILIAR | AF10: VAGA
AF11: 2
A16: INQUÉRITO HARMONIZADO SOBRE AS CONDIÇÕES DE VIDA DOS AGREGADOS FAMILIARES 2021/2022
A17: COM O APOIO DA COMISSÃO DA UEMOA E DO BANCO MUNDIAL
A18: QUESTIONÁRIO AO AGREGADO FAMILIAR
A21: Coordenadas GPS do agregado familiar | AG21: 1.Em que formato foi conduzida a entrevista?
AG23: 1. PAPI
A24: Latitude | H24: N | AG24: 2. CAPI
AG25: 2.Qual é a ronda da visita?
A26: Longitude | H26: W | AH26: 1 Primeira visita
AH27: 2 Segunda visita
AH28: 3 Terceira visita
B29: Nome e apelido do chefe do agregado familiar:
B31: Morada (localização) do agregado familiar:
A34: CONFIDENCIAL: Nos termos do artigo 7º, da Lei de Base do Sistema Estatístico Nacional, todos os dados estatísticos individuais recolhidos por órgãos produtores de Estatísticas Oficiais do SEN, são de natureza estritamente confidencial.

Sheet TOC
A1: ÍNDICE
A3: 0 | B3: INFORMAÇÕES DE CONTROLO | F3: 10 | G3: EMPRESAS NÃO-AGRÍCOLAS
B4: A Identificação do agregado familiar | C4: 3 | G4: A Existência de empresas não-agrícolas | J4: 45
B5: B Contactos do agregado familiar | C5: 3 | G5: B Características das empresas não-agrícolas (sem existências) | J5: 46
B6: C Informações de controlo | C6: 3
A7: 1 | B7: CARACTERÍSTICAS SOCIODEMOGRÁFICAS DOS MEMBROS DO AGREGADO FAMILIAR | C7: 4 | F7: 11 | G7: HABITAÇÃO | J7: 53
A8: 2 | B8: EDUCAÇÃO (INDIVÍDUOS COM IDADE IGUAL OU SUPERIOR A 3 ANOS) | C8: 8 | F8: 12 | G8: ATIVOS DO AGREGADO FAMILIAR | J8: 56
A9: 3 | B9: SAÚDE GERAL | C9: 12 | F9: 13 | G9: TRANSFERÊNCIAS
A10: 4 | B10: EMPREGO (INDIVÍDUOS COM IDADE IGUAL OU SUPERIOR A 6 ANOS) | G10: A Transferências recebidas pelo agregado familiar | J10: 58
B11: A Situação relativamente à atividade | C11: 16 | G11: A Transferências emitidas pelo agregado familiar | J11: 59
B12: B Emprego principal durante os últimos 12 meses | C12: 19 | F12: 14 | G12: IMPACTOS E ESTRATÉGIAS DE SOBREVIVÊNCIA | J12: 60
B13: C Emprego secundário durante os últimos 12 meses | C13: 22 | F13: 15 | G13: REDES DE SEGURANÇA | J13: 61
A14: 5 | B14: C RENDIMENTOS FORA DO EMPREGO DURANTE OS ÚLTIMOS 12 MESES | C14: 24 | F14: 16 | G14: AGRICULTURA
A15: 6 | B15: POUPANÇA E CRÉDITO | C15: 26 | G15: A Parcelas | J15: 62
A16: 7 | B16: CONSUMO ALIMENTAR DURANTE OS ÚLTIMOS 7 DIAS | G16: B Custo dos insumos | J16: 74
B17: A Refeições consumidas fora do agregado familiar durante os últimos 7 dias | C17: 28 | G17: C Culturas | J17: 75
B18: B Consumo alimentar durante os últimos 30 dias e compras durante os últimos 30 dias | C18: 30 | F18: 17 | G18: PECUÁRIA | J18: 79
A19: 8 | B19: SEGURANÇA ALIMENTAR | F19: 18 | G19: EQUIPAMENTOS AGRÍCOLAS | J19: 88
B20: A Escala de experiência de insegurança alimentar | C20: 36 | F20: 19 | G20: PESCA | J20: 89
B21: B Suplementos alimentares | C21: 37 | F21: 20 | G21: POBREZA SUBJECTIVA, GOVERNANÇA, INSEGURANÇA
A22: 9 | B22: DESPESAS RETROSPETIVAS NÃO ALIMENTARES DO AGREGADO FAMILIAR | G22: A Pobreza subjectiva | J22: 101
B23: A Despesas com festas e cerimónias durante os últimos 12 meses | C23: 38 | G23: B Governança | J23: 102
B24: B Despesas não alimentares durante os últimos 7 dias | C24: 39 | G24: C Insegurança | J24: 103
B25: C Despesas não alimentares durante os últimos 30 dias | C25: 40 | G25: LISTA EXAUSTIVA DE UNIDADES PARA A SEÇÃO 7B | J25: 104
B26: D Despesas não alimentares durante os últimos 3 meses | C26: 41 | G26: NOMENCLATURA DE CULTURAS PARA A SEÇÃO 16A | J26: 105
B27: E Despesas não alimentares durante os últimos 6 meses | C27: 42 | G27: OBSERVAÇÕES | J27: 106
B28: F Despesas não alimentares durante os últimos 12 meses | C28: 43 | G28: VARIÁVEIS | J28: 107

Sheet S0_Cont
A1: SECÇÃO 0: IDENTIFICAÇÃO DO AGREGADO FAMILIAR E INFORMAÇÕES DE CONTROLO
A2: A | B2: Identificação do agregado familiar
A3: 01.- | B3: Região | E3: NOME: | L3: CÓDIGO:
A4: 02.- | B4: Setor | E4: NOME: | L4: CÓDIGO:
A5: 03.-
A6: 04.- | B6: Meio de residência | F6: 1. Urbano 2. Rural | L6: CÓDIGO:
A7: 05.- | B7: Tabanca/Bairro | E7: NOME:
A8: 06.- | B8: N.º do Distrito de Recenseamento (DR) | L8: CÓDIGO:
A9: 07.- | B9: Número do agregado familiar no DR | L9: CÓDIGO:
A10: 07A.- | B10: Tipo de agregado | D10: 1 = Agregado residente, 2 = Agregado num acampamento para pessoas deslocadas internamente ou refugiados ►0,08 | L10: CÓDIGO:
A11: 07B.- | B11: O seu agregado mora nesta localidade há menos de 5 anos? | F11: 1 Sim | G11: =CONCATENATE("2 Não ►",A13) -> 2 Não ►07D.-
A12: 07C.- | B12: Você deixou seu local de residência anterior por causa de guerra, conflitos na comunidade, violência ou ataque de catástrofe natural? | K12: 1. Sim | L12: 2. Não
A13: 07D.- | B13: O agregado famiiar foi entrevistada durante o último inquérito em 2018/2019 | G13: 1. Sim | H13: 2. Não ►0.08
A14: 07E.- | B14: O agregado ocupava o mesmo alojamento durante o inquérito de 2018/19 | G14: 1. Sim | H14: 2. Não ►0.08
A15: 07F1.- | B15: Número de DR em 2018/2019 | L15: CÓDIGO:
A16: 07F2.- | B16: Número de agregado em 2018/2019 | L16: CÓDIGO:
A17: 08.- | B17: Resultado da entrevista | D17: 1= Concluída, agregado familiar selecionado ►(0.10) 2=Concluída, agregado familiar substituto►(0.10) 3=Não concluída | L17: CÓDIGO:
A18: 09.- | B18: Motivo | D18: 1=Recusa 2= Ausente 3=Alojamento desocupada ►(Fim do questionário) | L18: CÓDIGO:
A19: B | B19: Contacto do agregado familiar
A20: 10.- | B20: Nome e apelido do chefe do agregado familiar
A21: 11.- | B21: Morada (localização) do agregado familiar
A22: 12A.- | B22: Primeiro Número do telemóvel do chefe do agregado familiar | L22: NÚMERO:
A23: 12B.- | B23: Segundo Número do telemóvel do chefe do agregado familiar | L23: NÚMERO:
A24: 13.- | B24: Nome de outro membro do agregado familiar que possui um número de telemóvel
A25: 14.- | B25: Número do telemóvel desse outro membro do agregado familiar | L25: NÚMERO:
A26: 15.- | B26: Nome de um primeiro contacto não pertencente ao agregado familiar que possui um número de telemóvel
A27: 16.- | B27: Número do telemóvel dessa outra pessoa | L27: NÚMERO:
A28: 17.- | B28: Nome de um segundo contacto não pertencente ao agregado familiar que possui um número de telemóvel
A29: 18.- | B29: Número do telemóvel dessa outra pessoa | L29: NÚMERO:
A30: C | B30: Informações de controlo
A31: 19.- | B31: Nome e apelido do agente entrevistador | L31: CÓDIGO:
A32: 20.- | B32: Nome e apelido do controlador | L32: CÓDIGO:
A33: 21.- | B33: Nome e apelido do agente de verificação | L33: CÓDIGO:
A34: 22.- | B34: Número de visitas necessárias para administrar o questionário | L34: NÚMERO
D35: Dia | F35: Mês | H35: Ano | J35: Hora/minutos de início | L35: Hora/minutos de fim
A36: 23.- | B36: Recolha - Visita 1
A37: 24.- | B37: Recolha - Visita 2
A38: 25.- | B38: Recolha - Visita 3
A39: 26.- | B39: Controlo
A40: 27.- | B40: Resultado do questionário | D40: 1=Completo 2=Parcial | L40: CÓDIGO:
...

Sheet S01_Demo
A1: LISTA DE MEMBROS - FLAP | C1: SECÇÃO 1: CARACTERÍSTICAS SOCIODEMOGRÁFICAS DOS MEMBROS DO AGREGADO FAMILIAR | AC1: SECÇÃO 1: CARACTERÍSTICAS SOCIODEMOGRÁFICAS DOS MEMBROS DO AGREGADO FAMILIAR | AL1: SECÇÃO 1: CARACTERÍSTICAS SOCIODEMOGRÁFICAS DOS MEMBROS DO AGREGADO FAMILIAR | AX1: SECÇÃO 1: CARACTERÍSTICAS SOCIODEMOGRÁFICAS DOS MEMBROS DO AGREGADO FAMILIAR
A4: CÓDIGO ID: | B4: ORDEM DE REGISTO | C4: CÓDIGO ID: | D4: 1 | E4: =CONCATENATE("(1.00",E47,")") -> (1.00) | F4: =CONCATENATE("(1.00",F47,")") -> (1.00) | G4: =CONCATENATE("(1.00",G47,")") -> (1.00) | I4: =CONCATENATE("(1.00",I47,")") -> (1.00) | J4: =CONCATENATE("(1.00",J47,")") -> (1.00) | L4: =CONCATENATE("(1.00",L47,")") -> (1.00) | M4: 1.01 | N4: 1.02 | O4: 1.03 | R4: 1.04 | T4: 1.05 | U4: 1.06 | V4: =U4+0.01 -> 1.07 | W4: =V4+0.01 -> 1.08 | X4: =W4+0.01 -> 1.09 | AB4: =X4+0.01 -> 1.1 | AC4: CÓDIGO ID: | AD4: =AB4+0.01 -> 1.11 | AE4: =AD4+0.01 -> 1.12 | AF4: =AE4+0.01 -> 1.13 | AG4: =AF4+0.01 -> 1.14 | AH4: =AG4+0.01 -> 1.15 | AI4: =AH4+0.01 -> 1.16 | AJ4: =AI4+0.01 -> 1.17 | AK4: =AJ4+0.01 -> 1.18 | AL4: CÓDIGO ID: | AM4: =AK4+0.01 -> 1.19 | AN4: =AM4+0.01 -> 1.2 | AO4: =AN4+0.01 -> 1.21 | AP4: =CONCATENATE("(",TEXT(AO4,"0,00"), "a)") -> (1,21a) | AQ4: =AO4+0.01 -> 1.22 | AR4: =AQ4+0.01 -> 1.23 | AS4: =AR4+0.01 -> 1.24 | AT4: =AS4+0.01 -> 1.25 | AU4: =AT4+0.01 -> 1.26 | AV4: =AU4+0.01 -> 1.27 | AW4: =AV4+0.01 -> 1.28 | AX4: CÓDIGO ID: | AY4: =AW4+0.01 -> 1.29 | AZ4: =AY4+0.01 -> 1.3 | BA4: =AZ4+0.01 -> 1.31 | BB4: =BA4+0.01 -> 1.32 | BC4: =BB4+0.01 -> 1.33 | BD4: =BC4+0.01 -> 1.34 | BE4: =BD4+0.01 -> 1.35 | BF4: =BE4+0.01 -> 1.36 | BG4: =BF4+0.01 -> 1.37 | ... BI4: =BH4+0.01 -> 1.39
B5: A. Para os agregados inquiridos ​​em 2018/2019: a lista de todas as pessoas que moravam no alojamento durante a primeira edição é relatada. As novas pessoas que chegaram à residência são adicionadas posteriormente. B. Para os novos agregados: faça uma lista de todas as pessoas que vivem no alojamento, presentes ou ausentes no momento da pesquisa. Para ter certeza de não esquecer alguns indivíduos, liste-os na ordem descrita abaixo | D5: CÓDIGO ID do respondente | E5: [NOME] ainda mora neste agregado? | F5: Por que razão [NOME] não mora mais neste agregado? | G5: Desde quando o [NOME] saiu do agregado? | I5: INQUIRIDOR: [NOME] é um novo membro do agregado ou alguém esquecido no inquérito 2018/19? | J5: Há quanto tempo [NOME] mora no agregado? | L5: Por que [NOME] veio morar neste agregado ou não foi entrevistado em 2018/2019? | M5: Qual é o Sexo (NOME)? | N5: Qual é o laço de parentesco de [NOME] com o chefe do agregado familiar? | O5: Qual é a data de nascimento de [NOME]? | R5: Que idade fez [NOME] no seu último aniversário? | T5: Será que o [NOME] dispõe de uma certidão de nascimento? | U5: A certidão de nascimento foi mostrada? | V5: No caso das pessoas com idade igual ou superior a 10 anos, qual é o estado civil de [NOME]? | W5: O(s) cônjuge(s) de [NOME] vive(m) no agregado familiar? | X5: Qual (quais) é (são) o(s) código(s) ID do(s) cônjuge(s) de [NOME]? | AB5: Com que idade [NOME] se casou pela primeira vez? | AD5: [NOME] está presente na altura do inquérito? | AE5: [NOME] vive em regime permanente neste agregado familiar pelo menos nos últimos 6 meses? | AF5: [NOME] pretende ficar no agregado por pelo menos 6 meses? | AG5: Qual é a religião de [NOME]? | AH5: Qual é a nacionalidade de [NOME]? | AI5: No caso dos nacionais, qual é a etnia de [NOME]? | AJ5: [NOME] nasceu em [localidade de residência]? | AK5: [NOME] alguma vez residiu noutra localidade durante mais de 6 meses? | AM5: Qual é a última cidade onde [NOME] morou antes de vir morar aqui? | AN5: Durante quantos anos [NOME] residiu nessa localidade antes de vir morar aqui? | AO5: Qual foi a razão principal para [NOME] ter vindo morar para esta localidade? | AP5: Há quantos anos [NOME] mora em [local de residência]? | AQ5: O pai de [NOME] vive no agregado familiar? | AR5: ESCREVER O CÓDIGO ID DO PAI DE [NOME] | AS5: O pai de [NOME] está vivo? | AT5: Qual é o nível de instrução mais elevado obtido pelo pai de [NOME]? | AU5: Que ramo de atividade principal exerceu o pai de [NOME]? | AV5: Qual era a categoria socioprofissional do pai de [NOME]? | AW5: Qual era o setor institucional do pai de [NOME]? | AY5: A mãe de [NOME] vive no agregado familiar? | AZ5: ESCREVE O CÓDIGO ID DA MÃE DE [NOME] | BA5: A mãe de [NOME] é viva? | BB5: Qual é o nível de instrução mais elevado obtido pela mãe de [NOME]? | BC5: Que ramo de atividade principal exerceu a mãe de [NOME]? | BD5: Qual era a categoria socioprofissional da mãe de [NOME]? | BE5: Qual era o setor institucional da mãe de [NOME]? | BF5: No caso de pessoas com idade igual ou superior a 10 anos, [NOME] possui telemóvel? | BG5: Mesmo que [NOME] não tenha seu próprio telemovel, [NOME] usou um telefone nos últimos 7 dias? | BH5: Quanto ele gastou em cartões pré-pagos incluindo transferências de crédito nos últimos 7 dias (excluindo assinatura mensal)? | BI5: [NOME] acedeu à internet? Escrever 1 para SIM e 2 para NÃO
AI7: 01=Fula
O8: =CONCATENATE("Se pelo menos o ano de nascimento de [NOME] for declarado ►",TEXT(T4,"(0,00)"),) -> Se pelo menos o ano de nascimento de [NOME] for declarado ►(1,05) | R8: No caso das crianças com menos de 5 anos (0 a 59 meses), idade em meses e anos; por exemplo uma criança de 2 anos e 6 meses, escrever 2 na coluna ANOS e 6 na coluna MESES. No caso das pessoas com idade igual ou superior a 5 anos, idade em anos aquando do último aniversário. | AG8: 1=Muçulmano(a) | AH8: 01 Benin 02 Burkina Faso 03 Cabo Verde 04 Costa do Marfim 05 Gâmbia 06 Gana 07 Guiné 08 Guiné-Bissau 09 Libéria 10 Mali 11 niger 12 Nigéria 13 senegal 14 Serra-Leonne 15 Togo 16 Outra CEDEAO 17 Outra África 18 Outros países fora da África | AI8: 02=Balanta | AM8: 01 Capital | AO8: 01 Enviado por sua família para trabalhar
F9: 1 Era um visitante | N9: 01 Chefe do agregado familiar | AG9: 2 Cristão(ã) | AI9: 03=Mandinga | AM9: 200 Outro urbano | AO9: 02 Veio com seu pai | AV9: Assalariado | BB9: 1 Nenhum | BD9: Assalariado
B10: CHEFE DO AGREGADO FAMILIAR | E10: =CONCATENATE("1 Sim ►(", M4, ")") -> 1 Sim ►(1,01) | F10: 2 Casamento | M10: 1 Masculino | AD10: 1 Presente visto | AG10: 3 Animista | AI10: 04=Papel | AM10: 300 áreas rurais | AO10: 03 Seguir / juntar-se à sua família | AT10: 1 Nenhum | AV10: 1 Quadro Superior | AW10: 1 Administração pública | BB10: 2 Ensino Primário 1º ciclo (1ª a 4ª classe) | BD10: 1 Quadro Superior | BE10: 1 Administração pública | BI10: A | BJ10: B | BK10: C | BL10: D | BM10: E
B11: FILHOS DO CAF CUJA MÃE NÃO VIVE NO AGREGADO FAMILIAR | E11: 2 Não | F11: 3 Divórcio/Separação | M11: 2 Feminino | N11: 02 Cônjuge | V11: 1 Solteiro (a)►(1.11) | W11: 1 Sim | AD11: 2 Presente não visto | AG11: 4 Outra religião | AI11: 05=Manjaco | AM11: 04 Benin | AO11: 04 Falta de emprego | AT11: 2 Ensino Primário 1º ciclo (1ª a 4ª classe) | AU11: =CONCATENATE("0 Desempregado ►(",AY4,")") -> 0 Desempregado ►(1,29) | AV11: 2 Quadro Médio | BB11: 3 Ensino Primário 2º ciclo (5ª a 6ª classe) | BC11: =CONCATENATE("0 Desempregado ►(",BF4,")") -> 0 Desempregado ►(1,36) | BD11: 2 Quadro Médio | BI11: Por telefone | BJ11: No escritório | BK11: No cibercafé | BL11: Em casa | BM11: Na escola/universidade
B12: 1.ª ESPOSA SEGUIDA PELOS FILHOS (DO MAIS NOVO AO MAIS VELHO) | F12: 4 Falecimento (COVID-19) | G12: =CONCATENATE("►►(",TEXT(M4,"0,00"),")") -> ►►(1,01) | I12: =CONCATENATE("1 Novo membro") -> 1 Novo membro | N12: 03 Filho, Filha | V12: 2 Casado(a) monogâmico(a) | W12: 2 Não ►(1.10) | AD12: 3 Ausente | AG12: 5 Sem religião | AI12: 06=Beafada | AM12: 05 Burkina Faso | AO12: 05 melhores oportunidades aqui | AT12: 3 Ensino Primário 2º ciclo (5ª a 6ª classe) | AU12: 1 Agricultura, Pecuária, Pescas… | AV12: 3 Trabalhador ou empregado qualificado | AW12: 2 Empresa pública | BB12: 4 Secundário 1º ciclo (7ª a 9ª classe) | BC12: 1 Agricultura, Pecuária, Pescas… | BD12: 3 Trabalhador ou empregado qualificado | BE12: 2 Empresa pública
B13: 2.ª ESPOSA E FILHOS; 3.ª ESPOSA E FILHOS, ETC. | F13: 5 Falecimento (outra causa) | I13: =CONCATENATE("2 Esquecido ►(", M4, ")") -> 2 Esquecido ►(1,01) | L13: 1 Visitante (por menos de 6 meses) | N13: 04 Pai, Mãe | U13: 1 Sim | V13: 3 Casado(a) poligâmico(a) | AE13: 1 Sim►(1.14) | AF13: 1 Sim | AI13: 07=Mancanha | AJ13: 1 Sim | AK13: =CONCATENATE("1 Sim") -> 1 Sim | AM13: 06 Cabo Verde | AO13: 06 Atribuição | AQ13: 1 Sim | AS13: 1 Sim | AT13: 4 Secundário 1º ciclo (7ª a 9ª classe) | AY13: 1 Sim | BA13: 1 Sim | BB13: 5 Ensino Técnico/Profissional | BC13: 2 Minas, pedreiras | BE13: 3 Grande empresa privada
B14: IRMÃOS E IRMÃS DO CAF | F14: 6 Continuar os estudos em outra parte do país | L14: 2 recém-nascido | N14: 05 Neto, neta | T14: 1 Sim | U14: 2 Não | V14: 4 União de facto | AE14: 2 Não | AF14: 2 Não | AI14: 08=Bijagos | AJ14: =CONCATENATE("2 Não ► (",AM4,")") -> 2 Não ► (1,19) | AK14: =CONCATENATE("2 Não► (",AQ4,")") -> 2 Não► (1,22) | AM14: 07 Costa do Marfim | AO14: 07 Falta de terra | AQ14: =CONCATENATE(" 2 Não ►(",AS4,")") -> 2 Não ►(1,24) | AS14: 2 Não | AT14: 5 'Ensino Técnico/Profissional | AU14: 2 Minas, pedreiras | AV14: 4 Trabalhador ou empregado não qualificado | AW14: 3 Grande empresa privada | AY14: =CONCATENATE("2 Não ►(",TEXT(BA4,"0,00"),")") -> 2 Não ►(1,31) | BA14: 2 Não | BB14: 6 Secundário 2º ciclo (10 a 12 classe) | BC14: 3 Indústrias, eletricidade, água | BD14: 4 Trabalhador ou empregado não qualificado | BE14: 4 Empresa em nome individual | BF14: =CONCATENATE("1 Sim ") -> 1 Sim | BG14: 1 Sim
B15: PAI, MÃE DO CAF | F15: 7 Afectação ou outro emprego noutro lugar no país | L15: 3 Criança adotada ou confiada | N15: 06 Avós | T15: 2 Não ►(1.07) | V15: 5 Viúvo(a) ►(1.10) | AI15: 09=Felupe | AM15: 08 Gâmbia | AO15: 08 Escola | AT15: 6 Secundário 2º ciclo (10 a 12 classe) | AU15: 3 Indústrias, eletricidade, água | BB15: 7 Médio | BC15: 4 Construção civil | BD15: 5 Operário/Servente/governanta | BE15: 5 Empresa associativa | BF15: 2 Não | BG15: =CONCATENATE(" 2 Não ►(",BI4,")") -> 2 Não ►(1,39)
B16: NETOS E NETAS DO CAF | F16: 8 perda de emprego | L16: 4 Casamento | N16: 07 Irmão, irmã | T16: 3 NA ►(1.07) | U16: Se [NOME] dispõe de certidão de nascimento, certifique-se de que a data escrita está em conformidade com 1.03 | V16: 6 Divorciado(a) ►(1.10) | AI16: 10=Outras Etnias | AM16: 09 Gana | AO16: 09 casamento | AT16: 7 Médio | AV16: 5 Operário/Servente/governanta | AW16: 4 Empresa em nome individual | BB16: 8 Superior | BC16: 5 Comércio | BD16: 6 Estagiário ou aprendiz remunerado | BE16: 6 Organismo International/ ONG
B17: SOBRINHOS E SOBRINHAS | F17: 9 Procura de trabalho em outro lugar do país | L17: 5 Divórcio / Separação | N17: 08 Sobrinho(a) | V17: 7 Separado(a) ►(1.10) | AI17: 11=Naturalizado | AM17: 10 Guiné | AO17: 10 divórcio | AT17: 8 Superior | AU17: 4 Construção civil | AV17: 6 Estagiário ou aprendiz remunerado | BB17: 9 Não sabe (NS) | BC17: 6 Transporte | BD17: Não assalariado | BE17: 7 Serviço doméstico | BF17: 3 NA ►Pessoa seguinte
B18: OUTROS PARENTES DO CAF E/OU DAS SUAS ESPOSAS | F18: 10 Migração devido a COVID-19 | L18: 6 Continuar os estudos | N18: 09 Outros parentes do CAF/cônjuge | V18: 8 NA ► (1.11) | AM18: 11 Guiné Bissau | AO18: 11 Perda do cônjuge | AT18: 9 Não sabe (NS) | AU18: 5 Comércio | AW18: 5 Empresa associativa | AZ18: =CONCATENATE("►►(",BF4,")") -> ►►(1,36) | BC18: 7 Restauração, hotelaria | BD18: 7 Estagiário ou aprendiz não remunerado | BE18: 8 Não sabe (NS)
B19: PESSOAS SEM LAÇO DE PARENTESCO COM O CAF | F19: 11 Migração dentro do país (saúde, família, etc.) | L19: 7 Fim dos estudos, volta para o agregado | N19: 10 Pessoa não aparentada com o CAF/cônjuge | AM19: 12 Libéria | AO19: 12 Outros problemas familiares | AR19: =CONCATENATE("►►","(",AY4,")") -> ►►(1,29) | AU19: 6 Transporte | AV19: Não assalariado | BC19: =AU21 -> 8 Artes e espetáculos | BD19: 8 Trabalhador familiar contribuinte numa empresa familiar
F20: 12 Seguir os estudos em outro lugar no exterior | L20: 8 Atribuição ou novo trabalho | N20: 11 Empregado(a) doméstico(a) ou parente do empregado(a) doméstico(a) | R20: (Relativamente à data do inquérito) | AM20: 13 Mali | AO20: 13 Doença de um membro da família | AU20: 7 Restauração, hotelaria | AV20: 7 Estagiário ou aprendiz não remunerado | AW20: 6 Organismo International/ ONG | BC20: 9 Serviços | BD20: 9 Trabalhador por conta própria
F21: 13 Outra migração para o exterior | L21: 9 Procurar trabalho em outro lugar | AM21: 14 niger | AO21: 14 Covid-19 | AU21: 8 Artes e espetáculos | AW21: 7 Serviço doméstico | BC21: 10 Não sabe (NS) | BD21: 10 Patrão/Empregador
L22: 10 Perda de emprego | AM22: 15 Nigéria | AO22: 15 Instabilidade política | AU22: 9 Serviços | AV22: 8 Trabalhador familiar contribuinte numa empresa familiar | AW22: 8 Não sabe (NS) | BD22: 11 Não sabe (NS)
L23: 11 Por causa do COVID-19 | AM23: 16 senegal | AO23: 16 Conflito intercomunitário | AU23: 10 Não sabe (NS)
L24: 12 Outro motivo (saúde, família, etc.) | AM24: 17 Serra-Leoa | AO24: 17 Insegurança (banditismo, terrorismo) | AV24: 9 Trabalhador por conta própria
B25: SE UTILIZA UM QUESTIONÁRIO PAPEL UTILIZAR OUTRO QUESTIONÁRIO CASO HAJA MAIS DE 15 MEMBROS | L25: 13 Esquecido no inquérito de 2018/2019 | AM25: 18 Togo | AO25: 18 Conflito armado / guerra | AV25: 10 Patrão/Empregador
G26: Pessoa seguinte | AH26: =CONCATENATE("Se [NOME] não for nacional do país do inquérito ►(",ROUND(AJ4,2),")") -> Se [NOME] não for nacional do país do inquérito ►(1,17) | AM26: 19 Outra África | AO26: 19 desastres naturais | AV26: 11 Não sabe (NS)
O27: Não sabe (NS) | AM27: 20 outros países fora da África 22 Inglaterra | AO27: 20 Outros (especifique)
O28: 98 | P28: 98 | Q28: 9998 | AM28: 21 Portugal
G29: 98 | H29: 9998 | J29: 98 | K29: 9998 | L29: =CONCATENATE("►►(",TEXT(M4,"0,00"),")") -> ►►(1,01) | AM29: 22 Inglaterra
B30: NOMES E APELIDOS | E30: CÓDIGO | F30: CÓDIGO | G30: MÊS | H30: ANO | I30: CÓDIGO | J30: MÊS | K30: ANO | L30: CÓDIGO | M30: CÓDIGO | N30: CÓDIGO | O30: DIA | P30: MÊS | Q30: ANO | R30: ANOS | S30: MÊS | T30: CÓDIGO | U30: CÓDIGO | V30: CÓDIGO | W30: CÓDIGO | X30: ID | Y30: ID | Z30: ID | AA30: ID | AB30: ANOS | AD30: CÓDIGO | AE30: CÓDIGO | AF30: CÓDIGO | AG30: CÓDIGO | AH30: CÓDIGO | AI30: CÓDIGO | AJ30: CÓDIGO | AK30: CÓDIGO | AM30: CÓDIGO | AN30: NÚMERO | AO30: CÓDIGO | AP30: NÚMERO | AQ30: CÓDIGO | AR30: CÓDIGO ID: | AS30: CÓDIGO | AT30: CÓDIGO | AU30: CÓDIGO | AV30: CÓDIGO | AW30: CÓDIGO | AY30: CÓDIGO | AZ30: CÓDIGO ID: | BA30: CÓDIGO | BB30: CÓDIGO | BC30: CÓDIGO | BD30: CÓDIGO | BE30: CÓDIGO | BF30: CÓDIGO | BG30: CÓDIGO | BH30: FRANCOS CFA | BI30: CÓDIGO
A31: 1 | C31: 1 | AC31: 1 | AL31: 1 | AX31: 1
A32: 2 | C32: 2 | AC32: 2 | AL32: 2 | AX32: 2
A33: 3 | C33: 3 | AC33: 3 | AL33: 3 | AX33: 3
A34: 4 | C34: 4 | AC34: 4 | AL34: 4 | AX34: 4
A35: 5 | C35: 5 | AC35: 5 | AL35: 5 | AX35: 5
A36: 6 | C36: 6 | AC36: 6 | AL36: 6 | AX36: 6
A37: 7 | C37: 7 | AC37: 7 | AL37: 7 | AX37: 7
A38: 8 | C38: 8 | AC38: 8 | AL38: 8 | AX38: 8
A39: 9 | C39: 9 | AC39: 9 | AL39: 9 | AX39: 9
A40: 10 | C40: 10 | AC40: 10 | AL40: 10 | AX40: 10
A41: 11 | C41: 11 | AC41: 11 | AL41: 11 | AX41: 11
A42: 12 | C42: 12 | AC42: 12 | AL42: 12 | AX42: 12
... A45: 15 | C45: 15 | AC45: 15 | AL45: 15 | AX45: 15

Sheet S02_Educ
A1: SECÇÃO 2: EDUCAÇÃO (INDIVÍDUOS COM IDADE IGUAL OU SUPERIOR A 3 ANOS) | V1: SECÇÃO 2: EDUCAÇÃO (INDIVÍDUOS COM IDADE IGUAL OU SUPERIOR A 3 ANOS) | BC1: SECÇÃO 2: EDUCAÇÃO (INDIVÍDUOS COM IDADE IGUAL OU SUPERIOR A 3 ANOS) | BX1: SECÇÃO 2: EDUCAÇÃO (INDIVÍDUOS COM IDADE IGUAL OU SUPERIOR A 3 ANOS)
A3: CÓDIGO ID: | B3: 2 | C3: =B3+0.01 -> 2.01 | F3: =C3+0.01 -> 2.02 | I3: =CONCATENATE(F3, "a") -> 2,02a | L3: =F3+0.01 -> 2.03 | N3: =L3+0.01 -> 2.04 | R3: =CONCATENATE(N3,"b") -> 2,04b | S3: =N3+0.01 -> 2.05 | T3: =S3+0.01 -> 2.06 | U3: =T3+0.01 -> 2.07 | V3: CÓDIGO ID: | W3: =U3+0.01 -> 2.08 | X3: =W3+0.01 -> 2.09 | Y3: =CONCATENATE(X3,"a") -> 2,09a | Z3: =CONCATENATE(X3,"b") -> 2,09b | AA3: =CONCATENATE(X3,"c") -> 2,09c | AG3: =CONCATENATE(X3,"d") -> 2,09d | AH3: =CONCATENATE(X3,"e") -> 2,09e | AP3: =X3+0.01 -> 2.1 | AQ3: =AP3+0.01 -> 2.11 | AR3: =AQ3+0.01 -> 2.12 | AT3: =CONCATENATE(AR3, "a") -> 2,12a | AU3: =CONCATENATE(AR3, "b") -> 2,12b | AV3: =CONCATENATE(AR3, "c") -> 2,12c | AW3: =AR3+0.01 -> 2.13 | BA3: =AW3+0.01 -> 2.14 | BB3: =BA3+0.01 -> 2.15 | BC3: =BB3+0.01 -> 2.16 | BD3: CÓDIGO ID: | BE3: =BC3+0.01 -> 2.17 | BF3: =+BE3+0.01 -> 2.18 | BO3: =BF3+0.01 -> 2.19 | BS3: =BF3+0.01 -> 2.19 | BT3: =BS3+0.01 -> 2.2 | BU3: =BT3+0.01 -> 2.21 | BV3: =BU3+0.01 -> 2.22 | BW3: =BV3+0.01 -> 2.23 | BX3: =BW3+0.01 -> 2.24 | BY3: CÓDIGO ID: | BZ3: =BX3+0.01 -> 2.25 | CA3: =BZ3+0.01 -> 2.26 | CB3: =CA3+0.01 -> 2.27 | CC3: =CB3+0.01 -> 2.28 | CD3: =CC3+0.01 -> 2.29 | CE3: =CD3+0.01 -> 2.3 | CF3: =CE3+0.01 -> 2.31 | CG3: =CF3+0.01 -> 2.32 | CH3: =CG3+0.01 -> 2.33
B4: CÓDIGO ID do respondente | C4: [NOME] é capaz de ler um pequeno texto nas seguintes línguas? | F4: [NOME] é capaz de escrever um pequeno texto nas seguintes línguas? | I4: [NOME] consegue entender um pequeno texto lido nos seguintes idiomas? | L4: [NOME] seguiu ou segue atualmente estudos numa escola formal? | N4: =CONCATENATE("Qual foi a principal razão pela qual [NOME] não frequentou a escola formal? Se 1 à 14 ►(",TEXT(S3,"0,00"),")") -> Qual foi a principal razão pela qual [NOME] não frequentou a escola formal? Se 1 à 14 ►(2,05) | R4: [NOME] vai começar a escola quando as coisas melhorarem? | S4: [NOME] frequentou uma escola não formal ou uma formação não formal? | T4: Que tipo de educação não formal [NOME] frequentou? | U4: Que idade tinha [NOME] quando entrou para a escola? | W4: [NOME] frequentou uma escola no ano letivo de 2019/2020? | X4: Quem dirigiu a escola frequentada por [NOME] no ano letivo de 2019/2020? | Y4: =CONCATENATE("A escola de [NOME] foi temporariamente fechada devido a COVID-19 durante o ano letivo 2019/2020", [1]Variables!D2,"?") -> #VALUE! | Z4: =CONCATENATE("[NOME] entrou em contato com os professores ou com a administração da escola quando esta foi fechada durante o ano",[1]Variables!D2," ?") -> #VALUE! | AA4: =CONCATENATE("Como [NOME] manteve contato com a escola quando ela foi fechada durante o ano letivo de 2019/2020?",[1]Variables!D2," ?") -> #VALUE! | AG4: =CONCATENATE("[NOME] participou de atividades educacionais enquanto a escola esteve fechada durante o ano letivo de 2019/2020 ",[1]Variables!D2," ?") -> #VALUE! | AH4: =CONCATENATE("Que tipo de atividades educativas [NOME] realizou durante o encerramento da escola no ano letivo de 2019/2020 ",[1]Variables!D2," ?") -> #VALUE! | AP4: Que resultado obteve [NOME] no ano letivo de 2019/2020? | AQ4: Por que razão [NOME] abandonou a escola durante o ano letivo? | AR4: [NOME] frequenta uma escola no ano letivo de 2020/2021? | AT4: O motivo pelo qual [NOME] não foi à escola está relacionado ao COVID-19? | AU4: Como o COVID-19 mudou a educação de [NOME]? | AV4: [NOME] pretende voltar para a escola? | AW4: Qual a razão principal para [NOME] não ter andado na escola em 2020/2021? | BA4: Qual é o nível de ensino frequentado por [NOME] no ano letivo de 2020/2021? | BB4: Qual é a área de estudos de [NOME]? | BC4: Que classe frequenta [NOME] no nível declarado no ano letivo de 2020/2021? | BE4: [NOME] está satisfeito com o ensino recebido na escola? | BF4: No contexto da sua escolaridade, [NOME] depara com algum dos problemas seguintes? | BO4: Qui gère l'école que fréquente [NOM]? | BS4: Quem dirige a escola frequentada por [NOME] no ano letivo de 2020/2021? | BT4: =CONCATENATE("Qual é o valor das propinas (incluindo taxas de inscrição) para o ano letivo de 2020/2021",[1]Variables!E3, " ?") -> #VALUE! | BU4: Qual é o montante das contribuições para o ano letivo de 2020/2021? | BV4: Qual é o montante das despesas de [NOME] com materiais (manuais, cadernos) para o ano letivo de 2020/2021 | BW4: Qual é o montante das despesas para os demais materiais escolares para o ano letivo de 2020/2021? | BX4: Qual é o montante das despesas de [NOME] com uniformes para o ano letivo de 2020/2021? | BZ4: Qual é o montante das despesas de [NOME] com cantina escolar para o ano letivo de 2020/2021? | CA4: Qual é o montante das despesas de [NOME] com o transporte escolar para o ano letivo de 2020/2021? | CB4: Qual é o montante das demais despesas escolares (curso de apoio ou reciclagem, etc.)? | CC4: Qual é o montante da bolsa/subsídio que [NOME] recebeu nos últimos 12 meses? | CD4: Qual é o nível de estudos mais elevado obtido por [NOME]? | CE4: Qual era a área de estudos de [NOME]? | CF4: Qual foi a última classe frequentada por [NOME] no nível declarado? | CG4: Em que ano [NOME] frequentou a escola pela última vez? | CH4: Qual é o diploma mais elevado obtido por [NOME]?
AW6: "01 Muito jovem / Muito velho 02 Sem escola, escola muito longe 03 Recusa da família 04 Preferência por um trabalho 05 Trabalho de campo / pastoralismo 06 Trabalho doméstico 07 Quer se casar 08 É uma menina 09 Gravidez 10 Altas taxas de matrícula 11 Falta de recursos financeiros 12 Estudos inadequados 13 Estudos de pouco uso 14 Doente / aleijado 15 Estudos concluídos 16 Abandono escolar, fracasso escolar 17 Problema de certidão de nascimento 18 Outro (a ser especificado) "
N8: 01 Demasiado jovem | CE8: 0 Medicina, farmácia, etc
N9: 02 Inexistência de escola, escola demasiado distante | AQ9: 1 Obteve um emprego | AU9: 1 Não pode continuar estudando em outro lugar do país | BO9: 1 GOUVERNEMENT | BS9: 1 Governo | CE9: 1 Ciências exatas (matemática, físico-química, ciências da vida e da Terra) | CH9: 00 Nenhum
C10: Escrever 1 para SIM ou 2 para NÃO | F10: Escrever 1 para SIM ou 2 para NÃO | I10: Escrever 1 para SIM ou 2 para NÃO | N10: 03 Recusa da família | X10: 1 Governo | AA10: Escrever 1 Para SIM Ou 2 Para NÃO | AH10: Escrever 1 Para SIM Ou 2 Para NÃO | AP10: =CONCATENATE("1 Diplomado, estudos concluídos ►(",ROUND(AR3,2),")") -> 1 Diplomado, estudos concluídos ►(2,12) | AQ10: 2 Casou-se | AV10: 1 Sim | BB10: 0 Medicina, farmácia, etc | BF10: Escrever 1 para SIM ou 2 para NÃO | BO10: 2 ORGANISATION RELIGIEUSE | BS10: 2 Gestão religiosa privada | CE10: 2 Artes, letras e ciências humanas | CH10: 01 EB (Ensino Básico 1º ciclo)
C11: nas casas correspondentes | F11: nas casas correspondentes | I11: nas casas correspondentes | N11: 04 Preferência por um emprego | X11: 2 Gestão religiosa privada | AA11: nos lugares apropriados | AH11: nos lugares apropriados | AQ11: 3 É rapariga | AV11: 2 Não | BB11: 1 Ciências exatas (matemática, físico-química, ciências da vida e da Terra) | BF11: nas colunas correspondentes | BO11: 3 LE PRIVE | BS11: 3 Gestão privada não religiosa | CE11: 3 Técnicas de administração e gestão | CF11: 1. 1.º ano | CH11: 02 EB (Ensino Básico 2º ciclo)
C12: A | D12: B | E12: C | F12: A | G12: B | H12: D | I12: A | J12: B | K12: C | N12: 05 Lavoura/pastorícia | T12: 01 Escola corânica | X12: 3 Gestão privada não religiosa | AP12: =CONCATENATE("2 Passou para classe superior ►(",AR3,")") -> 2 Passou para classe superior ►(2,12) | AQ12: 4 Gravidez | BA12: =CONCATENATE("1 Pré-escolar ►(",TEXT(BC3,"0,00"),")") -> 1 Pré-escolar ►(2,16) | BE12: 1 Muito satisfeito | BO12: 4 LA COMMUNAUTE | CD12: =CONCATENATE("1 Pré-escolar ►(",TEXT(CF3,"0,00"),")") -> 1 Pré-escolar ►(2,31) | CE12: 4 Técnicas de informáticas e industrial (Engenharia civil, mecânica, eletrónica e informática) | CF12: 2. 2.º ano | CH12: 03 ES (Ensino Secundário 1º ciclo)
C13: Português | D13: Crioulo | E13: Outra língua | F13: Português | H13: Outra língua | I13: Português | J13: Crioulo | K13: Outra Língua | N13: 06 Serviço doméstico | S13: 1 Sim | X13: 4 Gestão internacional privada | AA13: A | AB13: B | AC13: C | AD13: D | AE13: E | AF13: H | AH13: A | AI13: B | AJ13: C | AK13: D | AL13: E | AM13: F | AN13: G | AO13: H | AQ13: 5 Estudos demasiado difíceis | AU13: 2 Não pode continuar os seus estudos fora do país | BA13: =CONCATENATE("2 Primário 1º ciclo ►(",TEXT(BC3,"0,00"),")") -> 2 Primário 1º ciclo ►(2,16) | BC13: 1. 1.º ano | BE13: 2 Satisfeito | BF13: A | BG13: B | BH13: C | BI13: D | BJ13: E | BK13: F | BL13: G | BM13: H | BN13: I | BO13: 9 AUTRES | BP13: J | BQ13: K | BR13: L | BS13: 4 Gestão internacional privada | CD13: =CONCATENATE("2 Primário 1º ciclo ►(",TEXT(CF3,"0,00"),")") -> 2 Primário 1º ciclo ►(2,31) | CE13: 5 Direito e ciências jurídicas | CF13: 3. 3.º ano | CG13: Colocar 9998 se NS (não sabe) | CH13: 04 ES (Ensino Secundário 2º ciclo)
N14: 07 É rapariga | S14: 2 Não ► Secção 3 | T14: 02 Formação profissional | X14: 5 A Comunidade | AA14: SMS | AB14: Aplicativos Mobile (WhatsApp, Facebook ...) | AC14: Email | AD14: Correio | AE14: Telemóvel | AF14: Visita do professor / gerência | AH14: Fez lição de casa dada pelos professores | AI14: Aplicativos educacionais usados ​​no computador/Telemóvel/Tablet | AJ14: Seguimento de programas educacionais na TV | AK14: Seguimento de programas educacionais no rádio | AL14: Estudou sozinho | AM14: Ensinado pelos pais ou outro membro do agregado | AN14: Ensinado por um tutor | AO14: Outro (a ser especificado) | AP14: =CONCATENATE("3 Reprovado, repetição►(",AR3,")") -> 3 Reprovado, repetição►(2,12) | AQ14: 6 Escola demasiado distante | AV14: =CONCATENATE("►► ","(",TEXT(CD3, "0,00"),")") -> ►► (2,29) | BA14: =CONCATENATE("3 Primário 2 ciclo (Pós Primário) Geral ►(",TEXT(BC3,"0,00"),")") -> 3 Primário 2 ciclo (Pós Primário) Geral ►(2,16) | BC14: 2. 2.º ano | BE14: 3 Pouco satisfeito | BF14: Insuficiência de manuais/materiais | BG14: Insuficiência de mesas, bancos e equipamentos | BH14: Absentismo dos professores/greve | BI14: Ensino pouco satisfatório | BJ14: Excesso de pessoal | BK14: Insuficiência de professores | BL14: Falta de instalações sanitárias | BM14: Frequência das contribuições | BN14: Sala de aula em mau estado | BP14: Nenhum dispositivo para lavar as mãos com água e sabão | BQ14: Uso não obrigatório de máscaras | BR14: Distanciamento não respeitado nas salas de aula | CC14: ESCREVER ZERO SE A PESSOA NÃO TIVER RECEBIDO BOLSA NEM SUBSÍDIO | CD14: =CONCATENATE("3 Primário 2 ciclo (Pós Primário) Geral ►(",TEXT(CF3,"0,00"),")") -> 3 Primário 2 ciclo (Pós Primário) Geral ►(2,31) | CE14: 6. Ciências Económicas | CF14: 4. 4.º ano | CH14: 05 ETP (Ensino Técnico/profissional)
G15: Crioulo | N15: 8 Propinas elevadas | W15: 1 Sim | X15: 6 Outra (especificar) | Y15: 1 Sim | Z15: 1 Sim | AG15: 1 Sim | AP15: =CONCATENATE("4 Reprovado, expulsão►(",AR3,")") -> 4 Reprovado, expulsão►(2,12) | AQ15: 7 Falta de meios financeiros | BB15: 2 Artes, letras e ciências humanas | BC15: 3. 3.º ano | BE15: 4 Nada satisfeito | BS15: 5 A Comunidade | BT15: ESCREVER ZERO NO CASO DE UM MONTANTE NULO | BU15: ESCREVER ZERO NO CASO DE UM MONTANTE NULO | BV15: ESCREVER ZERO NO CASO DE UM MONTANTE NULO | BW15: ESCREVER ZERO NO CASO DE UM MONTANTE NULO | BX15: ESCREVER ZERO NO CASO DE UM MONTANTE NULO | BZ15: ESCREVER ZERO NO CASO DE UM MONTANTE NULO | CA15: ESCREVER ZERO NO CASO DE UM MONTANTE NULO | CB15: ESCREVER ZERO NO CASO DE UM MONTANTE NULO | CE15: 7. Outra (à especificar) | CF15: 5. 5.º ano | CH15: 06 EM (Ensino Médio)
L16: =CONCATENATE("1 Sim ►(",U3,")") -> 1 Sim ►(2,07) | N16: 9 Falta de meios financeiros | T16: 03 Curso de alfabetização | W16: 2 Não | Y16: =CONCATENATE("2 Não ►(",TEXT(AP3,"0,00"),")") -> 2 Não ►(2,10) | Z16: =CONCATENATE("2 Não►(",AG3,")") -> 2 Não►(2,09d) | AG16: =CONCATENATE("2 Não ►(",TEXT(AP3,"0,00"),")") -> 2 Não ►(2,10) | AP16: 5 Abandono durante o ano letivo | AQ16: 8 Serviço doméstico | AR16: =CONCATENATE("1 Sim ►(",BA3,")") -> 1 Sim ►(2,14) | AT16: 1 Sim | AU16: 3 Outro (a ser especificado) | BA16: =CONCATENATE("4 Primario 3 ciclo") -> 4 Primario 3 ciclo | BB16: 3 Técnicas de administração e gestão | BC16: 4. 4.º ano | BS16: 6 Outra (especificar) | CD16: =CONCATENATE("4 Primario 3 ciclo") -> 4 Primario 3 ciclo | CF16: 6. 6.º ano | CH16: 07 Licenciado
L17: 2 Não | N17: 10 Estudos inadequados | R17: 1 Sim | W17: =CONCATENATE("►(",AR3,")") -> ►(2,12) | AQ17: 9 Trabalho agrícola, guarda de rebanhos | AR17: 2 Não | AT17: =CONCATENATE("2 Não ►(", TEXT(AW3,"0,00"),")") -> 2 Não ►(2,13) | BC17: 5. 5.º ano | CF17: 7. 7.º ano | CH17: 08 Pós graduação/Especialização
N18: 11 Estudos pouco úteis | R18: 2 Não | T18: 04 Outra (aulas de línguas, etc.) | BA18: 5 EnsinoTécnico Profissional | BC18: 6. 6.º ano | CD18: 5 Ensino Técnico Profissional | CF18: 8. 8º ano | CH18: 09 Mestrado
N19: 12 Doença/enfermidade | R19: ►►Secção 3 | AQ19: 10 Violências, insegurança | BA19: 6 Secundário 2 Geral | BB19: 4 Técnicas de informáticas e industrial (Engenharia civil, mecânica, eletrónica e informática) | BC19: 7. 7.º ano | CD19: 6 Secundário 2 Geral | CF19: 9. 9º ano | CH19: 10 Doutorado
N20: 13 Insegurança | T20: ►►Secção 3 | BA20: 7 Médio (preparação diplomas nivel BAC+2) | BC20: 8. 8º ano | CD20: 7 Médio (preparação diplomas nivel BAC+2) | CF20: 10. 10º ano
N21: 14 Outra (especificar) | AQ21: 11 COVID-19 | BB21: 5 Direito e ciências jurídicas | BC21: 9. 9º ano
N22: 15 Não começou devido a COVID-19 | AQ22: 12 Outros problemas de saúde | BC22: 10. 10º ano
AQ23: 13 Preferência por uma formação profissional | BA23: =CONCATENATE("8 Superior ") -> 8 Superior | BB23: 6. Ciências Económicas | CC23: =CONCATENATE("►► (",ROUND(CH3,2),")") -> ►► (2,33) | CD23: =CONCATENATE("8 Superior ") -> 8 Superior
AQ24: 14 Outro (a precisar) | AW24: =CONCATENATE("►► ","(",ROUND(CD3, 2),")") -> ►► (2,29) | BB24: 7. Outra (à especificar)
B25: CÓDIGO ID: | L25: CÓDIGO | N25: CÓDIGO | R25: CÓDIGO | S25: CÓDIGO | T25: CÓDIGO | U25: ANOS | W25: CÓDIGO | X25: CÓDIGO | Y25: CÓDIGO | Z25: CÓDIGO | AG25: CÓDIGO | AP25: CÓDIGO | AQ25: CÓDIGO | AR25: CÓDIGO | AT25: CÓDIGO | AU25: CÓDIGO | AV25: CÓDIGO | AW25: CÓDIGO | BA25: CÓDIGO | BB25: CÓDIGO | BC25: CÓDIGO | BE25: CÓDIGO | BS25: CÓDIGO | BT25: MONTANTE EM FRANCOS CFA | BU25: MONTANTE EM FRANCOS CFA | BV25: MONTANTE EM FRANCOS CFA | BW25: MONTANTE EM FRANCOS CFA | BX25: MONTANTE EM FRANCOS CFA | BZ25: MONTANTE EM FRANCOS CFA | CA25: MONTANTE EM FRANCOS CFA | CB25: MONTANTE EM FRANCOS CFA | CC25: MONTANTE EM FRANCOS CFA | CD25: CÓDIGO | CE25: CÓDIGO | CF25: CÓDIGO | CG25: ANO | CH25: CÓDIGO
A26: 1 | V26: 1 | BD26: 1 | BY26: 1
A27: 2 | V27: 2 | BD27: 2 | BY27: 2
A28: 3 | V28: 3 | BD28: 3 | BY28: 3
A29: 4 | V29: 4 | BD29: 4 | BY29: 4
A30: 5 | V30: 5 | BD30: 5 | BY30: 5
A31: 6 | V31: 6 | BD31: 6 | BY31: 6
A32: 7 | V32: 7 | BD32: 7 | BY32: 7
A33: 8 | V33: 8 | BD33: 8 | BY33: 8
A34: 9 | V34: 9 | BD34: 9 | BY34: 9
A35: 10 | V35: 10 | BD35: 10 | BY35: 10
A36: 11 | V36: 11 | BD36: 11 | BY36: 11
A37: 12 | V37: 12 | BD37: 12 | BY37: 12
... A40: 15 | V40: 15 | BD40: 15 | BY40: 15

Sheet S03_Sante
A1: SECÇÃO 3: SAÚDE GERAL | P1: SECÇÃO 3: SAÚDE GERAL | AR1: SECÇÃO 3: SAÚDE GERAL | BI1: SECÇÃO 3: SAÚDE GERAL
A4: CÓDIGO ID: | B4: 3 | C4: =B4+0.01 -> 3.01 | D4: =C4+0.01 -> 3.02 | F4: =D4+0.01 -> 3.03 | G4: =F4+0.01 -> 3.04 | I4: =G4+0.01 -> 3.05 | J4: =I4+0.01 -> 3.06 | L4: =J4+0.01 -> 3.07 | N4: =L4+0.01 -> 3.08 | O4: =N4+0.01 -> 3.09 | P4: CÓDIGO ID: | Q4: =O4+0.01 -> 3.1 | AB4: =Q4+0.01 -> 3.11 | AD4: =AB4+0.01 -> 3.12 | AE4: =AD4+0.01 -> 3.13 | AF4: =AE4+0.01 -> 3.14 | AG4: =AF4+0.01 -> 3.15 | AH4: =AG4+0.01 -> 3.16 | AI4: =AH4+0.01 -> 3.17 | AJ4: =CONCATENATE(AI4+0.01,"a") -> 3,18a | AK4: =CONCATENATE(AI4+0.01,"b") -> 3,18b | AL4: =CONCATENATE(AI4+0.01,"c") -> 3,18c | AM4: CÓDIGO ID: | AN4: =AI4+0.02 -> 3.19 | AO4: =AN4+0.01 -> 3.2 | AP4: =AO4+0.01 -> 3.21 | AQ4: =AP4+0.01 -> 3.22 | AR4: =AQ4+0.01 -> 3.23 | AS4: =AR4+0.01 -> 3.24 | AT4: =CONCATENATE(AS4, "a") -> 3,24a | AU4: =CONCATENATE(AS4,"b") -> 3,24b | AV4: =AS4+0.01 -> 3.25 | AW4: =AV4+0.01 -> 3.26 | AX4: =AW4+0.01 -> 3.27 | AY4: =AX4+0.01 -> 3.28 | AZ4: =AY4+0.01 -> 3.29 | BA4: =AZ4+0.01 -> 3.3 | BB4: =BA4+0.01 -> 3.31 | BC4: =CONCATENATE("(",TEXT(BB4,"0,00"),"a)") -> (3,31a) | BD4: =CONCATENATE("(",TEXT(BB4,"0,00"),"b)") -> (3,31b) | BE4: =BB4+0.01 -> 3.32 | BF4: =BE4+0.01 -> 3.33 | BG4: =BF4+0.01 -> 3.34 | BH4: =BG4+0.01 -> 3.35 | BI4: CÓDIGO ID: | BJ4: =BH4+0.01 -> 3.36 | BK4: =BJ4+0.01 -> 3.37 | BL4: =BK4+0.01 -> 3.38 | BM4: =BL4+0.01 -> 3.39 | BN4: =BM4+0.01 -> 3.4 | BO4: =BN4+0.01 -> 3.41 | BP4: =BO4+0.01 -> 3.42 | BQ4: =BP4+0.01 -> 3.43 | BR4: =BQ4+0.01 -> 3.44 | ... BY4: =BX4+0.01 -> 3.51 | CA4: =BY4+0.01 -> 3.52 | CB4: =CA4+0.01 -> 3.53
B5: CÓDIGO ID do respondente | C5: [NOME] teve um problema de saúde, doença ou acidente durante os últimos 30 dias que não resultou em hospitalização? | D5: Qual foi o principal problema de saúde que [NOME] teve? | F5: O problema de saúde impediu [NOME] de exercer as suas atividades quotidianas normais? | G5: Durante quanto tempo a doença de [NOME] impediu o exercício das suas atividades quotidianas normais? | I5: [NOME] foi examinado numa unidade de saúde (incluindo uma farmácia) ou por um curandeiro tradicional nos últimos 30 dias relativamente a esse problema de saúde? | J5: Qual foi o principal motivo pelo qual [NOME] não consultou? | L5: Onde [NOME] foi consultado pela primeira vez para este episódio de doença? | N5: Quem consultou [NOME] pela primeira vez por causa deste episódio de doença? | O5: [NOME] ficou satisfeito com o serviço recebido nesta primeira consulta? | Q5: [NOME] teve problemas após a sua consulta? | AB5: Qual é a distância entre o domicílio de [NOME] e a localidade desta primeira consulta? | AD5: [NOME] consultou um serviço de saúde, ou curandeiro, nos últimos 3 meses sem hospitalização (não considerar as consultas pré-natal)? | AE5: Qual foi o montante das despesas de consulta num médico de clínica geral, excetuando hospitalização, de [NOME] nos últimos 3 meses? | AF5: Qual foi o montante das despesas de consulta num médico especialista, excetuando hospitalização, de [NOME] nos últimos 3 meses? | AG5: Qual foi o montante das despesas de consulta num dentista de [NOME] nos últimos 3 meses? | AH5: Qual foi o montante das despesas de consulta num curandeiro tradicional de [NOME] nos últimos 3 meses? | AI5: Qual foi o montante das despesas com exames médicos e cuidados de saúde de [NOME], excetuando hospitalização, nos últimos 3 meses? | AJ5: Qual foi o custo dos medicamentos tradicionais fora da hospitalização para [NOME] durante os últimos 3 meses? | AK5: Qual é o custo de medicamentos não hospitalares comprados em farmácias públicas para [NOME] durante os últimos 3 meses? | AL5: Qual é o custo de medicamentos não hospitalares comprados em farmácias privadas para [NOME] durante os últimos 3 meses? | AN5: [NOME] teve um problema de saúde nos últimos 12 meses que resultou em pelo menos uma hospitalização? | AO5: Quantas vezes [NOME] foi hospitalizado nos últimos 12 meses? | AP5: Qual foi o último problema médico pelo qual [NOME] foi hospitalizado nos últimos 12 meses? | AQ5: Para o último problema de saúde que exigiu hospitalização nos últimos 12 meses, quantos dias [NOME] permaneceu no hospital? Para o último problema de saúde que exigiu hospitalização nos últimos 12 meses, quantos dias [NAME] permaneceu no hospital? | AR5: Onde foi [NOME] hospitalizado por este último problema de saúde? | AS5: Qual foi o montante de despesas de hospitalização para este último problema de saúde? | AT5: [NOME] incorreu em despesas de transporte de saúde (ambulâncias, veículos médicos especializados, aluguel de táxi, motocarro) | AU5: Qual é o valor gasto? | AV5: [NOME] incorreu em despesas com dispositivos médicos terapêuticos, como muletas, cadeira de rodas, prótese dentária, óculos graduados, etc. nos últimos 12 meses? | AW5: Qual foi o montante das despesas com lentes de correção e armação de óculos nos últimos 12 meses? | AX5: Qual foi o montante despendido nos últimos 12 meses com muletas, cadeiras de rodas ou veículo para inválidos com ou sem motor, próteses dentárias, próteses auditivas ou outros dispositivos terapêuticos e ortopédicos? | AY5: [NOME] incorreu em despesas de vacinação, circuncisão, controlo geral de saúde (check-up) nos últimos 12 meses? | AZ5: Qual foi o montante das despesas de vacinação? | BA5: Qual foi o montante das despesas de circuncisão? | BB5: Qual foi o montante das despesas do controlo geral de saúde (check-up)? | BC5: [NOME] incorreu em algum custo para testes de COVID-19 nos últimos 12 meses? | BD5: Quanto custam os testes do COVID-19? | BE5: [NOME] está coberto por algum seguro médico? | BF5: Qual é a taxa de reembolso? | BG5: Quem patrocina/financia o seguro médico de [NOME]? | BH5: Qual é a forma de reembolso? | BJ5: [NOME] beneficia de algum encargo particular (Mutualismo e consulta gratuita)? | BK5: De que encargo de saúde se trata? | BL5: [NOME] dorme habitualmente debaixo de um mosquiteiro? | BM5: [NOME] dormiu de baixo de um mosquiteiro na noite passada? Se Sim este mosquiteiro é impregnado ou simples | BN5: À exceção do mosquiteiro, qual é o meio principall que [NOME] utiliza para se proteger contra as picadas dos mosquitos? | BO5: [NOME] tem dificuldades de visão mesmo com óculos? | BP5: [NOME] tem dificuldades de audição mesmo com um aparelho auditivo? | BQ5: [NOME] tem dificuldade em andar ou subir escadas? | BR5: [NOME] tem dificuldades de memória ou concentração? | BS5: [NOME] tem dificuldade em executar tarefas como lavar-se ou vestir-se? | BT5: [NOME] tem dificuldade em comunicar ou fazer-se entender na sua língua habitual? | BU5: Atenção: As perguntas 3.47 a 3.51 são feitas apenas para mulheres de 12 a 49 anos Nos últimos 12 meses, você teve um bebê? [Para mulheres com idade entre 12 e 49 anos] | BV5: Qual foi o custo de parto? | BW5: Você está grávida atualmente? | BX5: Quantas consultas pré-natais você fez durante a gravidez ou já fez durante esta gravidez? | BY5: Quanto foi gasto em cada consulta pré-natal? | CA5: Inquiridor: As perguntas 3.52 e 3.53 são feitas apenas para crianças menores de 5 anos [NOME] tomou todas as vacinas obrigatórias (BCG, DTCoq1, DTCoq2, DTCoq3, Vitamina A, Polyo, RRO)? [Pour les enfants de moins de 5 ans] | CB5: Qual foi o principal motivo pelo qual [NOME] não foi vacinado?
D8: 1 febre / malária 2 diarréia 3 Acidente / Lesão 4 problema dentário 5 problema de pele 6 doença ocular 7 Problema de tensão 8 febre tifóide 9 Problema de estômago (úlcera) 10 dor de garganta 11 tosse, resfriado, gripe 12 Diabetes 13 meningite 14 COVID-19 15 Parto / com complicações relacionadas à gravidez 16 Dor / fadiga 17 Anemia / anemia falciforme 18 Outros " | Q8: Escrever 1 para SIM e 2 para NÃO
J9: 1 Não é necessário 2 Muito caro 3 Muito longe 4 Automedicação 5 Sem confiança 6 Medo do resultado / tratamento 7 Recusa 8 Falta de dinheiro 9 Não satisfeito na última consulta 10 Medo de contrair COVID-19 11 Serviço especializado não disponível 12 Falta de pessoal 13 Esperando por uma consulta 14 Outros a serem especificados | M9: Público
L10: 1 | M10: Hospital nacional | BK10: 1. Mutualismo de saúde
L11: 2 | M11: Hospital regional (incluíndo hospital de policia, militar) | N11: 1 Médico especialista | Q11: A | R11: B | S11: C | T11: D | U11: E | V11: F | W11: G | X11: H | Y11: I | Z11: I | AA11: J
L12: 3 | M12: Centro de saúde urbano | N12: 2 Médico de clínica geral | Q12: ESTABELECIMENTO EM MÁS CONDIÇÕES DE HIGIENE | R12: LONGA ESPERA | S12: PESSOAL NÃO QUALIFICADO | T12: DEMASIADO CARO | U12: FALTA DE MEDICAMENTO | V12: TRATAMENTO INEFICAZ | W12: ACOLHIMENTO DEFICIENTE | X12: AUSÊNCIA DO PESSOAL | Y12: OUTRO | Z12: SEM DISPOSITIVO PARA LAVAR AS MÃOS (SABÃO, GEL) | AA12: NÃO RESPEITO DAS MEDIDAS DE DISTANCIAÇÃO E USO DE MÁSCARAS | AB12: 1. Menos de 1 km | AP12: 1 Febre / malária 2 Diarréia 3 Acidente / Lesão 4 Problema dentário 5 Problema de pele 6 Doença ocular 7 Problema de tensão 8 Febre tifóide 9 Problema de estômago/barriga (úlcera) 10 Dor de garganta 11 Tosse, resfriado, gripe 12 Diabetes 13 Meningite 14 COVID-19 15 Parto / com complicações relacionadas à gravidez 16 Dor / fadiga 17 Anemia / anemia falciforme 18 Outros " | BG12: 1 Privado (individual) | BH12: 1 Adiantamento de despesas | BN12: 1 Inseticidas
G13: 1 | H13: Menos de uma semana | L13: 4 | M13: Centro de saúde rural | N13: 3 Dentista | O13: 1 Muito satisfeito | AB13: 2. Entre 1 e 2 km | AR13: Publico | AT13: 1 Sim | BG13: 2 Estado/ programa | BK13: 2. Programa de consulta gratuito de crianças menores de 05 anos | BN13: 2.Cremes inseticidas
L14: 5 | M14: Unidade sanitária rural | N14: 4 Enfermeiro(a) | O14: 2 Satisfeito | AB14: 3. Entre 2 e 5 km | AR14: 1 Hospital nacional | AT14: =CONCATENATE("2 Não ►(",TEXT(AV4,"0,00"),")") -> 2 Não ►(3,25) | BW14: =CONCATENATE("1 Sim") -> 1 Sim | CB14: 1 Ainda não atingiu o limite de idade 2 Sem campanha de vacinação 3 Não sabe da vacinação 4 Sem estrutura de saúde 5 Não quer uma vacina "
L15: 6 | M15: Outro Serviço de saúde | N15: 5 Parteira | O15: 3 Pouco satisfeito | AB15: 4. Entre 5 e 15 km | AR15: 2 Hospital regional (incluíndo hospital de policia, militar) | BD15: Se os testes COVID-19 forem gratuitos, escreva 00 Se NA escrever 9999
G16: 2 | H16: Entre uma e duas semanas | N16: 6 Enfermeiro/a auxiliar | O16: 4 Nada satisfeito | AB16: 5. 15 km ou mais | AR16: 3 Centro de saúde urbano | BK16: 3 Programa de mulheres grávidas | BU16: =CONCATENATE("1 Sim") -> 1 Sim | BW16: 2 Não ►Pessoa seguinte
M17: Privado | N17: 7 Farmacêutico | AR17: 4 Centro de saúde rural
L18: 7 | M18: Hospital/clínica privada | N18: 8 Madrona | AC18: =CONCATENATE("►► (",AE4,")") -> ►► (3,13) | AR18: 5 Posto de saúde | BC18: 1 Sim | BK18: 4. Programa gratuito de idosos | BU18: =CONCATENATE("2 Não ►(",TEXT(BW4,"0,00"),")") -> 2 Não ►(3,49)
G19: 3 | H19: Mais de duas semanas | M19: Consultório médico / odontológico / oftalmológico | N19: 9 Agente tecnico de Saúde | AR19: 6 Outro Serviço de saúde publico | BC19: =CONCATENATE("2 Não ►(",TEXT(BE4,"0,00"),")") -> 2 Não ►(3,32) | BM19: 1 Mosquiteiro impregnado
L20: 8 | N20: 10 Outro pessoal de saúde
L21: 9 | M21: Consultório/ Sala de tratamento | N21: 11 Curandeiro/Marabo | AR21: Privado | BK21: 5. Seguro de saúde privado | CA21: =CONCATENATE("1 Sim ►", "Criança seguinte") -> 1 Sim ►Criança seguinte
L23: 10 | M23: Farmácia | AR23: 7 Hospital/clínica privada
L24: 11 | M24: Clinica da empresa, outra privada ou ONG | AR24: 8 Consultório médico/dentário/oftamologia | AS24: Em caso de hospitalização gratuita, escrever 00 | BE24: 1 Sim | BG24: 3 Estado é a entidade patronal | BH24: 2 Terceiro pagador | BK24: 6. Programa de apoio nutricional a crianças menores de 5 anos | BL24: 1 Sim | BM24: 2 Mosquiteiro simples | BN24: 3. Espirais inseticidas | BO24: 1 Não, nenhuma dificuldade | BP24: 1 Não, nenhuma dificuldade | BQ24: 1 Não, nenhuma dificuldade | BR24: 1 Não, nenhuma dificuldade | BS24: 1 Não, nenhuma dificuldade | BT24: 1 Não, nenhuma dificuldade | CA24: =CONCATENATE("2 Não ") -> 2 Não
AE25: Em caso de consulta gratuita, escrever 00 | AF25: Em caso de consulta gratuita, escrever 00 | AG25: Em caso de consulta gratuita, escrever 00 | AH25: Em caso de consulta gratuita, escrever 00 | AI25: Em caso de exames gratuitos, escrever 00 | AJ25: Se os medicamentos forem recebidos gratuitamente, escreva 00 Se NA escrever 9999 | AK25: Se os medicamentos forem recebidos gratuitamente, escreva 00 Se NA escrever 9999 | AL25: Se os medicamentos forem recebidos gratuitamente, escreva 00 Se NA escrever 9999 | AR25: 9 Sala de tratamento | AW25: Em caso de dispositivos recebidos gratuitamente, escrever 00 | AZ25: Em caso de vacinação gratuita, Escrever 00 | BA25: Em caso de circuncisão gratuita, Escrever 00 | BB25: Em caso de check-up gratuito, Escrever 00 | BE25: =CONCATENATE("2 Não ►(",ROUND(BJ4,2),")") -> 2 Não ►(3,36) | BG25: 4 Entidade patronal | BJ25: 1 Sim | BL25: 2 Não | BN25: 4. Redes nas janelas
F26: 1 Sim | L26: 12 | M26: No curandeiro/médico tradicional | AR26: 10 Clinica da empresa, outra privada ou ONG | BG26: 5 Outro (especificar) | BH26: 3 Ambos | BJ26: =CONCATENATE("2 Não ►(",TEXT(BL4,"0,00"),")") -> 2 Não ►(3,38) | BN26: 5 Outro (especificar) | BO26: 2 Sim, alguma dificuldade | BP26: 2 Sim, alguma dificuldade | BQ26: 2 Sim, alguma dificuldade | BR26: 2 Sim, alguma dificuldade | BS26: 2 Sim, alguma dificuldade | BT26: 2 Sim, alguma dificuldade
C27: 1 Sim | F27: 2 Não ►(3.05) | L27: 13 | M27: Consulta ao domicílio | AR27: 11 No curandeiro/matrona/médico tradicional | BN27: 6 Nada
C28: =CONCATENATE("2 Não ►(",AD4,")") -> 2 Não ►(3,12) | AX28: Em caso de dispositivos recebidos gratuitamente, escrever 00 | AY28: 1 Sim | BM28: 3. Não | BO28: 3 Sim, muita dificuldade | BP28: 3 Sim, muita dificuldade | BQ28: 3 Sim, muita dificuldade | BR28: 3 Sim, muita dificuldade | BS28: 3 Sim, muita dificuldade | BT28: 3 Sim, muita dificuldade
I29: 1 Sim►(3.07) | J29: =CONCATENATE("►► (",AD4,")") -> ►► (3,12) | AY29: =CONCATENATE("2 Não ►(",ROUND(BE4,2),")") -> 2 Não ►(3,32)
I30: 2 Não | AE30: Se NA escrever 9999 | AF30: Se NA escrever 9999 | AG30: Se NA escrever 9999 | AH30: Se NA escrever 9999 | AI30: Se NA escrever 9999 | AN30: 1 Sim | AV30: 1 Sim | BO30: 4 É totalmente incapaz | BP30: 4 É totalmente incapaz | BQ30: 4 É totalmente incapaz | BR30: 4 É totalmente incapaz | BS30: 4 É totalmente incapaz | BT30: 4 É totalmente incapaz
AD31: 1 Sim | AN31: =CONCATENATE("2 Não ►(",ROUND(AV4,2),")") -> 2 Não ►(3,25) | AV31: =CONCATENATE("2 Não ►(",ROUND(AY4,2),")") -> 2 Não ►(3,28)
AD32: =CONCATENATE("2 Não ►(",AN4,")") -> 2 Não ►(3,19)
BO33: 5 Não abrangido (menos de 5 anos) | BP33: 5 Não abrangido (menos de 5 anos) | BQ33: 5 Não abrangido (menos de 5 anos) | BR33: 5 Não abrangido (menos de 5 anos) | BS33: 5 Não abrangido (menos de 5 anos) | BT33: 5 Não abrangido (menos de 5 anos)
AE34: MONTANTE EM FRANCOS CFA | AF34: MONTANTE EM FRANCOS CFA | AG34: MONTANTE EM FRANCOS CFA | AH34: MONTANTE EM FRANCOS CFA | AI34: MONTANTE EM FRANCOS CFA | AJ34: MONTANTE EM FRANCOS CFA | AK34: MONTANTE EM FRANCOS CFA | AL34: MONTANTE EM FRANCOS CFA | AS34: MONTANTE EM FRANCOS CFA | AU34: MONTANTE EM FRANCOS CFA | AW34: MONTANTE EM FRANCOS CFA | AX34: MONTANTE EM FRANCOS CFA | AZ34: MONTANTE EM FRANCOS CFA | BA34: MONTANTE EM FRANCOS CFA | BB34: MONTANTE EM FRANCOS CFA | BD34: MONTANTE EM FRANCOS CFA | BF34: PERCENTAGEM | BV34: MONTANTE EM FRANCOS CFA | BY34: MONTANTE EM FRANCOS CFA
C35: CÓDIGO | D35: CÓDIGO | F35: CÓDIGO | G35: CÓDIGO | I35: CÓDIGO | J35: CÓDIGO | L35: CÓDIGO | N35: CÓDIGO | O35: CÓDIGO | AB35: CÓDIGO | AD35: CÓDIGO | AN35: CÓDIGO | AO35: NUMERO | AP35: CÓDIGO | AQ35: NUMERO | AR35: CÓDIGO | AT35: CÓDIGO | AV35: CÓDIGO | AY35: CÓDIGO | BC35: CÓDIGO | BE35: CÓDIGO | BG35: CÓDIGO | BH35: CÓDIGO | BJ35: CÓDIGO | BK35: CÓDIGO | BL35: CÓDIGO | BM35: CÓDIGO | BN35: CÓDIGO | BO35: CÓDIGO | BP35: CÓDIGO | BQ35: CÓDIGO | BR35: CÓDIGO | BS35: CÓDIGO | BT35: CÓDIGO | BU35: CÓDIGO | BW35: CÓDIGO | BX35: Número | CA35: CÓDIGO | CB35: CÓDIGO
A36: 01 | P36: 01 | AM36: 01 | BI36: 01
A37: 02 | P37: 02 | AM37: 02 | BI37: 02
A38: 3 | P38: 3 | AM38: 3 | BI38: 3
A39: 4 | P39: 4 | AM39: 4 | BI39: 4
A40: 5 | P40: 5 | AM40: 5 | BI40: 5
A41: 6 | P41: 6 | AM41: 6 | BI41: 6
A42: 7 | P42: 7 | AM42: 7 | BI42: 7
A43: 8 | P43: 8 | AM43: 8 | BI43: 8
A44: 9 | P44: 9 | AM44: 9 | BI44: 9
A45: 10 | P45: 10 | AM45: 10 | BI45: 10
...

Sheet S04_Emploi_A
A1: SECÇÃO 4: EMPREGO | O1: SECÇÃO 4: EMPREGO | AA1: SECÇÃO 4: EMPREGO
A2: PARTE A: SITUAÇÃO RELACIONADA COM A ATIVIDADE (INDIVÍDUOS COM IDADE IGUAL OU SUPERIOR A 6 ANOS) | O2: PARTE A: SITUAÇÃO RELACIONADA COM A ATIVIDADE (INDIVÍDUOS COM IDADE IGUAL OU SUPERIOR A 6 ANOS) | AA2: PARTE A: SITUAÇÃO RELACIONADA COM A ATIVIDADE (INDIVÍDUOS COM IDADE IGUAL OU SUPERIOR A 6 ANOS)
A4: CÓDIGO ID: | B4: 4 | C4: =B4+0.01 -> 4.01 | D4: =CONCATENATE(C4+0.01, "a") -> 4,02a | E4: =CONCATENATE(C4+0.01, "b") -> 4,02b | F4: =C4+0.02 -> 4.03 | G4: =F4+0.01 -> 4.04 | H4: =G4+0.01 -> 4.05 | I4: =CONCATENATE(H4, "a") -> 4,05a | J4: =H4+0.01 -> 4.06 | K4: =J4+0.01 -> 4.07 | L4: =K4+0.01 -> 4.08 | M4: =L4+0.01 -> 4.09 | N4: =M4+0.01 -> 4.1 | O4: CÓDIGO ID: | P4: =N4+0.01 -> 4.11 | Q4: =P4+0.01 -> 4.12 | R4: =Q4+0.01 -> 4.13 | S4: =R4+0.01 -> 4.14 | T4: =S4+0.01 -> 4.15 | U4: =T4+0.01 -> 4.16 | V4: =U4+0.01 -> 4.17 | W4: =V4+0.01 -> 4.18 | X4: =CONCATENATE(W4, "a") -> 4,18a | Y4: =CONCATENATE(W4, "b") -> 4,18b | Z4: =CONCATENATE(W4, "c") -> 4,18c | AA4: CÓDIGO ID: | AB4: =W4+0.01 -> 4.19 | AC4: =AB4+0.01 -> 4.2 | AD4: =AC4+0.01 -> 4.21 | AE4: =AD4+0.01 -> 4.22 | AF4: =AE4+0.01 -> 4.23 | AG4: =CONCATENATE(AF4, "a") -> 4,23a | AH4: =AF4+0.01 -> 4.24 | AO4: =AH4+0.01 -> 4.25 | AP4: =AO4+0.01 -> 4.26 | AQ4: =AP4+0.01 -> 4.27 | AR4: =AQ4+0.01 -> 4.28
B5: Código ID do respondente | C5: Nos últimos 7 dias, quantas horas [NOME] dedicou a fazer compras no mercado para o seu próprio agregado sem remuneração? | D5: Nos últimos 7 dias, quantas horas [NOME] passou a cozinhar e a lavar a louça para o seu próprio agregado sem remuneração? | E5: Nos últimos 7 dias, quantas horas [NOME] lavou roupa para o seu próprio agregado sem remuneração? | F5: Durante os últimos 7 dias, quantas horas [NOME] passou a cuidar de crianças, idosos ou enfermos para o seu próprio agregado sem remuneração? | G5: Nos últimos 7 dias, quantas horas [NOME] dedicou a tarefas domésticas para o seu próprio agregado sem remuneração? | H5: Nos últimos 7 dias, quantas horas [NOME] dedicou a cuidar de crianças ou de idosos para o seu próprio agregado sem remuneração? | I5: Nos últimos 7 dias, quanto tempo [NOME] gastou ajudando as crianças a revisarem as aulas? | J5: Nos últimos 7 dias, [NOME] trabalhou pelo menos uma hora num campo ou jardim de sua propriedade ou [NOME] criou animais, praticou pesca ou caça por conta própria? | K5: Nos últimos 7 dias, [NOME] trabalhou pelo menos uma hora, com remuneração (em natureza/produto ou em dinheiro), numa loja, numa atividade de transformação ou num serviço comercial por conta própria ou por conta de outro membro do agregado familiar? Por exemplo, como artesão, comerciante ou advogado, médico ou outra atividade independente? | L5: Nos últimos 7 dias, [NOME] trabalhou pelo menos uma hora numa empresa, para o Estado, para um patrão ou para qualquer outra pessoa que não seja membro do seu agregado familiar? (mesmo a tempo parcial ou ocasionalmente) | M5: Nos últimos 7 dias, [NOME] trabalhou pelo menos uma hora como aprendiz ou estagiário com remuneração (em Natureza/produto ou em dinheiro? | N5: Dentre as respostas às questões 4.06, 4.07, 4.08, 4.09 há alguma afirmativa (CÓDIGO 1)? | P5: Mesmo que [NOME] não tenha trabalhado nos últimos 7 dias, exerce alguma ocupação que devesse ter exercido nesses últimos 7 dias? | Q5: Por que [NOME] não trabalhou nos últimos 7 dias? | R5: Declarou que não teve nenhuma atividade nos últimos 7 dias, trabalhou num campo, jardim, para outro membro de agregado sem remuneração? | S5: Declarou que não realizou nenhuma atividade durante os últimos 7 dias, no entanto, trabalhou numa empresa, atividade de transformação, atividade de serviço para um outro membro do agregado sem remuneração? | T5: [NOME] procurou um emprego remunerado nos últimos 30 dias? | U5: Como [NOME] consegue se sustentar principalmente? | V5: [NOME] procurou um emprego remunerado nos últimos 30 dias? | W5: Qual foi o principal motivo de [NOME] não ter procurado trabalho nos últimos 30 dias? | X5: Em que ramo de atividade [NOME] trabalhou principalmente? | Y5: Qual era a categoria socioprofissional de [NOME]? | Z5: Qual era o setor institucional de [NOME]? | AC5: Quando (NOME) estará disponível para ter um emprego? | AD5: Há quantos meses [NOME] está desempregado? | AE5: Há quantos meses anda à procura de emprego? | AF5: Porque [NOME] está a procura de um emprego? | AG5: [NOME] perdeu o emprego devido ao COVID-19? | AH5: Por meio de quais canais [NOME] está a procurar emprego? | AO5: Que tipo de emprego procura [NOME]? | AP5: Para que quantia mínima mensal NOME está disponível para emprego? | AQ5: =CONCATENATE("Mesmo que [NOME] não tenha trabalhado nos últimos 7 dias, entre as atividades listadas nas perguntas ",ROUND(J4,2),", ",ROUND(K4,2),", ",ROUND(L4,2), " e ", ROUND(M4,2)," existe alguma que [NOME] realizou durante os últimos 12 meses?",) -> Mesmo que [NOME] não tenha trabalhado nos últimos 7 dias, entre as atividades listadas nas perguntas 4,06, 4,07, 4,08 e 4,09 existe alguma que [NOME] realizou durante os últimos 12 meses? | AR5: Que emprego exerceu [NOME] a título principal e a título secundário nos últimos 12 meses?
AB6: (NOME) está disponível para aceitar um trabalho imediatamente?
U8: 1 recebe uma pensão
Q9: 1 Licença, férias | U9: 2 Recebe aluguéis / anuidades | W9: 1 Muito velho | X9: =CONCATENATE("0 Sem emprego ►(",TEXT(AB4,"0,00"),")") -> 0 Sem emprego ►(4,19) | Y9: ASSALARIADO | Z9: 1 Administração pública
