Workbook
Name another: #REF!
Name blah: #REF!
Name Blahh: '[1](1) HOUSEHOLD ROSTER'!$B$1
Name cc: #REF!
Name ex: #REF!
Name food: #REF!
Name help: #REF!
Name malawi: #REF!
Name new: #REF!
Name Perberja_Familjare: #REF!
Name q: #REF!
Name SECTION_1: #REF!
Name SECTION_1__HOUSEHOLD_INFORMATION: #REF!
Name shc: '[2](1) HOUSEHOLD ROSTER'!$B$1
Name TEST: '[2](1) HOUSEHOLD ROSTER'!$B$1
Name test22: #REF!
Name tillf: #REF!
Name tillf2: '[3](1) HOUSEHOLD ROSTER'!$B$1
Name VAL: '[4](1) HOUSEHOLD ROSTER'!$B$1
Name WHATTHAT: #REF!
Name xx: '[2](1) HOUSEHOLD ROSTER'!$B$1
Name xxx: #REF!
Name zz: #REF!

Sheet couvert
S2: REPUBLIQUE TOGOLAISE
R5: MINISTERE DE LA PLANIFICATION DU DEVELOPPEMENT
K7: INSTITUT NATIONAL DE LA STATISTIQUE ET DES ETUDES ECONOMIQUES ET DEMOGRAPHIQUES
S9: IDENTIFIANT DU MARCHE
S10: STRATE | AA10: MARCHE
A16: ENQUÊTE DE MARCHÉ SUR LES UNITES NON-CONVENTIONNELLES 2016/2017
A17: AVEC L'APPUI DE LA BANQUE MONDIALE
A21: Coordonnées GPS du marché
A24: Latitude | H24: N
A26: Longitude | H26: W
H29: Nom du marché:
B31: Adresse (localisation) du marché:
A34: CONFIDENTIEL : La Loi N°2011-014 portant organisation de l’activité statistique au Togo, fait obligation aux personnes physiques et morales de répondre aux Enquêtes Statistiques Officielles. Elle garantit aussi la confidentialité des réponses individuelles par des sanctions aux contrevenants prévues au Code Pénal.

Sheet S0_Cont
A1: SECTION 0: RENSEIGNEMENTS DE CONTROLE
A3: A | B3: Identification du marché
A4: 01.- | B4: Région | E4: NOM: | L4: CODE:
A5: 02.- | B5: Département | E5: NOM: | L5: CODE:
A6: 03.- | B6: Commune | E6: NOM: | L6: CODE:
A7: 04.- | B7: Milieu de résidence | F7: 1. Urbain 2. Rural | L7: CODE:
A8: 05.- | B8: Village/Quartier | E8: NOM:
A9: 06.- | B9: Nº de la strate | L9: CODE:
A10: 07.- | B10: Numéro du marché dans la strate | L10: CODE:
A12: B | B12: Caractéristiques du marché
A13: 08.- | B13: Nom du marché | E13: NOM:
A14: 09.- | B14: Localisation du marché | E14: NOM:
A15: 10.- | B15: Jours de marché | L15: Code (1= Oui, 2 = Non)
K16: A | L16: Lundi
K17: B | L17: Mardi
K18: C | L18: Mercredi
K19: D | L19: Jeudi
K20: E | L20: Vendredi
K21: F | L21: Samedi
K22: G | L22: Dimanche
A24: C | B24: Renseignements de contrôle
A25: 11.- | B25: Prénom et nom de l'agent enquêteur | L25: CODE:
A26: 12.- | B26: Prénom et nom du contrôleur | L26: CODE:
D27: Jour | F27: Mois | H27: Année | J27: Heure | L27: Minutes
A28: 13.- | B28: Début de collecte
A29: 14.- | B29: Fin de collecte
A30: 15.- | B30: Contrôle
A31: 16.- | B31: Résultat du questionnaire | D31: 1=Complet 2=Partiel | L31: CODE:
A32: 17.- | B32: Langue | D32: 1= 2= 3= 4= 5= 6 = 7= 8= 9=Autre | L32: CODE:

Sheet S1_Relevés
A1: SECTION 1. Relevé des poids et prix
A2: 1 | C2: =A2+0.01 -> 1.01 | E2: =C2+0.01 -> 1.02 | F2: =E2+0.01 -> 1.03 | H2: =F2+0.01 -> 1.04 | I2: =H2+0.01 -> 1.05 | J2: =I2+0.01 -> 1.06 | P2: =J2+0.01 -> 1.07 | Q2: =P2+0.01 -> 1.08
A3: Produit | C3: Unité | F3: Taille | J3: Relevé 1 | L3: Relevé 2 | N3: Relevé 3
A4: Libellé | B4: CODE | C4: Libellé | D4: CODE | E4: Spécifier le nom de la nouvelle Unité NOM | F4: Libellé | G4: CODE | H4: L'article a-t-il été mesuré 1 = Oui 2 = Non ►1.07 | I4: Quelle balance a été utilisée? 1. Balance personnelle 2. Balance du marchand CODE | J4: Poids (KG) | K4: Prix (FCFA) | L4: Poids (KG) | M4: Prix (FCFA) | N4: Poids (KG) | O4: Prix (FCFA) | P4: Pourquoi l'article n'a pas été mesuré? 1. Produit non-disponible à cette periode (2 à 4) ►article suivant 2. Produit non-disponible en général dans ce marché 3. Unité non-utilisée dans ce marché 4. Autre (à specifier) | Q4: Ecrire le code du mois òu le produit sera disponible prochainement. (1 pour Janvier, 2 pour Février, etc.) ►► Article suivant
A5: Riz local longs grains | B5: 1 | C5: Kg | D5: =VLOOKUP(C5,Unités!A:B,2,FALSE) -> 1 | F5: N/A | G5: 0
C6: Bol | D6: =VLOOKUP(C6,Unités!A:B,2,FALSE) -> 5 | F6: Petit | G6: 1
C7: Bol | D7: =VLOOKUP(C7,Unités!A:B,2,FALSE) -> 5 | F7: Moyen | G7: 2
C8: Bol | D8: =VLOOKUP(C8,Unités!A:B,2,FALSE) -> 5 | F8: Grand | G8: 3
C9: Sachet | D9: =VLOOKUP(C9,Unités!A:B,2,FALSE) -> 7 | F9: Petit | G9: 1
C10: Sachet | D10: =VLOOKUP(C10,Unités!A:B,2,FALSE) -> 7 | F10: Moyen | G10: 2
C11: Sachet | D11: =VLOOKUP(C11,Unités!A:B,2,FALSE) -> 7 | F11: Grand | G11: 3
C12: Sac (25 Kg) | D12: =VLOOKUP(C12,Unités!A:B,2,FALSE) -> 31 | F12: N/A | G12: 0
C13: Sac (50 Kg) | D13: =VLOOKUP(C13,Unités!A:B,2,FALSE) -> 32 | F13: N/A | G13: 0
C14: Sac (100 Kg) | D14: =VLOOKUP(C14,Unités!A:B,2,FALSE) -> 33 | F14: N/A | G14: 0
A16: Riz local (Kovié) | B16: 2 | C16: Kg | D16: =VLOOKUP(C16,Unités!A:B,2,FALSE) -> 1 | F16: N/A | G16: 0
C17: Bol | D17: =VLOOKUP(C17,Unités!A:B,2,FALSE) -> 5 | F17: Petit | G17: 1
C18: Bol | D18: =VLOOKUP(C18,Unités!A:B,2,FALSE) -> 5 | F18: Moyen | G18: 2
C19: Bol | D19: =VLOOKUP(C19,Unités!A:B,2,FALSE) -> 5 | F19: Grand | G19: 3
A21: Riz importé longs grains | B21: 3 | C21: Kg | D21: =VLOOKUP(C21,Unités!A:B,2,FALSE) -> 1 | F21: N/A | G21: 0
C22: Bol | D22: =VLOOKUP(C22,Unités!A:B,2,FALSE) -> 5 | F22: Petit | G22: 1
C23: Bol | D23: =VLOOKUP(C23,Unités!A:B,2,FALSE) -> 5 | F23: Moyen | G23: 2
C24: Bol | D24: =VLOOKUP(C24,Unités!A:B,2,FALSE) -> 5 | F24: Grand | G24: 3
A26: Riz importé brisé | B26: 4 | C26: Kg | D26: =VLOOKUP(C26,Unités!A:B,2,FALSE) -> 1 | F26: N/A | G26: 0
C27: Bol | D27: =VLOOKUP(C27,Unités!A:B,2,FALSE) -> 5 | F27: Petit | G27: 1
C28: Bol | D28: =VLOOKUP(C28,Unités!A:B,2,FALSE) -> 5 | F28: Moyen | G28: 2
C29: Bol | D29: =VLOOKUP(C29,Unités!A:B,2,FALSE) -> 5 | F29: Grand | G29: 3
A31: Maïs en epis | B31: 5 | C31: Unité | D31: =VLOOKUP(C31,Unités!A:B,2,FALSE) -> 3 | F31: Petit | G31: 1
C32: Unité | D32: =VLOOKUP(C32,Unités!A:B,2,FALSE) -> 3 | F32: Moyen | G32: 2
C33: Unité | D33: =VLOOKUP(C33,Unités!A:B,2,FALSE) -> 3 | F33: Grand | G33: 3
C34: Sac (25 Kg) | D34: =VLOOKUP(C34,Unités!A:B,2,FALSE) -> 31 | F34: N/A | G34: 0
C35: Sac (50 Kg) | D35: =VLOOKUP(C35,Unités!A:B,2,FALSE) -> 32 | F35: N/A | G35: 0
C36: Sac (100 Kg) | D36: =VLOOKUP(C36,Unités!A:B,2,FALSE) -> 33 | F36: N/A | G36: 0
C37: Tas | D37: =VLOOKUP(C37,Unités!A:B,2,FALSE) -> 4 | F37: Petit | G37: 1
C38: Tas | D38: =VLOOKUP(C38,Unités!A:B,2,FALSE) -> 4 | F38: Moyen | G38: 2
C39: Tas | D39: =VLOOKUP(C39,Unités!A:B,2,FALSE) -> 4 | F39: Grand | G39: 3
A41: Maïs en grain | B41: 6 | C41: Kg | D41: =VLOOKUP(C41,Unités!A:B,2,FALSE) -> 1 | F41: N/A | G41: 0
C42: Bol | D42: =VLOOKUP(C42,Unités!A:B,2,FALSE) -> 5 | F42: Petit | G42: 1
C43: Bol | D43: =VLOOKUP(C43,Unités!A:B,2,FALSE) -> 5 | F43: Moyen | G43: 2
C44: Bol | D44: =VLOOKUP(C44,Unités!A:B,2,FALSE) -> 5 | F44: Grand | G44: 3
C45: Sac (25 Kg) | D45: =VLOOKUP(C45,Unités!A:B,2,FALSE) -> 31 | F45: N/A | G45: 0
C46: Sac (50 Kg) | D46: =VLOOKUP(C46,Unités!A:B,2,FALSE) -> 32 | F46: N/A | G46: 0
C47: Sac (100 Kg) | D47: =VLOOKUP(C47,Unités!A:B,2,FALSE) -> 33 | F47: N/A | G47: 0
A49: Mil | B49: 7 | C49: Kg | D49: =VLOOKUP(C49,Unités!A:B,2,FALSE) -> 1 | F49: N/A | G49: 0
C50: Bol | D50: =VLOOKUP(C50,Unités!A:B,2,FALSE) -> 5 | F50: Petit | G50: 1
C51: Bol | D51: =VLOOKUP(C51,Unités!A:B,2,FALSE) -> 5 | F51: Moyen | G51: 2
C52: Bol | D52: =VLOOKUP(C52,Unités!A:B,2,FALSE) -> 5 | F52: Grand | G52: 3
C53: Sac (25 Kg) | D53: =VLOOKUP(C53,Unités!A:B,2,FALSE) -> 31 | F53: N/A | G53: 0
C54: Sac (50 Kg) | D54: =VLOOKUP(C54,Unités!A:B,2,FALSE) -> 32 | F54: N/A | G54: 0
C55: Sac (100 Kg) | D55: =VLOOKUP(C55,Unités!A:B,2,FALSE) -> 33 | F55: N/A | G55: 0
A57: Sorgho | B57: 8 | C57: Kg | D57: =VLOOKUP(C57,Unités!A:B,2,FALSE) -> 1 | F57: N/A | G57: 0
C58: Bol | D58: =VLOOKUP(C58,Unités!A:B,2,FALSE) -> 5 | F58: Petit | G58: 1
C59: Bol | D59: =VLOOKUP(C59,Unités!A:B,2,FALSE) -> 5 | F59: Moyen | G59: 2
C60: Bol | D60: =VLOOKUP(C60,Unités!A:B,2,FALSE) -> 5 | F60: Grand | G60: 3
C61: Sac (25 Kg) | D61: =VLOOKUP(C61,Unités!A:B,2,FALSE) -> 31 | F61: N/A | G61: 0
C62: Sac (50 Kg) | D62: =VLOOKUP(C62,Unités!A:B,2,FALSE) -> 32 | F62: N/A | G62: 0
C63: Sac (100 Kg) | D63: =VLOOKUP(C63,Unités!A:B,2,FALSE) -> 33 | F63: N/A | G63: 0
A65: Fonio | B65: 10 | C65: Kg | D65: =VLOOKUP(C65,Unités!A:B,2,FALSE) -> 1 | F65: N/A | G65: 0
C66: Bol | D66: =VLOOKUP(C66,Unités!A:B,2,FALSE) -> 5 | F66: Petit | G66: 1
C67: Bol | D67: =VLOOKUP(C67,Unités!A:B,2,FALSE) -> 5 | F67: Moyen | G67: 2
C68: Bol | D68: =VLOOKUP(C68,Unités!A:B,2,FALSE) -> 5 | F68: Grand | G68: 3
C69: Calebasse | D69: =VLOOKUP(C69,Unités!A:B,2,FALSE) -> 11 | F69: Petit | G69: 1
C70: Calebasse | D70: =VLOOKUP(C70,Unités!A:B,2,FALSE) -> 11 | F70: Moyen | G70: 2
C71: Calebasse | D71: =VLOOKUP(C71,Unités!A:B,2,FALSE) -> 11 | F71: Grand | G71: 3
A73: Farine de blé | B73: 14 | C73: Kg | D73: =VLOOKUP(C73,Unités!A:B,2,FALSE) -> 1 | F73: N/A | G73: 0
C74: Bol | D74: =VLOOKUP(C74,Unités!A:B,2,FALSE) -> 5 | F74: Petit | G74: 1
C75: Bol | D75: =VLOOKUP(C75,Unités!A:B,2,FALSE) -> 5 | F75: Moyen | G75: 2
C76: Bol | D76: =VLOOKUP(C76,Unités!A:B,2,FALSE) -> 5 | F76: Grand | G76: 3
A78: Pâtes alimentaires | B78: 16 | C78: Bol | D78: =VLOOKUP(C78,Unités!A:B,2,FALSE) -> 5 | F78: Petit | G78: 1
C79: Bol | D79: =VLOOKUP(C79,Unités!A:B,2,FALSE) -> 5 | F79: Moyen | G79: 2
C80: Bol | D80: =VLOOKUP(C80,Unités!A:B,2,FALSE) -> 5 | F80: Grand | G80: 3
A82: Pain | B82: 17 | C82: Unité | D82: =VLOOKUP(C82,Unités!A:B,2,FALSE) -> 3 | F82: Petit | G82: 1
C83: Unité | D83: =VLOOKUP(C83,Unités!A:B,2,FALSE) -> 3 | F83: Moyen | G83: 2
C84: Unité | D84: =VLOOKUP(C84,Unités!A:B,2,FALSE) -> 3 | F84: Grand | G84: 3
A86: Beignets, galettes | B86: 21 | C86: Unité | D86: =VLOOKUP(C86,Unités!A:B,2,FALSE) -> 3 | F86: Petit | G86: 1
C87: Unité | D87: =VLOOKUP(C87,Unités!A:B,2,FALSE) -> 3 | F87: Moyen | G87: 2
C88: Unité | D88: =VLOOKUP(C88,Unités!A:B,2,FALSE) -> 3 | F88: Grand | G88: 3
C89: Sachet | D89: =VLOOKUP(C89,Unités!A:B,2,FALSE) -> 7 | F89: Petit | G89: 1
C90: Sachet | D90: =VLOOKUP(C90,Unités!A:B,2,FALSE) -> 7 | F90: Moyen | G90: 2
C91: Sachet | D91: =VLOOKUP(C91,Unités!A:B,2,FALSE) -> 7 | F91: Grand | G91: 3
A93: Viande de bœuf | B93: 22 | C93: Kg | D93: =VLOOKUP(C93,Unités!A:B,2,FALSE) -> 1 | F93: N/A | G93: 0
C94: Tas | D94: =VLOOKUP(C94,Unités!A:B,2,FALSE) -> 4 | F94: Petit | G94: 1
C95: Tas | D95: =VLOOKUP(C95,Unités!A:B,2,FALSE) -> 4 | F95: Moyen | G95: 2
C96: Tas | D96: =VLOOKUP(C96,Unités!A:B,2,FALSE) -> 4 | F96: Grand | G96: 3
C97: Quartier | D97: =VLOOKUP(C97,Unités!A:B,2,FALSE) -> 22 | F97: Petit | G97: 1
C98: Quartier | D98: =VLOOKUP(C98,Unités!A:B,2,FALSE) -> 22 | F98: Moyen | G98: 2
C99: Quartier | D99: =VLOOKUP(C99,Unités!A:B,2,FALSE) -> 22 | F99: Grand | G99: 3
A101: Viande de mouton | B101: 24 | C101: Kg | D101: =VLOOKUP(C101,Unités!A:B,2,FALSE) -> 1 | F101: N/A | G101: 0
C102: Tas | D102: =VLOOKUP(C102,Unités!A:B,2,FALSE) -> 4 | F102: Petit | G102: 1
C103: Tas | D103: =VLOOKUP(C103,Unités!A:B,2,FALSE) -> 4 | F103: Moyen | G103: 2
C104: Tas | D104: =VLOOKUP(C104,Unités!A:B,2,FALSE) -> 4 | F104: Grand | G104: 3
C105: Quartier | D105: =VLOOKUP(C105,Unités!A:B,2,FALSE) -> 22 | F105: Petit | G105: 1
C106: Quartier | D106: =VLOOKUP(C106,Unités!A:B,2,FALSE) -> 22 | F106: Moyen | G106: 2
C107: Quartier | D107: =VLOOKUP(C107,Unités!A:B,2,FALSE) -> 22 | F107: Grand | G107: 3
A109: Viande de chèvre | B109: 25 | C109: Kg | D109: =VLOOKUP(C109,Unités!A:B,2,FALSE) -> 1 | F109: N/A | G109: 0
C110: Tas | D110: =VLOOKUP(C110,Unités!A:B,2,FALSE) -> 4 | F110: Petit | G110: 1
C111: Tas | D111: =VLOOKUP(C111,Unités!A:B,2,FALSE) -> 4 | F111: Moyen | G111: 2
C112: Tas | D112: =VLOOKUP(C112,Unités!A:B,2,FALSE) -> 4 | F112: Grand | G112: 3
C113: Quartier | D113: =VLOOKUP(C113,Unités!A:B,2,FALSE) -> 22 | F113: Petit | G113: 1
C114: Quartier | D114: =VLOOKUP(C114,Unités!A:B,2,FALSE) -> 22 | F114: Moyen | G114: 2
C115: Quartier | D115: =VLOOKUP(C115,Unités!A:B,2,FALSE) -> 22 | F115: Grand | G115: 3
...

Sheet Unités
A1: Liste exhaustive des unités
A2: Libellé | B2: Code
A3: Kg | B3: 1
A4: Litre | B4: 2
A5: Unité | B5: 3
A6: Tas | B6: 4
A7: Bol | B7: 5
A8: Sac | B8: 6
A9: Sachet | B9: 7
A10: Carton | B10: 8
A11: Panier | B11: 9
A12: Boîte | B12: 10
A13: Calebasse | B13: 11
A14: Pot | B14: 12
... A37: Louche | B37: 35

Sheet Feuil1
C2: Riz local longs grains | D2: … | E2: 1
C3: Riz local type 2 | D3: … | E3: 2
C4: Riz importé longs grains | D4: … | E4: 3
C5: Riz importé brisé | D5: … | E5: 4
C6: Maïs en epis | D6: … | E6: 5
C7: Maïs en grain | D7: … | E7: 6
C8: Mil | D8: … | E8: 7
C9: Sorgho | D9: … | E9: 8
C10: Fonio | D10: … | E10: 10
C11: Farine de blé | D11: … | E11: 14
C12: Pâtes alimentaires | D12: … | E12: 16
C13: Pain | D13: … | E13: 17
... C53: Thé | D53: … | E53: 125
