Workbook

Sheet Note_AmendCAPI
A1: Les points intégrés dans CAPI sont en couleur JAUNE
A2: Points intégrés mais necessitant une clarification par la suite en couleur VIOLET
A9: A FAIRE
A11: Revenir après à la section S04_Emploi

Sheet couvert
R2: REPÚBLICA DA GUINÉ-BISSAU
S5: MINISTÉRIO DA ECONOMIA E FINANÇAS
R7: INSTITUTO NACIONAL DE ESTATÍSTICA
T9: IDENTIFICAÇÃO DO AGREGADO FAMILIAR
T10: AGLOMERADO | AB10: AGREGADO FAMILIAR | AF10: VAGA
A16: INQUÉRITO HARMONIZADO SOBRE AS CONDIÇÕES DE VIDA DOS AGREGADOS FAMILIARES 2017/2018
A17: COM O APOIO DA COMISSÃO DA UEMOA E DO BANCO MUNDIAL
A18: QUESTIONÁRIO AO AGREGADO FAMILIAR
A21: Coordenadas GPS do agregado familiar | AG21: Em que formato foi conduzida a entrevista?
AG23: 1. PAPI
A24: Latitude | H24: N | AG24: 2. CAPI
A26: Longitude | H26: W
B29: Nome e apelido do chefe do agregado familiar:
B31: Morada (localização) do agregado familiar:
A34: CONFIDENCIAL: Nos termos do artigo 7º, da Lei de Base do Sistema Estatístico Nacional, todos os dados estatísticos individuais recolhidos por órgãos produtores de Estatísticas Oficiais do SEN, são de natureza estritamente confidencial.

Sheet Folha1

Sheet TOC
A1: ÍNDICE
A3: 0 | B3: INFORMAÇÕES DE CONTROLO | F3: 10 | G3: EMPRESAS NÃO-AGRÍCOLAS
B4: A Identificação do agregado familiar | C4: 3 | G4: A Existência de empresas não-agrícolas | J4: 45
B5: B Contactos do agregado familiar | C5: 3 | G5: B Características das empresas não-agrícolas (sem existências) | J5: 46
B6: C Informações de controlo | C6: 3
A7: 1 | B7: CARACTERÍSTICAS SOCIODEMOGRÁFICAS DOS MEMBROS DO AGREGADO FAMILIAR | C7: 4 | F7: 11 | G7: HABITAÇÃO | J7: 53
A8: 2 | B8: EDUCAÇÃO (INDIVÍDUOS COM IDADE IGUAL OU SUPERIOR A 3 ANOS) | C8: 8 | F8: 12 | G8: ATIVOS DO AGREGADO FAMILIAR | J8: 56
A9: 3 | B9: SAÚDE GERAL | C9: 12 | F9: 13 | G9: TRANSFERÊNCIAS
A10: 4 | B10: EMPREGO (INDIVÍDUOS COM IDADE IGUAL OU SUPERIOR A 6 ANOS) | G10: A Transferências recebidas pelo agregado familiar | J10: 58
B11: A Situação relativamente à atividade | C11: 16 | G11: A Transferências emitidas pelo agregado familiar | J11: 59
B12: B Emprego principal durante os últimos 12 meses | C12: 19 | F12: 14 | G12: IMPACTOS E ESTRATÉGIAS DE SOBREVIVÊNCIA | J12: 60
B13: C Emprego secundário durante os últimos 12 meses | C13: 22 | F13: 15 | G13: REDES DE SEGURANÇA | J13: 61
A14: 5 | B14: C RENDIMENTOS FORA DO EMPREGO DURANTE OS ÚLTIMOS 12 MESES | C14: 24 | F14: 16 | G14: AGRICULTURA
A15: 6 | B15: POUPANÇA E CRÉDITO | C15: 26 | G15: A Parcelas | J15: 62
A16: 7 | B16: CONSUMO ALIMENTAR DURANTE OS ÚLTIMOS 7 DIAS | G16: B Custo dos insumos | J16: 74
B17: A Refeições consumidas fora do agregado familiar durante os últimos 7 dias | C17: 28 | G17: C Culturas | J17: 75
B18: B Consumo alimentar durante os últimos 30 dias e compras durante os últimos 30 dias | C18: 30 | F18: 17 | G18: PECUÁRIA | J18: 79
A19: 8 | B19: SEGURANÇA ALIMENTAR | F19: 18 | G19: EQUIPAMENTOS AGRÍCOLAS | J19: 88
B20: A Escala de experiência de insegurança alimentar | C20: 36 | F20: 19 | G20: PESCA | J20: 89
B21: B Suplementos alimentares | C21: 37 | F21: 20 | G21: POBREZA SUBJETIVA | J21: 92
A22: 9 | B22: DESPESAS RETROSPETIVAS NÃO ALIMENTARES DO AGREGADO FAMILIAR | G22: LISTA EXAUSTIVA DE UNIDADES RELATIVA À SECÇÃO 8A | J22: 93
B23: A Despesas com festas e cerimónias durante os últimos 12 meses | C23: 38 | G23: NOMENCLATURA DAS CULTURAS | J23: 94
B24: B Despesas não alimentares durante os últimos 7 dias | C24: 39 | G24: OBSERVAÇÕES | J24: 95
B25: C Despesas não alimentares durante os últimos 30 dias | C25: 40
B26: D Despesas não alimentares durante os últimos 3 meses | C26: 41
B27: E Despesas não alimentares durante os últimos 6 meses | C27: 42
B28: F Despesas não alimentares durante os últimos 12 meses | C28: 43

Sheet S0_Cont
A1: SECÇÃO 0: IDENTIFICAÇÃO DO AGREGADO FAMILIAR E INFORMAÇÕES DE CONTROLO
A2: A | B2: Identificação do agregado familiar
A3: 01.- | B3: Região | E3: NOME: | L3: CÓDIGO:
A4: 02.- | B4: Setor | E4: NOME: | L4: CÓDIGO:
A5: 03.-
A6: 04.- | B6: Meio de residência | F6: 1. Urbano 2. Rural | L6: CÓDIGO:
A7: 05.- | B7: Tabanca/Bairro | E7: NOME:
A8: 06.- | B8: N.º do Distrito de Recenseamento (DR) | L8: CÓDIGO:
A9: 07.- | B9: Número do agregado familiar no DR | L9: CÓDIGO:
A10: 08.- | B10: Resultado da entrevista | D10: 1= Concluída, agregado familiar selecionado ►(0.10) 2=Concluída, agregado familiar substituto►(0.10) 3=Não concluída | L10: CÓDIGO:
A11: 09.- | B11: Motivo | D11: 1=Recusa 2= Ausente 3=Alojamento desocupada ►(Fim do questionário) | L11: CÓDIGO:
A12: B | B12: Contacto do agregado familiar
A13: 10.- | B13: Nome e apelido do chefe do agregado familiar
A14: 11.- | B14: Morada (localização) do agregado familiar
A15: 12.- | B15: Número do telemóvel do chefe do agregado familiar | L15: NÚMERO:
A16: 13.- | B16: Nome de outro membro do agregado familiar que possui um número de telemóvel
A17: 14.- | B17: Número do telemóvel desse outro membro do agregado familiar | L17: NÚMERO:
A18: 15.- | B18: Nome de um primeiro contacto não pertencente ao agregado familiar que possui um número de telemóvel
A19: 16.- | B19: Número do telemóvel dessa outra pessoa | L19: NÚMERO:
A20: 17.- | B20: Nome de um segundo contacto não pertencente ao agregado familiar que possui um número de telemóvel
A21: 18.- | B21: Número do telemóvel dessa outra pessoa | L21: NÚMERO:
A22: C | B22: Informações de controlo
A23: 19.- | B23: Nome e apelido do agente entrevistador | L23: CÓDIGO:
A24: 20.- | B24: Nome e apelido do controlador | L24: CÓDIGO:
A25: 21.- | B25: Nome e apelido do agente de verificação | L25: CÓDIGO:
A26: 22.- | B26: Número de visitas necessárias para administrar o questionário | L26: NÚMERO
D27: Dia | F27: Mês | H27: Ano | J27: Hora/minutos de início | L27: Hora/minutos de fim
A28: 23.- | B28: Recolha - Visita 1
A29: 24.- | B29: Recolha - Visita 2
A30: 25.- | B30: Recolha - Visita 3
A31: 26.- | B31: Controlo
A32: 27.- | B32: Resultado do questionário | D32: 1=Completo 2=Parcial | L32: CÓDIGO:
A33: 28.- | B33: Língua da entrevista | D33: 1=Crioulo 2=Fula 3=Balanta 4=Mandinga 5=Papel 6=Manjaco 7 =Beafada 8=Mancanha 9=Outras Linguas: | L33: CÓDIGO:
A34: 29.- | B34: Número de questionários utilizados no agregado familiar | L34: NÚMERO:
A35: 30.- | B35: Número de ordem do presente questionário entre os questionários utilizados no agregado familiar | L35: NÚMERO DE ORDEM:
A36: 31.- | B36: Número de membros do agregado familiar | L36: NÚMERO:

Sheet S01_Demo
A1: LISTA DE MEMBROS - FLAP | C1: SECÇÃO 1: CARACTERÍSTICAS SOCIODEMOGRÁFICAS DOS MEMBROS DO AGREGADO FAMILIAR | U1: SECÇÃO 1: CARACTERÍSTICAS SOCIODEMOGRÁFICAS DOS MEMBROS DO AGREGADO FAMILIAR | AD1: SECÇÃO 1: CARACTERÍSTICAS SOCIODEMOGRÁFICAS DOS MEMBROS DO AGREGADO FAMILIAR | AO1: SECÇÃO 1: CARACTERÍSTICAS SOCIODEMOGRÁFICAS DOS MEMBROS DO AGREGADO FAMILIAR
A4: CÓDIGO ID: | B4: ORDEM DE REGISTO | C4: CÓDIGO ID: | D4: 1 | E4: 1.01 | F4: 1.02 | G4: 1.03 | J4: 1.04 | L4: 1.05 | M4: 1.06 | N4: =M4+0.01 -> 1.07 | O4: =N4+0.01 -> 1.08 | P4: =O4+0.01 -> 1.09 | T4: =P4+0.01 -> 1.1 | U4: CÓDIGO ID: | V4: =T4+0.01 -> 1.11 | W4: =V4+0.01 -> 1.12 | X4: =W4+0.01 -> 1.13 | Y4: =X4+0.01 -> 1.14 | Z4: =Y4+0.01 -> 1.15 | AA4: =Z4+0.01 -> 1.16 | AB4: =AA4+0.01 -> 1.17 | AC4: =AB4+0.01 -> 1.18 | AD4: CÓDIGO ID: | AE4: =AC4+0.01 -> 1.19 | AF4: =AE4+0.01 -> 1.2 | AG4: =AF4+0.01 -> 1.21 | AH4: =AG4+0.01 -> 1.22 | AI4: =AH4+0.01 -> 1.23 | AJ4: =AI4+0.01 -> 1.24 | AK4: =AJ4+0.01 -> 1.25 | AL4: =AK4+0.01 -> 1.26 | AM4: =AL4+0.01 -> 1.27 | AN4: =AM4+0.01 -> 1.28 | AO4: CÓDIGO ID: | AP4: =AN4+0.01 -> 1.29 | AQ4: =AP4+0.01 -> 1.3 | AR4: =AQ4+0.01 -> 1.31 | AS4: =AR4+0.01 -> 1.32 | AT4: =AS4+0.01 -> 1.33 | AU4: =AT4+0.01 -> 1.34 | AV4: =AU4+0.01 -> 1.35 | AW4: =AV4+0.01 -> 1.36 | AX4: =AW4+0.01 -> 1.37 | ... AZ4: =AY4+0.01 -> 1.39
B5: Elaborar a lista de todas as pessoas que compõem o agregado familiar, quer estejam presentes ou ausentes na altura do inquérito. Para garantir que não é esquecido nenhum indivíduo, elaborar a lista pela ordem descrita em seguida | D5: CÓDIGO ID do respondente | E5: Qual é o Sexo (NOME)? | F5: Qual é o laço de parentesco de [NOME] com o chefe do agregado familiar? | G5: Qual é a data de nascimento de [NOME]? | J5: Que idade fez [NOME] no seu último aniversário? | L5: No caso das crianças com menos de 15 anos, [NOME] dispõe de uma certidão de nascimento? | M5: A certidão de nascimento foi mostrada? | N5: No caso das pessoas com idade igual ou superior a 10 anos, qual é o estado civil de [NOME]? | O5: O(s) cônjuge(s) de [NOME] vive(m) no agregado familiar? | P5: Qual(quais) é(são) o(s) código(s) ID do(s) cônjuge(s) de [NOME]? | T5: Com que idade [NOME] se casou pela primeira vez? | V5: [NOME] está presente na altura do inquérito? | W5: [NOME] vive em regime permanente neste agregado familiar pelo menos nos últimos 6 meses? | X5: [NOME] tenciona permanecer no agregado familiar pelo menos durante 6 meses? | Y5: Qual é a religião de [NOME]? | Z5: Qual é a nacionalidade de [NOME]? | AA5: No caso dos nacionais, qual é a etnia de [NOME]? | AB5: [NOME] nasceu em [localidade de residência]? | AC5: [NOME] alguma vez residiu noutra localidade durante mais de 6 meses? | AE5: Qual foi a última localidade em que [NOME] residiu antes de vir morar aqui? | AF5: Durante quantos anos [NOME] residiu nessa localidade antes de vir morar aqui? | AG5: Qual foi a razão principal para [NOME] ter vindo morar para esta localidade? | AH5: O pai de [NOME] vive no agregado familiar? | AI5: INSCREVER O CÓDIGO ID DO PAI DE [NOME] | AJ5: O pai de [NOME] está vivo? | AK5: Qual é o nível de instrução mais elevado obtido pelo pai de [NOME]? | AL5: Que ramo de atividade principal exerceu o pai de [NOME]? | AM5: Qual era a categoria socioprofissional do pai de [NOME]? | AN5: Qual era o setor institucional do pai de [NOME]? | AP5: A mãe de [NOME] vive no agregado familiar? | AQ5: ESCREVEO CÓDIGO ID DA MÃE DE [NOME] | AR5: A mãe de [NOME] é viva? | AS5: Qual é o nível de instrução mais elevado obtido pela mãe de [NOME]? | AT5: Que ramo de atividade principal exerceu a mãe de [NOME]? | AU5: Qual era a categoria socioprofissional da mãe de [NOME]? | AV5: Qual era o setor institucional da mãe de [NOME]? | AW5: No caso de pessoas com idade igual ou superior a 10 anos, [NOME] possui telemóvel? | AX5: Mesmo que [NOME] não tenha seu próprio telemovel, [NOME] usou um telefone nos últimos 7 dias? | AY5: Quanto gastou em cartões pré-pagos, incluindo transferências de crédito nos últimos 7 dias? | AZ5: [NOME] acedeu à internet? Inscrever 1 para SIM e 2 para NÃO
AA7: 01=Fula
G8: =CONCATENATE("Se pelo menos o ano de nascimento de [NOME] for declarado ►",TEXT(L4,"(0.00)"),) -> Se pelo menos o ano de nascimento de [NOME] for declarado ►(0.01) | J8: No caso das crianças com menos de 5 anos (0 a 59 meses), idade em meses e anos; por exemplo uma criança de 2 anos e 6 meses, inscrever 2 na coluna ANOS e 6 na coluna MESES. No caso das pessoas com idade igual ou superior a 5 anos, idade em anos aquando do último aniversário. | Y8: 1=Muçulmano(a) | Z8: 01 Benim | AA8: 02=Balanta | AG8: 01 Enviado pela família para trabalhar
Y9: 2 Cristão(ã) | Z9: 02 Burquina Faso | AA9: 03=Mandinga | AG9: 02 Veio com o pai
B10: CHEFE DO AGREGADO FAMILIAR | E10: 1 Masculino | F10: 01 Chefe do agregado familiar | V10: 1 Presente visto | Y10: 3 Animista | Z10: 03 Costa do Marfim | AA10: 04=Papel | AE10: 01 Capital | AG10: 03 Foi juntar-se à família | AK10: 1 Nenhum | AM10: Assalariado | AN10: 1 Administração pública | AS10: 1 Nenhum | AU10: Assalariado | AV10: 1 Administração pública | AZ10: A | BA10: B | BB10: C | BC10: D | BD10: E
B11: FILHOS DO CAF CUJA MÃE NÃO VIVE NO AGREGADO FAMILIAR | E11: 2 Feminino | F11: 02 Cônjuge | N11: 1 Solteiro (a)►(1.11) | O11: 1 Sim | V11: 2 Presente não visto | Y11: 4 Outra religião | Z11: 04 Guiné-Bissau | AA11: 05=Manjaco | AE11: 02 Outra urbana | AG11: 04 Falta de emprego | AK11: 2 Ensino Básico (1ª a 6ª classe) | AL11: =CONCATENATE("0 Desempregado ►(",AP4,")") -> 0 Desempregado ►(1,29) | AM11: 1 Quadro superior | AS11: 2 Ensino Básico (1 a 6 classe) | AT11: =CONCATENATE("0 Desempregado ►(",AW4,")") -> 0 Desempregado ►(1,36) | AU11: 1 Quadro superior | AZ11: Por telefone | BA11: No escritório | BB11: No cibercafé | BC11: Em casa | BD11: Na escola/universidade
B12: 1.ª ESPOSA SEGUIDA PELOS FILHOS (DO MAIS NOVO AO MAIS VELHO) | F12: 03 Filho, Filha | N12: 2 Casado(a) monogâmico(a) | O12: 2 Não ►(1.10) | V12: 3 Ausente | Y12: 5 Sem religião | Z12: 05 Mali | AA12: 06=Beafada | AE12: 03 Meio rural | AG12: 05 Melhores oportunidades aqui | AK12: 3 Secundário 1º ciclo (7ª a 9ª classe) | AL12: 1 Agricultura, Pecuária, Pescas… | AM12: 2 Quadro médio | AN12: 2 Empresa pública | AS12: 3 Secundário 1º ciclo (7 a 9 classe) | AT12: 1 Agricultura, Pecuária, Pescas… | AU12: 2 Quadro médio | AV12: 2 Empresa pública
B13: 2.ª ESPOSA E FILHOS; 3.ª ESPOSA E FILHOS, ETC. | F13: 04 Pai, Mãe | M13: 1 Sim | N13: 3 Casado(a) poligâmico(a) | W13: 1 Sim►(1.14) | X13: 1 Sim | Z13: 06 Níger | AA13: 07=Mancanha | AB13: 1 Sim | AC13: =CONCATENATE("1 Sim") -> 1 Sim | AE13: 04 Benim | AG13: 06 Transferência | AH13: 1 Sim | AJ13: 1 Sim | AK13: 4 Secundário 2º ciclo (10ª a 12ª classe) | AM13: 3 Operário ou trabalhador qualificado | AP13: 1 Sim | AR13: 1 Sim | AS13: 4 Secundário 2º ciclo (10 a 12 classe) | AT13: 2 Minas, pedreiras | AU13: 3 Operário ou trabalhador qualificado
B14: IRMÃOS E IRMÃS DO CAF | F14: 05 Neto, neta | L14: 1 Sim | M14: 2 Não | N14: 4 União de facto | W14: 2 Não | X14: 2 Não | Z14: 07 Senegal | AA14: 08=Bijagos | AB14: =CONCATENATE("2 Não ► (",AE4,")") -> 2 Não ► (1,19) | AC14: =CONCATENATE("2 Não► (",AH4,")") -> 2 Não► (1,22) | AE14: 05 Burquina Faso | AG14: 07 Falta de terras | AH14: =CONCATENATE(" 2 Não ►(",AJ4,")") -> 2 Não ►(1,24) | AJ14: 2 Não | AK14: 5 Superior | AL14: 2 Minas, pedreiras | AM14: 4 Operário ou trabalhador não qualificado | AN14: 3 Grande empresa privada | AP14: =CONCATENATE("2 Não ►(",TEXT(AR4,"0.00"),")") -> 2 Não ►(0.01) | AR14: 2 Não | AS14: 5 Superior | AT14: 3 Indústrias, eletricidade, água | AU14: 4 Operário ou simples trabalhador | AV14: 3 Grande empresa privada | AW14: =CONCATENATE("1 Sim ") -> 1 Sim | AX14: 1 Sim
B15: PAI, MÃE DO CAF | F15: 06 Avós | L15: 2 Não ►(1.07) | N15: 5 Viúvo(a) ►(1.10) | Z15: 08 Togo | AA15: 09=Felupe | AE15: 06 Costa do Marfim | AG15: 08 Escola | AK15: 6 Não sabe (NS) | AL15: 3 Indústrias, eletricidade, água | AM15: 5 Servente | AS15: 6 Não sabe (NS) | AT15: 4 Construção civil | AU15: 5 Servente | AW15: 2 Não | AX15: =CONCATENATE(" 2 Non ►(",AZ4,")") -> 2 Non ►(1,39)
B16: NETOS E NETAS DO CAF | F16: 07 Irmão, irmã | L16: 3 NA ►(1.07) | M16: Se [NOME] dispõe de certidão de nascimento, certifique-se de que a data inscrita está em conformidade com 1.03 | N16: 6 Divorciado(a) ►(1.10) | Z16: 09 Nigéria | AA16: 10=Outras Etnias | AE16: 07 Guiné-Bissau | AG16: 09 Casamento | AM16: Não assalariado | AN16: 4 Empresa em nome individual | AT16: 5 Comércio | AU16: Não assalariado | AV16: 4 Empresa em nome individual
B17: OUTROS PARENTES DO CAF E/OU DAS SUAS ESPOSAS | F17: 08 Outros parentes do CAF/cônjuge | N17: 7 Separado(a) ►(1.10) | Z17: 10 Outra da CEDEAO | AA17: 11=Naturalizado | AE17: 08 Mali | AG17: 10 Divórcio | AL17: 4 Construção civil | AM17: 6 Patrão | AT17: 6 Transporte | AU17: 6 Patrão | AW17: 3 NA ►Pessoa seguinte
B18: PESSOAS SEM LAÇO DE PARENTESCO COM O CAF | N18: 8 NA ► (1.11) | Z18: 11 Outra em África | AE18: 09 Níger | AG18: 11 Perda do(a) cônjuge | AL18: 5 Comércio | AM18: 7 Trabalhador por conta própria | AN18: 5 Empresa associativa | AQ18: =CONCATENATE("►►(",AW4,")") -> ►►(1,36) | AT18: 7 Restauração, hotelaria | AU18: 7 Trabalhador por conta própria | AV18: 5 Empresa associativa
F19: 09 Pessoa não aparentada com o CAF/cônjuge | Z19: 12 Outro país não africano | AE19: 10 Senegal | AG19: 12 Doença de um membro do agregado familiar | AI19: =CONCATENATE("►►","(",AP4,")") -> ►►(1,29) | AL19: 6 Transporte | AM19: 8 Outra (ajuda à família, aprendiz) | AT19: =AL21 -> 8 Artes e espetáculos | AU19: 8 Outra (ajuda à família, aprendiz)
J20: (Relativamente à data do inquérito) | AE20: 11 Togo | AG20: 13 Outros problemas familiares: | AL20: 7 Restauração, hotelaria | AM20: 9 Não sabe (NS) | AN20: 6 Organismo International/ ONG | AT20: 9 Serviços | AU20: 9 Não sabe (NS) | AV20: 6 Organismo International/ ONG
AE21: 12 Nigéria | AG21: 14 Conflitos armados | AL21: 8 Artes e espetáculos | AN21: 7 Serviço doméstico | AT21: 10 Não sabe (NS) | AV21: 7 Serviço doméstico
B22: CASO HAJA MAIS DE 15 MEMBROS, UTILIZAR OUTRO QUESTIONÁRIO | F22: 10 Empregado(a) doméstico(a) ou parente do empregado(a) doméstico(a) | Z22: =CONCATENATE("Se [NOME] não for nacional do país do inquérito ►(",ROUND(AB4,2),")") -> Se [NOME] não for nacional do país do inquérito ►(1,17) | AE22: 13 Outra da CEDEAO | AG22: 15 Instabilidade política/económica | AL22: 9 Serviços | AN22: 8 Não sabe (NS) | AV22: 8 Não sabe (NS)
G23: Não sabe (NS) | AE23: 14 Outra em África | AG23: 16 Desastres naturais | AL23: 10 Não sabe (NS)
G24: 98 | H24: 98 | I24: 9998 | AE24: 15 Outro país não africano | AG24: 17 Outra (especificar)
B25: NOMES E APELIDOS | E25: CÓDIGO | F25: CÓDIGO | G25: DIA | H25: MÊS | I25: ANO | J25: ANOS | K25: MÊS | L25: CÓDIGO | M25: CÓDIGO | N25: CÓDIGO | O25: CÓDIGO | P25: ID | Q25: ID | R25: ID | S25: ID | T25: ANOS | V25: CÓDIGO | W25: CÓDIGO | X25: CÓDIGO | Y25: CÓDIGO | Z25: CÓDIGO | AA25: CÓDIGO | AB25: CÓDIGO | AC25: CÓDIGO | AE25: CÓDIGO | AF25: NÚMERO | AG25: CÓDIGO | AH25: CÓDIGO | AI25: CÓDIGO ID: | AJ25: CÓDIGO | AK25: CÓDIGO | AL25: CÓDIGO | AM25: CÓDIGO | AN25: CÓDIGO | AP25: CÓDIGO | AQ25: CÓDIGO ID: | AR25: CÓDIGO | AS25: CÓDIGO | AT25: CÓDIGO | AU25: CÓDIGO | AV25: CÓDIGO | AW25: CÓDIGO | AX25: CÓDIGO | AY25: FRANCOS CFA | AZ25: CÓDIGO
A26: 1 | C26: 1 | U26: 1 | AD26: 1 | AO26: 1
A27: 2 | C27: 2 | U27: 2 | AD27: 2 | AO27: 2
A28: 3 | C28: 3 | U28: 3 | AD28: 3 | AO28: 3
A29: 4 | C29: 4 | U29: 4 | AD29: 4 | AO29: 4
A30: 5 | C30: 5 | U30: 5 | AD30: 5 | AO30: 5
A31: 6 | C31: 6 | U31: 6 | AD31: 6 | AO31: 6
A32: 7 | C32: 7 | U32: 7 | AD32: 7 | AO32: 7
A33: 8 | C33: 8 | U33: 8 | AD33: 8 | AO33: 8
A34: 9 | C34: 9 | U34: 9 | AD34: 9 | AO34: 9
A35: 10 | C35: 10 | U35: 10 | AD35: 10 | AO35: 10
A36: 11 | C36: 11 | U36: 11 | AD36: 11 | AO36: 11
A37: 12 | C37: 12 | U37: 12 | AD37: 12 | AO37: 12
... A40: 15 | C40: 15 | U40: 15 | AD40: 15 | AO40: 15

Sheet S02_Educ
A1: SECÇÃO 2: EDUCAÇÃO (INDIVÍDUOS COM IDADE IGUAL OU SUPERIOR A 3 ANOS) | R1: SECÇÃO 2: EDUCAÇÃO (INDIVÍDUOS COM IDADE IGUAL OU SUPERIOR A 3 ANOS) | AF1: SECÇÃO 2: EDUCAÇÃO (INDIVÍDUOS COM IDADE IGUAL OU SUPERIOR A 3 ANOS) | AX1: SECÇÃO 2: EDUCAÇÃO (INDIVÍDUOS COM IDADE IGUAL OU SUPERIOR A 3 ANOS)
A3: CÓDIGO ID: | B3: 2 | C3: =B3+0.01 -> 2.01 | F3: =C3+0.01 -> 2.02 | I3: =F3+0.01 -> 2.03 | K3: =I3+0.01 -> 2.04 | O3: =K3+0.01 -> 2.05 | P3: =O3+0.01 -> 2.06 | Q3: =P3+0.01 -> 2.07 | R3: CÓDIGO ID: | S3: =Q3+0.01 -> 2.08 | T3: =S3+0.01 -> 2.09 | U3: =T3+0.01 -> 2.1 | V3: =U3+0.01 -> 2.11 | W3: =V3+0.01 -> 2.12 | Y3: =W3+0.01 -> 2.13 | AC3: =Y3+0.01 -> 2.14 | AD3: =AC3+0.01 -> 2.15 | AE3: =AD3+0.01 -> 2.16 | AF3: CÓDIGO ID: | AG3: =AE3+0.01 -> 2.17 | AH3: =+AG3+0.01 -> 2.18 | AQ3: =AH3+0.01 -> 2.19 | AR3: =AH3+0.01 -> 2.19 | AS3: =AR3+0.01 -> 2.2 | AT3: =AS3+0.01 -> 2.21 | AU3: =AT3+0.01 -> 2.22 | AV3: =AU3+0.01 -> 2.23 | AW3: =AV3+0.01 -> 2.24 | AX3: CÓDIGO ID: | AY3: =AW3+0.01 -> 2.25 | AZ3: =AY3+0.01 -> 2.26 | BA3: =AZ3+0.01 -> 2.27 | BB3: =BA3+0.01 -> 2.28 | BC3: =BB3+0.01 -> 2.29 | BD3: =BC3+0.01 -> 2.3 | BE3: =BD3+0.01 -> 2.31 | BF3: =BE3+0.01 -> 2.32 | BG3: =BF3+0.01 -> 2.33
B4: CÓDIGO ID do respondente | C4: [NOME] é capaz de ler um pequeno texto nas seguintes línguas? | F4: [NOME] é capaz de escrever um pequeno texto nas seguintes línguas? | I4: [NOME] seguiu ou segue atualmente estudos numa escola formal? | K4: Qual a razão principal para [NOME] não ter seguido estudos numa escola formal? | O4: [NOME] frequentou uma escola não formal ou uma formação não formal? | P4: Que tipo de educação não formal [NOME] frequentou? | Q4: Que idade tinha [NOME] quando entrou para a escola? | S4: [NOME] frequentou uma escola no ano letivo de 2016/2017? | T4: Quem dirigiu a escola frequentada por [NOME] no ano letivo de 2016/2017? | U4: Que resultado obteve [NOME] no ano letivo de 2016/2017? | V4: Por que razão [NOME] abandonou a escola durante o ano letivo? | W4: [NOME] frequenta uma escola no ano letivo de 2016/2017? | Y4: Qual a razão principal para [NOME] não ter andado na escola em 2016/17? | AC4: Qual é o nível de ensino frequentado por [NOME] no ano letivo de 2016/2017? | AD4: Qual é a área de estudos de [NOME]? | AE4: Que classe frequenta [NOME] no nível declarado no ano letivo de 2016/2017? | AG4: [NOME] está satisfeito com o ensino recebido na escola? | AH4: No contexto da sua escolaridade, [NOME] depara com algum dos problemas seguintes? | AQ4: Qui gère l'école que fréquente [NOM]? | AR4: Quem dirige a escola frequentada por [NOME] no ano letivo de 2017/2018? | AS4: Qual é o montante das taxas de inscrição e das propinas para o ano letivo de 2017/2018? | AT4: Qual é o montante das contribuições para o ano letivo de 2017/2018? | AU4: Qual é o montante das despesas de [NOME] com materiais (manuais, cadernos) para o ano letivo de 2017/2018 | AV4: Qual é o montante das despesas para os demais materiais escolares para o ano letivo de 2017/2018? | AW4: Qual é o montante das despesas de [NOME] com uniformes para o ano letivo de 2017/2018? | AY4: Qual é o montante das despesas de [NOME] com uniformes para o ano letivo de 2017/2018? | AZ4: Qual é o montante das despesas de [NOME] com o transporte escolar para o ano letivo de 2017/2018? | BA4: Qual é o montante das demais despesas escolares (curso de apoio ou reciclagem, etc.)? | BB4: Qual é o montante da bolsa/subsídio que [NOME] recebeu nos últimos 12 meses? | BC4: Qual é o nível de estudos mais elevado obtido por [NOME]? | BD4: Qual era a área de estudos de [NOME]? | BE4: Qual foi a última classe frequentada por [NOME] no nível declarado? | BF4: Em que ano [NOME] frequentou a escola pela última vez? | BG4: Qual é o diploma mais elevado obtido por [NOME]?
Y6: 01 Demasiado jovem
Y7: 02 Inexistência de escola, escola demasiado distante
K8: 01 Demasiado jovem | Y8: 03 Recusa da família | BD8: 0 Medicina, farmácia, etc
K9: 02 Inexistência de escola, escola demasiado distante | Y9: 04 Preferência por um emprego | AQ9: 1 GOUVERNEMENT | AR9: 1 Governo | BD9: 1 Ciências exatas (matemática, físico-química, ciências da vida e da Terra) | BG9: 00 Nenhum
C10: Escrever 1 para SIM ou 2 para NÃO | F10: Escrever 1 para SIM ou 2 para NÃO | K10: 03 Recusa da família | T10: 1 Governo | U10: =CONCATENATE("1 Diplomado, estudos concluídos ►(",ROUND(W3,2),")") -> 1 Diplomado, estudos concluídos ►(2,12) | V10: 1 Obteve um emprego | Y10: 05 Lavoura/pastorícia | AD10: 0 Medicina, farmácia, etc | AH10: Inscrever 1 para SIM ou 2 para NÃO | AQ10: 2 ORGANISATION RELIGIEUSE | AR10: 2 Gestão religiosa privada | BD10: 2 Artes, letras e ciências humanas | BG10: 01 EB (Ensino Básico 1º ciclo)
C11: nas casas correspondentes | F11: nas casas correspondentes | K11: 04 Preferência por um emprego | T11: 2 Gestão religiosa privada | V11: 2 Casou-se | Y11: 06 Serviço doméstico | AC11: =CONCATENATE("1 Pré-escolar ►(",TEXT(AE3,"0,16"),")") -> 1 Pré-escolar ►(2,16) | AD11: 1 Ciências exatas (matemática, físico-química, ciências da vida e da Terra) | AH11: nas casas correspondentes | AQ11: 3 LE PRIVE | AR11: 3 Gestão privada não religiosa | BD11: 3 Técnicas de administração e gestão | BE11: 1. 1.º ano | BG11: 02 EB (Ensino Básico 2º ciclo)
C12: A | D12: B | E12: D | F12: A | G12: B | H12: D | K12: 05 Lavoura/pastorícia | P12: 01 Escola corânica | T12: 3 Gestão privada não religiosa | U12: =CONCATENATE("2 Passou para classe superior ►(",W3,")") -> 2 Passou para classe superior ►(2,12) | V12: 3 É rapariga | Y12: 07 Pretende casar-se | AC12: =CONCATENATE("2 Ensino Basico ►(",TEXT(AE3,"0,16"),")") -> 2 Ensino Basico ►(2,16) | AG12: 1 Muito satisfeito | AQ12: 4 LA COMMUNAUTE | AR12: 4 Gestão internacional privada | BC12: =CONCATENATE("1 Pré-escolar ►(",TEXT(BE3,"0,31"),")") -> 1 Pré-escolar ►(2,31) | BD12: 4 Técnicas de informáticas e industrial (Engenharia civil, mecânica, eletrónica e informática) | BE12: 2. 2.º ano | BG12: 03 ES (Ensino Secundário 1º ciclo)
C13: Português | D13: Crioulo | E13: Outra língua | F13: Português | H13: Outra língua | K13: 06 Serviço doméstico | O13: 1 Sim | T13: 4 Gestão internacional privada | V13: 4 Gravidez | Y13: 08 É rapariga | AC13: =CONCATENATE("3 Secundário 1º ciclo ►(",TEXT(AE3,"0,16"),")") -> 3 Secundário 1º ciclo ►(2,16) | AE13: 1. 1.º ano | AG13: 2 Satisfeito | AH13: A | AI13: B | AJ13: C | AK13: D | AL13: E | AM13: F | AN13: G | AO13: H | AP13: I | AQ13: 9 AUTRES | AR13: 5 A Comunidade | BC13: =CONCATENATE("2 Ensino Basico ►(",TEXT(BE3,"0,31"),")") -> 2 Ensino Basico ►(2,31) | BD13: 5 Direito e ciências jurídicas | BE13: 3. 3.º ano | BF13: Colocar 9998 se NS (não sabe) | BG13: 04 ES (Ensino Secundário 2º ciclo)
K14: 07 É rapariga | O14: 2 Não ► Secção 3 | P14: 02 Formação profissional | T14: 5 A Comunidade | U14: =CONCATENATE("3 Reprovado, repetição►(",W3,")") -> 3 Reprovado, repetição►(2,12) | V14: 5 Estudos demasiado difíceis | Y14: 09 Gravidez | AC14: 4. Técnico/Profissional 1º ciclo | AE14: 2. 2.º ano | AG14: 3 Pouco satisfeito | AH14: Insuficiência de manuais/materiais | AI14: Insuficiência de mesas, bancos e equipamentos | AJ14: Absentismo dos professores/greve | AK14: Ensino pouco satisfatório | AL14: Excesso de pessoal | AM14: Insuficiência de professores | AN14: Falta de instalações sanitárias | AO14: Frequência das contribuições | AP14: Sala de aula em mau estado | AR14: 6 Outra (especificar) | BB14: ESCREVER ZERO SE A PESSOA NÃO TIVER RECEBIDO BOLSA NEM SUBSÍDIO | BC14: =CONCATENATE("3 Secundário 1º ciclo ►(",TEXT(BE3,"0,31"),")") -> 3 Secundário 1º ciclo ►(2,31) | BD14: 6. Ciências Económicas | BE14: 4. 4.º ano | BG14: 05 ETP (Ensino Técnico)
K15: 8 Propinas elevadas | S15: 1 Sim | T15: 6 Outra (especificar) | U15: =CONCATENATE("4 Reprovado, expulsão►(",W3,")") -> 4 Reprovado, expulsão►(2,12) | V15: 6 Escola demasiado distante | Y15: 10 Propinas elevadas | AC15: =CONCATENATE("5 Ensino Secundário 2º ciclo ►(",TEXT(AE3,"0,16"),")") -> 5 Ensino Secundário 2º ciclo ►(2,16) | AD15: 2 Artes, letras e ciências humanas | AE15: 3. 3.º ano | AG15: 4 Nada satisfeito | AS15: ESCREVER ZERO NO CASO DE UM MONTANTE NULO | AT15: ESCREVER ZERO NO CASO DE UM MONTANTE NULO | AU15: ESCREVER ZERO NO CASO DE UM MONTANTE NULO | AV15: ESCREVER ZERO NO CASO DE UM MONTANTE NULO | AW15: ESCREVER ZERO NO CASO DE UM MONTANTE NULO | AY15: ESCREVER ZERO NO CASO DE UM MONTANTE NULO | AZ15: ESCREVER ZERO NO CASO DE UM MONTANTE NULO | BA15: ESCREVER ZERO NO CASO DE UM MONTANTE NULO | BC15: 4. Técnico/Profissional 1º ciclo | BD15: 7. Outra (à especificar) | BE15: 5. 5.º ano | BG15: 06 EM (Ensino Médio)
I16: =CONCATENATE("1 Sim ►(",Q3,")") -> 1 Sim ►(2,07) | K16: 9 Falta de meios financeiros | P16: 03 Curso de alfabetização | S16: 2 Não | U16: 5 Abandono durante o ano letivo | V16: 7 Falta de meios financeiros | W16: =CONCATENATE("1 Sim ►(",AC3,")") -> 1 Sim ►(2,14) | Y16: 11 Falta de meios financeiros | AC16: =CONCATENATE("6 Técnico profissional 2º ciclo ") -> 6 Técnico profissional 2º ciclo | AD16: 3 Técnicas de administração e gestão | AE16: 4. 4.º ano | BC16: =CONCATENATE("5 Ensino Secundário 2º ciclo ►(",TEXT(BE3,"0,31"),")") -> 5 Ensino Secundário 2º ciclo ►(2,31) | BE16: 6. 6.º ano | BG16: 07 Licenciado
I17: 2 Não | K17: 10 Estudos inadequados | S17: =CONCATENATE("►(",W3,")") -> ►(2,12) | W17: 2 Não | Y17: 12 Estudos inadequados | AC17: =CONCATENATE("7 Ensino Superior ") -> 7 Ensino Superior | AE17: 5. 5.º ano | BC17: =CONCATENATE("6 Técnico profissional 2º ciclo ") -> 6 Técnico profissional 2º ciclo | BE17: 7. 7.º ano | BG17: 08 Mestrado
K18: 11 Estudos pouco úteis | P18: 04 Outros (aulas de línguas, etc.) | V18: 8 Serviço doméstico | Y18: 13 Estudos pouco úteis | AE18: 6. 6.º ano | BC18: =CONCATENATE("7 Ensino Superior ") -> 7 Ensino Superior | BE18: 8. 8º ano | BG18: 09 Doutorado
K19: 12 Doença/enfermidade | V19: 9 Trabalho agrícola, guarda de rebanhos | Y19: 14 Doença/enfermidade | AD19: 4 Técnicas de informáticas e industrial (Engenharia civil, mecânica, eletrónica e informática) | AE19: 7. 7.º ano | BE19: 9. 9º ano
K20: 13 Insegurança | P20: ►►Secção 3 | Y20: 15 Estudos concluídos | AE20: 8. 8º ano | BE20: 10. 10º ano
K21: 14 Outra (especificar) | V21: 10 Violência, insegurança | Y21: 16 Abandono, insucesso escolar | AD21: 5 Direito e ciências jurídicas | AE21: 9. 9º ano
V22: 11 Outra (especificar) | Y22: 17 Outra (especificar) | AE22: 10. 10º ano
Y23: =CONCATENATE("►► ","(",ROUND(BC3, 2),")") -> ►► (2,29) | AD23: 6. Ciências Económicas | BB23: =CONCATENATE("►► (",ROUND(BG3,2),")") -> ►► (2,33)
AD24: 7. Outra (à especificar)
B25: CÓDIGO ID: | G25: Crioulo | I25: CÓDIGO | K25: CÓDIGO | O25: CÓDIGO | P25: CÓDIGO | Q25: ANOS | S25: CÓDIGO | T25: CÓDIGO | U25: CÓDIGO | V25: CÓDIGO | W25: CÓDIGO | Y25: CÓDIGO | AC25: CÓDIGO | AD25: CÓDIGO | AE25: CÓDIGO | AG25: CÓDIGO | AR25: CÓDIGO | AS25: MONTANTE EM FRANCOS CFA | AT25: MONTANTE EM FRANCOS CFA | AU25: MONTANTE EM FRANCOS CFA | AV25: MONTANTE EM FRANCOS CFA | AW25: MONTANTE EM FRANCOS CFA | AY25: MONTANTE EM FRANCOS CFA | AZ25: MONTANTE EM FRANCOS CFA | BA25: MONTANTE EM FRANCOS CFA | BB25: MONTANTE EM FRANCOS CFA | BC25: CÓDIGO | BD25: CÓDIGO | BE25: CÓDIGO | BF25: ANO | BG25: CÓDIGO
A26: 1 | R26: 1 | AF26: 1 | AX26: 1
A27: 2 | R27: 2 | AF27: 2 | AX27: 2
A28: 3 | R28: 3 | AF28: 3 | AX28: 3
A29: 4 | R29: 4 | AF29: 4 | AX29: 4
A30: 5 | R30: 5 | AF30: 5 | AX30: 5
A31: 6 | R31: 6 | AF31: 6 | AX31: 6
A32: 7 | R32: 7 | AF32: 7 | AX32: 7
A33: 8 | R33: 8 | AF33: 8 | AX33: 8
A34: 9 | R34: 9 | AF34: 9 | AX34: 9
A35: 10 | R35: 10 | AF35: 10 | AX35: 10
A36: 11 | R36: 11 | AF36: 11 | AX36: 11
A37: 12 | R37: 12 | AF37: 12 | AX37: 12
... A40: 15 | R40: 15 | AF40: 15 | AX40: 15

Sheet S03_Sante
A1: SECÇÃO 3: SAÚDE GERAL | P1: SECÇÃO 3: SAÚDE GERAL | AI1: SECÇÃO 3: SAÚDE GERAL | BA1: SECÇÃO 3: SAÚDE GERAL
A4: CÓDIGO ID: | B4: 3 | C4: =B4+0.01 -> 3.01 | D4: =C4+0.01 -> 3.02 | F4: =D4+0.01 -> 3.03 | G4: =F4+0.01 -> 3.04 | I4: =G4+0.01 -> 3.05 | J4: =I4+0.01 -> 3.06 | L4: =J4+0.01 -> 3.07 | N4: =L4+0.01 -> 3.08 | O4: =N4+0.01 -> 3.09 | P4: CÓDIGO ID: | Q4: =O4+0.01 -> 3.1 | Z4: =Q4+0.01 -> 3.11 | AB4: =Z4+0.01 -> 3.12 | AC4: =AB4+0.01 -> 3.13 | AD4: =AC4+0.01 -> 3.14 | AE4: =AD4+0.01 -> 3.15 | AF4: =AE4+0.01 -> 3.16 | AG4: =AF4+0.01 -> 3.17 | AH4: =AG4+0.01 -> 3.18 | AI4: CÓDIGO ID: | AJ4: =AH4+0.01 -> 3.19 | AK4: =AJ4+0.01 -> 3.2 | AL4: =AK4+0.01 -> 3.21 | AM4: =AL4+0.01 -> 3.22 | AN4: =AM4+0.01 -> 3.23 | AO4: =AN4+0.01 -> 3.24 | AP4: =AO4+0.01 -> 3.25 | AQ4: =AP4+0.01 -> 3.26 | AR4: =AQ4+0.01 -> 3.27 | ... AZ4: =AY4+0.01 -> 3.35 | BA4: CÓDIGO ID: | BB4: =AZ4+0.01 -> 3.36 | BC4: =BB4+0.01 -> 3.37 | BD4: =BC4+0.01 -> 3.38 | BE4: =BD4+0.01 -> 3.39 | BF4: =BE4+0.01 -> 3.4 | BG4: =BF4+0.01 -> 3.41 | BH4: =BG4+0.01 -> 3.42 | BI4: =BH4+0.01 -> 3.43 | BJ4: =BI4+0.01 -> 3.44 | ... BL4: =BK4+0.01 -> 3.46
B5: CÓDIGO ID do respondente | C5: [NOME] teve um problema de saúde, doença ou acidente durante os últimos 30 dias que não resultou em hospitalização? | D5: Qual foi o principal problema de saúde que [NOME] teve? | F5: O problema de saúde impediu [NOME] de exercer as suas atividades quotidianas normais? | G5: Durante quanto tempo a doença de [NOME] impediu o exercício das suas atividades quotidianas normais? | I5: [NOME] foi examinado numa unidade de saúde (incluindo uma farmácia) ou por um curandeiro tradicional nos últimos 30 dias relativamente a esse problema de saúde? | J5: Qual a razão principal para [NOME] não ter sido examinado? | L5: Onde foi [NOME] examinado pela primeira vez por causa deste episódio de doença? | N5: Quem consultou [NOME] pela primeira vez por causa deste episódio de doença? | O5: [NOME] ficou satisfeito com o serviço recebido nesta primeira consulta? | Q5: [NOME] teve problemas após a sua consulta? | Z5: Qual é a distância entre o domicílio de [NOME] e a localidade desta primeira consulta? | AB5: [NOME] consultou-se num serviço de saúde ou num curandeiro, inclusive para uma consulta pré-natal, durante os últimos 3 meses sem hospitalização/internamento? | AC5: Qual foi o montante das despesas de consulta num médico de clínica geral, excetuando hospitalização, de [NOME] nos últimos 3 meses? | AD5: Qual foi o montante das despesas de consulta num médico especialista, excetuando hospitalização, de [NOME] nos últimos 3 meses? | AE5: Qual foi o montante das despesas de consulta num dentista de [NOME] nos últimos 3 meses? | AF5: Qual foi o montante das despesas de consulta num curandeiro tradicional de [NOME] nos últimos 3 meses? | AG5: Qual foi o montante das despesas com exames médicos e cuidados de saúde de [NOME], excetuando hospitalização, nos últimos 3 meses? | AH5: Qual foi o montante das despesas com medicamentos, excetuando hospitalização (incluindo medicamentos tradicionais) de [NOME] nos últimos 3 meses? | AJ5: [NOME] teve um problema de saúde nos últimos 12 meses que resultou a pelo menos numa hospitalização? | AK5: Quantas vezes [NOME] foi hospitalizado nos últimos 12 meses? | AL5: Qual foi o último problema de saúde para o qual [NOME] foi hospitalizado nos últimos 12 meses? | AM5: Para o último problema de saúde que exigiu hospitalização nos últimos 12 meses, quantos dias [NOME] permaneceu no hospital? Para o último problema de saúde que exigiu hospitalização nos últimos 12 meses, quantos dias [NAME] permaneceu no hospital? | AN5: Onde foi [NOME] hospitalizado por este último problema de saúde? | AO5: Qual foi o montante de despesas de hospitalização para este último problema de saúde? | AP5: [NOME] incorreu em despesas com dispositivos médicos terapêuticos, como muletas, cadeira de rodas, prótese dentária, óculos graduados, etc. nos últimos 12 meses? | AQ5: Qual foi o montante das despesas com lentes de correção e armação de óculos nos últimos 12 meses? | AR5: Qual foi o montante despendido nos últimos 12 meses com muletas, cadeiras de rodas ou veículo para inválidos com ou sem motor, próteses dentárias, próteses auditivas ou outros dispositivos terapêuticos e ortopédicos? | AS5: [NOME] incorreu em despesas de vacinação, circuncisão, controlo geral de saúde (check-up) nos últimos 12 meses? | AT5: Qual foi o montante das despesas de vacinação? | AU5: Qual foi o montante das despesas de circuncisão? | AV5: Qual foi o montante das despesas do controlo geral de saúde (check-up)? | AW5: [NOME] está coberto por algum seguro médico? | AX5: Qual é a taxa de reembolso? | AY5: Quem patrocina/financia o seguro médico de [NOME]? | AZ5: Qual é a forma de reembolso? | BB5: [NOME] beneficia de algum encargo particular (Mutualismo e consulta gratuita)? | BC5: De que encargo de saúde se trata? | BD5: [NOME] dorme habitualmente debaixo de um mosquiteiro? | BE5: [NOME] dormiu de baixo de um mosquiteiro na noite passada? Se Sim este mosquiteiro é impregnado ou simples | BF5: À exceção do mosquiteiro, qual é o meio principall que [NOME] utiliza para se proteger contra as picadas dos mosquitos? | BG5: [NOME] tem dificuldades de visão mesmo com óculos? | BH5: [NOME] tem dificuldades de audição mesmo com um aparelho auditivo? | BI5: [NOME] tem dificuldade em andar ou subir escadas? | BJ5: [NOME] tem dificuldades de memória ou concentração? | BK5: [NOME] tem dificuldade em executar tarefas como lavar-se ou vestir-se? | BL5: [NOME] tem dificuldade em comunicar ou fazer-se entender na sua língua habitual?
Q8: Inscrever 1 para SIM e 2 para NÃO
M9: Público
D10: 1 Febre/malária | J10: 1 | K10: Não foi necessário | L10: 1 | M10: Hospital nacional
D11: 2 Diarreia | J11: 2 | K11: Demasiado caro | L11: 2 | M11: Hospital regional (incluíndo hospital de policia, militar) | N11: 1 Médico especialista | Q11: A | R11: B | S11: C | T11: D | U11: E | V11: F | W11: G | X11: H | Y11: I
D12: 3 Acidente/ferimento | J12: 3 | K12: Demasiado distante | L12: 3 | M12: Centro de saúde urbano | N12: 2 Médico de clínica geral | Q12: ESTABELECIMENTO EM MÁS CONDIÇÕES DE HIGIENE | R12: LONGA ESPERA | S12: PESSOAL NÃO QUALIFICADO | T12: DEMASIADO CARO | U12: FALTA DE MEDICAMENTO | V12: TRATAMENTO INEFICAZ | W12: ACOLHIMENTO DEFICIENTE | X12: AUSÊNCIA DO PESSOAL | Y12: OUTRO | Z12: 1. Menos de 1 km | AY12: 1 Privado (individual) | AZ12: 1 Adiantamento de despesas | BF12: 1 Inseticidas
D13: 4 Problema dentário | G13: 1 | H13: Menos de uma semana | J13: 4 | K13: Automedicação | L13: 4 | M13: Centro de saúde rural | N13: 3 Dentista | O13: 1 Muito satisfeito | Z13: 2. Entre 1 e 2 km | AL13: 1 Febre/malária | AN13: Publico | AY13: 2 Estado/ programa | BF13: 2.Cremes inseticidas
AL14: 2 Diarreia | AN14: 1 Hospital nacional
AL15: 3 Acidente/ferimento | AN15: 2 Hospital regional (incluíndo hospital de policia, militar)
AL16: 4 Problema dentário | AN16: 3 Centro de saúde urbano
AL17: 5 Problema de pele | AN17: 4 Centro de saúde rural
AL18: 6 Doença dos olhos | AN18: 5 Unidade de sanitária rural
AL19: 7 Problema de tensão | AN19: 6 Outro Serviço de saúde publico
AL20: 8 Febre tifoide | AN20: Privado
AL21: 9 Problema gástrico | AN21: 7 Hospital/clínica privada
AL22: 10 Dores de garganta | AN22: 8 Consultório médico/dentário/oftamologia
AL23: 11 Tosse, constipação, gripe | AN23: 9 Sala de tratamento
D24: 5 Problema de pele | J24: 5 | K24: Falta de confiança | L24: 5 | M24: Unidade de sanitária rural | N24: 4 Enfermeiro(a) | O24: 2 Satisfeito | Z24: 3. Entre 2 e 5 km | AL24: 12 Diabetes | AN24: 10 Clinica da empresa, outra privada ou ONG | AO24: Em caso de hospitalização gratuita, inscrever 00 | AW24: 1 Sim | AY24: 3 Estado é a entidade patronal | AZ24: 2 Terceiro pagador | BC24: 1. Mutualismo de saúde | BD24: 1 Sim | BF24: 3. Espirais inseticidas | BG24: 1 Não, nenhuma dificuldade | BH24: 1 Não, nenhuma dificuldade | BI24: 1 Não, nenhuma dificuldade | BJ24: 1 Não, nenhuma dificuldade | BK24: 1 Não, nenhuma dificuldade | BL24: 1 Não, nenhuma dificuldade
D25: 6 Doença dos olhos | G25: 2 | H25: Entre uma e duas semanas | J25: 6 | K25: Receio do resultado | L25: 6 | M25: Outro Serviço de saúde | N25: 5 Parteira | O25: 3 Pouco satisfeito | Z25: 4. Entre 5 e 15 km | AC25: Em caso de consulta gratuita, inscrever 00 | AD25: Em caso de consulta gratuita, inscrever 00 | AE25: Em caso de consulta gratuita, inscrever 00 | AF25: Em caso de consulta gratuita, inscrever 00 | AG25: Em caso de exames gratuitos, inscrever 00 | AH25: Em caso de medicamentos recebidos gratuitamente, inscrever 00 | AL25: 13 Meningite | AN25: 11 No curandeiro | AQ25: Em caso de dispositivos recebidos gratuitamente, inscrever 00 | AT25: Em caso de vacinação gratuita, Escrever 00 | AU25: Em caso de circuncisão gratuita, Escrever 00 | AV25: Em caso de check-up gratuito, Escrever 00 | AW25: =CONCATENATE("2 Não ►(",ROUND(BB4,2),")") -> 2 Não ►(3,36) | AY25: 4 Entidade patronal | BB25: 1 Sim | BC25: 2. Programa de consulta gratuito de crianças (05 anos) | BD25: 2 Não | BF25: 4. Redes nas janelas
D26: 7 Problema de tensão | F26: 1 Sim | J26: 7 | K26: Recusa | N26: 6 Enfermeiro/a auxiliar | O26: 4 Nada satisfeito | Z26: 5. 15 km ou mais | AL26: 14 Outro | AY26: 5 Outro (especificar) | AZ26: 3 Ambos | BB26: =CONCATENATE("2 Não ►(",TEXT(BD4,"0,00"),")") -> 2 Não ►(3,38) | BC26: 3 Programa de mulheres grávidas | BF26: 5 Outro (especificar) | BG26: 2 Sim, alguma dificuldade | BH26: 2 Sim, alguma dificuldade | BI26: 2 Sim, alguma dificuldade | BJ26: 2 Sim, alguma dificuldade | BK26: 2 Sim, alguma dificuldade | BL26: 2 Sim, alguma dificuldade
C27: 1 Sim | D27: 8 Febre tifoide | F27: 2 Não ►(3.05) | G27: 3 | H27: Mais de duas semanas | J27: 8 | K27: Falta de dinheiro | M27: Privado | N27: 7 Farmacêutico | BC27: 4. Programa gratuito de idosos | BF27: 6 Nada
C28: =CONCATENATE("2 Não ►(",AB4,")") -> 2 Não ►(3,12) | D28: 9 Problema gástrico | J28: 9 | K28: Outro (especificar) | L28: 7 | M28: Hospital/clínica privada | N28: 8 Madrona | AO28: Se NA escrever 9999 | AR28: Em caso de dispositivos recebidos gratuitamente, inscrever 00 | AS28: 1 Sim | BC28: 5. Seguro de saúde privado | BE28: 1 Mosquiteiro impregnado | BG28: 3 Sim, muita dificuldade | BH28: 3 Sim, muita dificuldade | BI28: 3 Sim, muita dificuldade | BJ28: 3 Sim, muita dificuldade | BK28: 3 Sim, muita dificuldade | BL28: 3 Sim, muita dificuldade
D29: 10 Dores de garganta | I29: 1 Sim►(3.07) | L29: 8 | M29: 4 Consultório médico/dentário/oftamologia | N29: 9 Agente tecnico de Saúde | AC29: Se NA escrever 9999 | AD29: Se NA escrever 9999 | AE29: Se NA escrever 9999 | AF29: Se NA escrever 9999 | AG29: Se NA escrever 9999 | AH29: Se NA escrever 9999 | AQ29: Se NA escrever 9999 | AS29: =CONCATENATE("2 Não ►(",ROUND(AW4,2),")") -> 2 Não ►(3,32) | BE29: 2 Mosquiteiro simples
D30: 11 Tosse, constipação, gripe | I30: 2 Não | L30: 9 | M30: Sala de tratamento | N30: 10 Outro pessoal de saúde | AJ30: 1 Sim | AP30: 1 Sim | BE30: 3. Não | BG30: 4 É totalmente incapaz | BH30: 4 É totalmente incapaz | BI30: 4 É totalmente incapaz | BJ30: 4 É totalmente incapaz | BK30: 4 É totalmente incapaz | BL30: 4 É totalmente incapaz
D31: 12 Diabetes | L31: 10 | M31: Farmácia | N31: 11 Curandeiro/Marabo | AA31: =CONCATENATE("►► (",AC4,")") -> ►► (3,13) | AB31: 1 Sim | AJ31: =CONCATENATE("2 Não ►(",ROUND(AP4,2),")") -> 2 Não ►(3,25) | AP31: =CONCATENATE("2 Não ►(",ROUND(AS4,2),")") -> 2 Não ►(3,28) | AR31: Se NA escrever 9999 | AT31: Se NA escrever 9999 | AU31: Se NA escrever 9999 | AV31: Se NA escrever 9999
D32: 13 Meningite | L32: 11 | M32: Clinida da empresa, outra privada ou ONG | AB32: =CONCATENATE("2 Não ►(",#REF!,")") -> #REF!
D33: 14 Outro (especificar) | J33: =CONCATENATE("►► (",AB4,")") -> ►► (3,12) | L33: 12 | M33: No curandeiro | AB33: =CONCATENATE("2 Não ►(",ROUND(AJ4,2),")") -> 2 Não ►(3,19) | BG33: 5 Não abrangido (menos de 5 anos) | BH33: 5 Não abrangido (menos de 5 anos) | BI33: 5 Não abrangido (menos de 5 anos) | BJ33: 5 Não abrangido (menos de 5 anos) | BK33: 5 Não abrangido (menos de 5 anos) | BL33: 5 Não abrangido (menos de 5 anos)
AC34: MONTANTE EM FRANCOS CFA | AD34: MONTANTE EM FRANCOS CFA | AE34: MONTANTE EM FRANCOS CFA | AF34: MONTANTE EM FRANCOS CFA | AG34: MONTANTE EM FRANCOS CFA | AH34: MONTANTE EM FRANCOS CFA | AK34: NUMERO | AM34: NUMERO | AO34: MONTANTE EM FRANCOS CFA | AQ34: MONTANTE EM FRANCOS CFA | AR34: MONTANTE EM FRANCOS CFA | AT34: MONTANTE EM FRANCOS CFA | AU34: MONTANTE EM FRANCOS CFA | AV34: MONTANTE EM FRANCOS CFA | AX34: PERCENTAGEM
C35: CÓDIGO | D35: CÓDIGO | F35: CÓDIGO | G35: CÓDIGO | I35: CÓDIGO | J35: CÓDIGO | L35: CÓDIGO | N35: CÓDIGO | O35: CÓDIGO | Z35: CÓDIGO | AB35: CÓDIGO | AJ35: CÓDIGO | AL35: CÓDIGO | AN35: CÓDIGO | AP35: CÓDIGO | AS35: CÓDIGO | AW35: CÓDIGO | AY35: CÓDIGO | AZ35: CÓDIGO | BB35: CÓDIGO | BC35: CÓDIGO | BD35: CÓDIGO | BE35: CÓDIGO | BF35: CÓDIGO | BG35: CÓDIGO | BH35: CÓDIGO | BI35: CÓDIGO | BJ35: CÓDIGO | BK35: CÓDIGO | BL35: CÓDIGO
A36: 01 | P36: 01 | AI36: 01 | BA36: 01
A37: 02 | P37: 02 | AI37: 02 | BA37: 02
A38: 3 | P38: 3 | AI38: 3 | BA38: 3
A39: 4 | P39: 4 | AI39: 4 | BA39: 4
A40: 5 | P40: 5 | AI40: 5 | BA40: 5
A41: 6 | P41: 6 | AI41: 6 | BA41: 6
A42: 7 | P42: 7 | AI42: 7 | BA42: 7
A43: 8 | P43: 8 | AI43: 8 | BA43: 8
A44: 9 | P44: 9 | AI44: 9 | BA44: 9
...

Sheet S04_Emploi_A
A1: SECÇÃO 4: EMPREGO | M1: SECÇÃO 4: EMPREGO | V1: SECÇÃO 4: EMPREGO
A2: PARTE A: SITUAÇÃO RELACIONADA COM A ATIVIDADE (INDIVÍDUOS COM IDADE IGUAL OU SUPERIOR A 5 ANOS) | M2: PARTE A: SITUAÇÃO RELACIONADA COM A ATIVIDADE (INDIVÍDUOS COM IDADE IGUAL OU SUPERIOR A 5 ANOS) | V2: PARTE A: SITUAÇÃO RELACIONADA COM A ATIVIDADE (INDIVÍDUOS COM IDADE IGUAL OU SUPERIOR A 5 ANOS)
A4: CÓDIGO ID: | B4: 4 | C4: =B4+0.01 -> 4.01 | D4: =C4+0.01 -> 4.02 | E4: =D4+0.01 -> 4.03 | F4: =E4+0.01 -> 4.04 | G4: =F4+0.01 -> 4.05 | H4: =G4+0.01 -> 4.06 | I4: =H4+0.01 -> 4.07 | J4: =I4+0.01 -> 4.08 | ... L4: =K4+0.01 -> 4.1 | M4: CÓDIGO ID: | N4: =L4+0.01 -> 4.11 | O4: =N4+0.01 -> 4.12 | P4: =O4+0.01 -> 4.13 | Q4: =P4+0.01 -> 4.14 | R4: =Q4+0.01 -> 4.15 | S4: =R4+0.01 -> 4.16 | T4: =S4+0.01 -> 4.17 | U4: =T4+0.01 -> 4.18 | V4: CÓDIGO ID: | W4: 4.19 | X4: =W4+0.01 -> 4.2 | Y4: =X4+0.01 -> 4.21 | Z4: =Y4+0.01 -> 4.22 | AA4: =Z4+0.01 -> 4.23 | AB4: =AA4+0.01 -> 4.24 | AI4: =AB4+0.01 -> 4.25 | AJ4: =AI4+0.01 -> 4.26 | AK4: =AJ4+0.01 -> 4.27 | AL4: =AK4+0.01 -> 4.28
B5: Código ID do respondente | C5: Nos últimos 7 dias, quantas horas [NOME] dedicou a fazer compras no mercado? | D5: Nos últimos 7 dias, quantas horas [NOME] dedicou a tarefas domésticas? | E5: Nos últimos 7 dias, quantas horas [NOME] dedicou a cuidar de crianças ou de idosos? | F5: Nos últimos 7 dias, quantas horas [NOME] dedicou a ir buscar água? | G5: Nos últimos 7 dias, quantas horas [NOME] dedicou a ir buscar lenha? | H5: Nos últimos 7 dias, [NOME] trabalhou pelo menos uma hora num campo ou jardim de sua propriedade ou [NOME] criou animais, praticou pesca ou caça por conta própria? | I5: Nos últimos 7 dias, [NOME] trabalhou pelo menos uma hora, com remuneração (em natureza/produto ou em dinheiro), numa loja, numa atividade de transformação ou num serviço comercial por conta própria ou por conta de outro membro do agregado familiar? Por exemplo, como artesão, comerciante ou advogado, médico ou outra atividade independente? | J5: Nos últimos 7 dias, [NOME] trabalhou pelo menos uma hora numa empresa, para o Estado, para um patrão ou para qualquer outra pessoa que não seja membro do seu agregado familiar? (mesmo a tempo parcial ou ocasionalmente) | K5: Nos últimos 7 dias, [NOME] trabalhou pelo menos uma hora como aprendiz ou estagiário com remuneração (em Natureza/produto ou em dinheiro? | L5: Entre as respostas às perguntas 4.06, 4.07, 4.08, 4.09, alguma foi afirmativa (CÓDIGO 1)? | N5: Mesmo que [NOME] não tenha trabalhado nos últimos 7 dias, exerce alguma ocupação que devesse ter exercido nesses últimos 7 dias? | O5: Por que razão [NOME] não trabalhou nos últimos 7 dias? | P5: Declarou não ter exercido qualquer atividade nos últimos 7 dias, mas trabalhou num campo ou jardim por conta de outro membro do agregado familiar sem remuneração? | Q5: Declarou não ter exercido qualquer atividade nos últimos 7 dias, mas trabalhou numa loja, numa atividade de transformação ou num serviço por conta de outro membro do agregado familiar sem remuneração? | R5: [NOME] procurou um emprego remunerado nos últimos 30 dias? | S5: Como faz [NOME] para prover principalmente às suas necessidades? | T5: [NOME] procurou um emprego remunerado nos últimos 30 dias? | U5: Qual a razão principal para [NOME] não ter procurado trabalho nos últimos 30 dias? | X5: Quando estará [NOME] disponível para trabalhar? | Y5: Há quantos meses [NOME] está desempregado? | Z5: Há quantos meses anda à procura de emprego? | AA5: Por que razão [NOME] procura trabalho? | AB5: Através de que canais [NOME] procura trabalho? | AI5: Que tipo de emprego procura [NOME]? | AJ5: A que montante minimo mensal NOME está disposto a trabalhar | AK5: =CONCATENATE("Mesmo que [NOME] não tenha trabalhado nos últimos 7 dias, entre as atividades enumeradas nas perguntas ",ROUND(H4,2),", ",ROUND(I4,2),", ",ROUND(J4,2), " e ", ROUND(P4,2)," existe alguma que [NOME] tenha exercido nos últimos 12 meses?",) -> Mesmo que [NOME] não tenha trabalhado nos últimos 7 dias, entre as atividades enumeradas nas perguntas 4,06, 4,07, 4,08 e 4,13 existe alguma que [NOME] tenha exercido nos últimos 12 meses? | AL5: Que emprego exerceu [NOME] a título principal e a título secundário nos últimos 12 meses?
W6: Mesmo assim (NOME) está disponível para trabalhar imediatamente?
S8: 1 Recebe uma pensão
S9: 2 Recebe alugueres/rendas | U9: 1 Demasiado jovem | X9: 1 Imediatamente
O10: 1 Licença, férias | S10: 3 Recebe uma bolsa/transferência | U10: 2 Estudante/aluno | X10: 2 Dentro de 15 dias | AB10: Escrever 1 para SIM e 2 para NÃO | AL10: 1 Agricultura, pecuária, caça, pesca por conta própria ou do agregado familiar
O11: 2 Licença de maternidade | S11: 4 Vive das poupanças | U11: 3 Demasiado idoso | X11: 3 Entre 15 dias e um mês | AB11: nas casas correspondentes | AI11: 1 Assalariado público
O12: 3 Paragem temporária por sua própria conta | S12: 5 Vive do produto das suas colheitas | U12: 4 Reformado | AA12: 1 Perda do emprego anterior | AI12: 2 Assalariado privado
S13: 6 Vive de transferências de alimentos gratuitos | U13: 5 Dona de casa | X13: 3 Mais de um mês | AB13: Relações pessoais, pais | AC13: Concurso, junto dos empregadores | AD13: Petites annonces par Radio, TV, Journal, Internet | AE13: Agência Nacional de Promoção de Emprego | AF13: Agência de emprego | AG13: Iniciativa pessoal (criar o seu próprio negócio) | AH13: Outro | AI13: =CONCATENATE("3 Explorador agrícola ► (",ROUND(AK4,2),")") -> 3 Explorador agrícola ► (4,27) | AL13: 2 Empresa em nome individual não agrícola por conta própria
O14: 4 Baixa por doença | S14: 7 Está a cargo da família | U14: 6 Doença/deficiência | AA14: 2 Procura o primeiro emprego
O15: 5 Em greve | S15: 8 Mendiga | U15: =CONCATENATE("7 Não quer trabalhar ►(",ROUND(AK4,2),")") -> 7 Não quer trabalhar ►(4,27) | W15: =CONCATENATE("1 Sim") -> 1 Sim | Y15: Se for Menos de um mês, Escrever 0 | Z15: Se for Menos de um mês, Escrever 0 | AI15: =CONCATENATE("4 Independente não-agrícola► (", ROUND(AK4,2),")") -> 4 Independente não-agrícola► (4,27) | AL15: 3 Assalariado público ou privado
O16: 6 Suspensão temporária | S16: 9 Outro (especificar) | U16: 8 Aguarda o arranque da sua própria empresa | W16: =CONCATENATE("2 Não ►(",ROUND(AK4,2),")") -> 2 Não ►(4,27)
O17: 7 Em formação ou em estágio | U17: 9 Aguarda resposta a uma candidatura a emprego | AI17: 5 Indiferente | AL17: 4 Trabalho ocasional ou a tempo parcial
O18: 8 Outro (especificar) | R18: 1 Sim | U18: 10 Falta de emprego
R19: 2 Não | U19: 11 Não sabe como procurar | AL19: 5 Aprendiz
R20: =CONCATENATE("►►(",ROUND(S04_Emploi_B!B4,2),"), PARTE B") -> ►►(4,29), PARTE B | U20: 12 Desemprego sazonal | AK20: 1 Sim
T21: =CONCATENATE("1 Sim ►(",X4,")") -> 1 Sim ►(4,2) | U21: 13 Outro (especificar) | AK21: 2 Não ► Secção 5 | AL21: (Atenção: Os dois empregos podem ter o mesmo código, por exemplo, dois empregos assalariados)
H22: 1 Sim | I22: 1 Sim | J22: 1 Sim | K22: 1 Sim | L22: =CONCATENATE("1 Sim ►(",ROUND(S04_Emploi_B!B4,2),") PARTE B") -> 1 Sim ►(4,29) PARTE B | N22: 1 Sim | O22: =CONCATENATE("►►(",ROUND(S04_Emploi_B!B4,2),"), PARTE B") -> ►►(4,29), PARTE B | P22: =CONCATENATE("1 Sim ►(",R4,")") -> 1 Sim ►(4,15) | Q22: 1 Sim | T22: 2 Não
H23: 2 Não | I23: 2 Não | J23: 2 Não | K23: 2 Não | L23: 2 Não | N23: =CONCATENATE("2 Não ►(",P4,")") -> 2 Não ►(4,13) | P23: 2 Não | Q23: =CONCATENATE("2 Não ►(",S4,")") -> 2 Não ►(4,16) | U23: =CONCATENATE("► ► (",ROUND(AK4,2),")") -> ► ► (4,27)
AJ24: MONTANTE EM FRANCOS CFA | AL24: =CONCATENATE("►►(",ROUND(S04_Emploi_B!B4,2),")", " PARTE B") -> ►►(4,29) PARTE B
C25: HORAS | D25: HORAS | E25: HORAS | F25: HORAS | G25: HORAS | H25: CÓDIGO | I25: CÓDIGO | J25: CÓDIGO | K25: CÓDIGO | L25: CÓDIGO | N25: CÓDIGO | O25: CÓDIGO | P25: CÓDIGO | Q25: CÓDIGO | R25: CÓDIGO | S25: CÓDIGO | T25: CÓDIGO | U25: CÓDIGO | X25: CÓDIGO | Y25: MÊS | Z25: MÊS | AA25: CÓDIGO | AI25: CÓDIGO | AK25: CÓDIGO | AL25: PRINCIPAL | AM25: SECUNDÁRIO
A26: 01 | M26: 01 | V26: 01
A27: 02 | M27: 02 | V27: 02
A28: 3 | M28: 3 | V28: 3
A29: 4 | M29: 4 | V29: 4
A30: 5 | M30: 5 | V30: 5
A31: 6 | M31: 6 | V31: 6
A32: 7 | M32: 7 | V32: 7
A33: 8 | M33: 8 | V33: 8
A34: 9 | M34: 9 | V34: 9
A35: 10 | M35: 10 | V35: 10
A36: 11 | M36: 11 | V36: 11
A37: 12 | M37: 12 | V37: 12
A38: 13 | M38: 13 | V38: 13
A39: 14 | M39: 14 | V39: 14
A40: 15 | M40: 15 | V40: 15

Sheet S04_Emploi_B
A1: SECÇÃO 4: EMPREGO | M1: SECÇÃO 4: EMPREGO | AC1: SECÇÃO 4: EMPREGO
A2: PARTE B: B EMPREGO PRINCIPAL DURANTE OS ÚLTIMOS 12 MESES (INDIVÍDUOS COM IDADE IGUAL OU SUPERIOR A 6 ANOS) | M2: PARTE B: B EMPREGO PRINCIPAL DURANTE OS ÚLTIMOS 12 MESES (INDIVÍDUOS COM IDADE IGUAL OU SUPERIOR A 6 ANOS) | AC2: PARTE B: B EMPREGO PRINCIPAL DURANTE OS ÚLTIMOS 12 MESES (INDIVÍDUOS COM IDADE IGUAL OU SUPERIOR A 6 ANOS)
A4: CÓDIGO ID: | B4: =S04_Emploi_A!AL4+0.01 -> 4.29 | D4: =B4+0.01 -> 4.3 | F4: =D4+0.01 -> 4.31 | G4: =F4+0.01 -> 4.32 | H4: =G4+0.01 -> 4.33 | I4: =H4+0.01 -> 4.34 | J4: =I4+0.01 -> 4.35 | K4: =J4+0.01 -> 4.36 | L4: =K4+0.01 -> 4.37 | M4: CÓDIGO ID: | N4: =L4+0.01 -> 4.38 | O4: =N4+0.01 -> 4.39 | P4: =O4+0.01 -> 4.4 | Q4: =P4+0.01 -> 4.41 | R4: =Q4+0.01 -> 4.42 | S4: =R4+0.01 -> 4.43 | V4: =S4+0.01 -> 4.44 | W4: =V4+0.01 -> 4.45 | AC4: CÓDIGO ID: | AD4: =W4+0.01 -> 4.46 | AE4: =AD4+0.01 -> 4.47 | AK4: =AE4+0.01 -> 4.48 | AM4: =AK4+0.01 -> 4.49 | AP4: =AM4+0.01 -> 4.5
B5: Gostaria de lhe fazer algumas perguntas sobre o emprego principal que ocupou nos últimos 12 meses; trata-se do emprego ao qual dedica habitualmente mais tempo exercido nos últimos 12 meses. Descreva por favor o emprego ou a profissão que [NOME] exerceu nos últimos 12 meses. O que fez no âmbito deste emprego? | D5: Qual é a atividade da empresa em que [NOME] esteve empregado ou que produtos (serviços) fabrica (fornece)? | F5: Qual é o principal empregador de [NOME] neste emprego? | G5: Quantos meses [NOME] exerceu este emprego nos últimos 12 (incluindo férias pagas)? Se menos de 1 mês, escrever 0 | H5: [NOME] beneficia de férias pagas? | I5: Quantos dias de férias anuais [NOME] gozou nos últimos 12 meses? | J5: [NOME] beneficia de baixa por doença? | K5: Quantos dias por mês [NOME] dedica habitualmente a este emprego? | L5: Quantas horas por dia [NOME] dedica habitualmente a este emprego? | N5: [NOME] contribui para o INSS (Instituto Nacional de Segurança Social) ou para o Fundo Nacional de Reformas no âmbito deste emprego? | O5: Qual é a categoria socioprofissional de [NOME] neste emprego? | P5: [NOME] beneficia de licença de maternidade/paternidade? | Q5: Qual é o número de dias de licença de maternidade/paternidade regulamentar? | R5: [NOME] tem um recibo de ordenado? | S5: Qual foi o salário de [NOME] neste emprego (para o período de tempo considerado)? | V5: [NOME] beneficia de prémio no âmbito deste emprego? | W5: Em quanto avalia os prémios (apenas aqueles que não estão incluídos no salário)? | AD5: [NOME] beneficia de outras regalias (subsídio de transporte, subsídio de alojamento, etc. que não alimentação) não incluídas no salário no âmbito deste emprego? | AE5: Em quanto avalia as regalias (apenas aquelas que não estão incluídas no salário)? | AK5: Recebe alimentação no âmbito deste emprego? | AM5: Em quanto avalia esta alimentação? | AP5: Além do emprego principal que acaba de ser descrito, [NOME] exerceu algum emprego secundário nos últimos 12 meses?
AM8: SE NS, INSCREVER 99998
X9: SE NS, ESCREVER 9999 | AF9: SE NS, ESCREVER 9999
O10: Assalariado | AM10: CÓDIGO DA UNIDADE DE TEMPO
O11: 1 Quadro superior | T11: UNIDADE DE TEMPO | AM11: 1 | AN11: SEMANA
F12: =CONCATENATE("1 Estado/associações locais") -> 1 Estado/associações locais | O12: 2 Quadro médio/supervisor | S12: 1 | T12: SEMANA | AM12: 2 | AN12: MÊS
F13: =CONCATENATE("2 Empresa pública/parapública") -> 2 Empresa pública/parapública | O13: 3 Operário ou trabalhador qualificado | S13: 2 | T13: MÊS | AM13: 3 | AN13: TRIMESTRE
O14: 4 Operário ou trabalhador não qualificado | R14: 1 Sim | S14: 3 | T14: TRIMESTRE | AK14: 1 Sim | AM14: 4 | AN14: ANO
F15: 3 Empresa privada | O15: 5 Servente, serviço doméstico | R15: 2 Não | S15: 4 | T15: ANO | X15: CÓDIGO DA UNIDADE DE TEMPO | AF15: CÓDIGO DA UNIDADE DE TEMPO | AK15: =CONCATENATE("2 Não ►(",ROUND(AP4,2),")") -> 2 Não ►(4,5)
F16: 4 Empresa associativa | H16: 1 Sim | J16: 1 Sim | N16: 1 Sim | O16: 6 Estagiário ou aprendiz remunerado | P16: 1 Sim | X16: 1 | Y16: SEMANA | AF16: 1 | AG16: SEMANA
B17: (Escrever na coluna da esquerda o descritivo do emprego ou da profissão; na coluna da direita, inscrever o código correspondente depois da entrevista. Os códigos do emprego/profissão encontram-se no anexo do manual do agente entrevistador) | D17: (Escrever na coluna da esquerda o descritivo do ramo de atividade; na coluna da direita, inscrever o código correspondente depois da entrevista. Os códigos dos ramos de atividade encontram-se no anexo do manual do agente entrevistador) | F17: =CONCATENATE("5 Agregado familiar como empregador de pessoal doméstico") -> 5 Agregado familiar como empregador de pessoal doméstico | H17: =CONCATENATE("2 Não ► (",TEXT(J4,"0,00"),")") -> 2 Não ► (4,35) | J17: =CONCATENATE("2 Não ") -> 2 Não | N17: 2 Não | O17: =CONCATENATE("Não assalariado ► (",TEXT(AP4,"0,00"),")") -> Não assalariado ► (4,50) | P17: =CONCATENATE("2 Não ► (",TEXT(R4,"0,00"),")") -> 2 Não ► (4,42) | X17: 2 | Y17: MÊS | AF17: 2 | AG17: MÊS
O18: 7 Estagiário ou aprendiz não remunerado | V18: 1 Sim | X18: 3 | Y18: TRIMESTRE | AF18: 3 | AG18: TRIMESTRE | AP18: 1 Sim
F19: =CONCATENATE("6 Organismo internacional /Embaixada") -> 6 Organismo internacional /Embaixada | O19: 8 Trabalhador familiar, contribuinte na empresa familiar. | V19: =CONCATENATE("2 Não ►( ",ROUND(AD4,2),")") -> 2 Não ►( 4,46) | X19: 4 | Y19: ANO | AF19: 4 | AG19: ANO | AP19: 2 Não ► Secção 5
O20: 9 Trabalhador por conta própria | AD20: 1 Sim
O21: 10 Patrão | AD21: =CONCATENATE("2 Não ►( ",ROUND(AK4,2),")") -> 2 Não ►( 4,48)
U23: UNIDADE DE TEMPO | W23: FRANCOS CFA | Z23: UNIDADE DE TEMPO | AE23: FRANCOS CFA | AH23: UNIDADE DE TEMPO | AM23: FRANCOS CFA | AO23: UNIDADE DE TEMPO
B24: EMPREGO/PROFISSÃO | C24: CÓDIGO | D24: RAMO DE ATIVIDADE | E24: CÓDIGO | F24: CÓDIGO | G24: MÊS | H24: CÓDIGO | I24: DIAS | J24: CÓDIGO | K24: DIAS | L24: HORAS | N24: CÓDIGO | O24: CÓDIGO | P24: CÓDIGO | Q24: DIAS | R24: CÓDIGO | S24: MONTANTE EM FRANCOS CFA | AD24: CÓDIGO | AK24: CÓDIGO | AP24: CÓDIGO
A25: 01 | M25: 01 | AC25: 01
A26: 02 | M26: 02 | AC26: 02
A27: 3 | M27: 3 | AC27: 3
A28: 4 | M28: 4 | AC28: 4
A29: 5 | M29: 5 | AC29: 5
A30: 6 | M30: 6 | AC30: 6
A31: 7 | M31: 7 | AC31: 7
A32: 8 | M32: 8 | AC32: 8
A33: 9 | M33: 9 | AC33: 9
A34: 10 | M34: 10 | AC34: 10
A35: 11 | M35: 11 | AC35: 11
A36: 12 | M36: 12 | AC36: 12
A37: 13 | M37: 13 | AC37: 13
A38: 14 | M38: 14 | AC38: 14
A39: 15 | M39: 15 | AC39: 15

Sheet S04_Emploi_C
A1: SECÇÃO 4: EMPREGO | K1: SECÇÃO 4: EMPREGO
A2: PARTE C: EMPREGO SECUNDÁRIO DURANTE OS ÚLTIMOS 12 MESES (INDIVÍDUOS COM IDADE IGUAL OU SUPERIOR A 5 ANOS) | K2: PARTE C: EMPREGO SECUNDÁRIO DURANTE OS ÚLTIMOS 12 MESES (INDIVÍDUOS COM IDADE IGUAL OU SUPERIOR A 5 ANOS)
A4: CÓDIGO ID: | B4: =S04_Emploi_B!AP4+0.01 -> 4.51 | D4: =B4+0.01 -> 4.52 | F4: =D4+0.01 -> 4.53 | G4: =F4+0.01 -> 4.54 | H4: =G4+0.01 -> 4.55 | I4: =H4+0.01 -> 4.56 | J4: =I4+0.01 -> 4.57 | K4: CÓDIGO ID: | L4: =J4+0.01 -> 4.58 | O4: =L4+0.01 -> 4.59 | P4: =O4+0.01 -> 4.6 | V4: =P4+0.01 -> 4.61 | W4: =V4+0.01 -> 4.62 | AC4: =W4+0.01 -> 4.63 | AE4: =AC4+0.01 -> 4.64
