Workbook
Name another: #REF!
Name blah: #REF!
Name Blahh: '[1](1) HOUSEHOLD ROSTER'!$B$1
Name cc: #REF!
Name ex: #REF!
Name food: #REF!
Name help: #REF!
Name malawi: #REF!
Name new: #REF!
Name Perberja_Familjare: #REF!
Name q: #REF!
Name SECTION_1: #REF!
Name SECTION_1__HOUSEHOLD_INFORMATION: #REF!
Name shc: '[2](1) HOUSEHOLD ROSTER'!$B$1
Name TEST: '[2](1) HOUSEHOLD ROSTER'!$B$1
Name test22: #REF!
Name tillf: #REF!
Name tillf2: '[3](1) HOUSEHOLD ROSTER'!$B$1
Name VAL: '[4](1) HOUSEHOLD ROSTER'!$B$1
Name WHATTHAT: #REF!
Name xx: '[2](1) HOUSEHOLD ROSTER'!$B$1
Name xxx: #REF!
Name zz: #REF!

Sheet couvert
C2: MINISTERE DE L'ECONOMIE, DES FINANCES | AL2: BURKINA FASO
C3: ET DU DEVELOPPEMENT | AL3: Unité-Progrès-Justice
F4: ----------
C5: SECRETARIAT GENERAL
F6: ----------
C7: INSTITUT NATIONAL DE LA STATISTIQUE
C8: ET DE LA DEMOGRAPHIE
V12: IDENTIFIANT DU MARCHE
V13: STRATE | AD13: MARCHE
AM15: LA BANQUE MONDIALE
A17: ENQUÊTE SUR LES UNITES NON STANDARDS 2017/2018
A18: AVEC L'APPUI DE LA COMMISSION DE L'UEMOA ET DE LA BANQUE MONDIALE
A21: Coordonnées GPS du marché | AG21: Sous quel format l'interview a-t-il ete effectué?
AG23: 1. PAPI
A24: Latitude | H24: N | AG24: 2. CAPI
A26: Longitude | H26: W
B29: Nom du Marché:
B31: Adresse (localisation) du marché:
A33: CONFIDENTIEL : Extrait de la loi n°12-2007/AN du 31 mai 2007 portant organisation et réglementation des activités statistiques. Article 08: Les données individuelles d'ordre économique et financier recueillies par les services ou organismes mentionnés à l'alinéa précédent ne peuvent en aucun cas être utilisées à des fins de contrôle fiscal, économique ou social, ni à des fins de recherche de la part des autorités administratives, politiques, militaires, policières ou judiciaires. Article 13: Les personnes physiques et morales soumises à des opérations d'enquêtes et de recensements statistiques organisés conformément aux dispositions de la présente loi, sont tenues sont tenues de répondre avec exactitude dans les délais impartis, aux questionnaires relatifs à ces opérations.

Sheet S0_Cont
A1: SECTION 0: RENSEIGNEMENTS DE CONTROLE
A3: A | B3: Identification du marché
A4: 01.- | B4: Région | E4: NOM: | L4: CODE:
A5: 02.- | B5: Province | E5: NOM: | L5: CODE:
A6: 03.- | B6: Commune/Département | E6: NOM: | L6: CODE:
A7: 04.- | B7: Milieu de résidence | F7: 1. Urbain 2. Rural | L7: CODE:
A8: 05.- | B8: Village/Quartier | E8: NOM:
A9: 06.- | B9: Nº de la strate | L9: CODE:
A10: 07.- | B10: Numéro du marché dans la strate | L10: CODE:
A12: B | B12: Caractéristiques du marché
A13: 08.- | B13: Nom du marché | E13: NOM:
A14: 09.- | B14: Localisation du marché | E14: NOM:
A15: 10.- | B15: Jours de marché | L15: Code (1= Oui, 2 = Non)
K16: A | L16: Lundi
K17: B | L17: Mardi
K18: C | L18: Mercredi
K19: D | L19: Jeudi
K20: E | L20: Vendredi
K21: F | L21: Samedi
K22: G | L22: Dimanche
A24: C | B24: Renseignements de contrôle
A25: 11.- | B25: Prénom et nom de l'agent enquêteur | L25: CODE:
A26: 12.- | B26: Prénom et nom du contrôleur | L26: CODE:
D27: Jour | F27: Mois | H27: Année | J27: Heure | L27: Minutes
A28: 13.- | B28: Début de collecte
A29: 14.- | B29: Fin de collecte
A30: 15.- | B30: Contrôle
A31: 16.- | B31: Résultat du questionnaire | D31: 1=Complet 2=Partiel | L31: CODE:
A32: 17.- | B32: Langue | D32: 01=Moore 02=Dioula 03=Foulfouldé 04=Gourmatchema 05=Bobo 06=Senoufo 07=Lobiri 08=San/Samo 09=Dagari 10=Français 11=Lélé/Nuni/Kassena 12=Bissa 13=Bwamu 14=Autre | L32: CODE:

Sheet S1_Relevés
A1: SECTION 1. Relevé des poids et prix | B1: NA
B2: NA
A3: 1 | C3: =A3+0.01 -> 1.01 | E3: =C3+0.01 -> 1.02 | F3: =E3+0.01 -> 1.03 | J3: =F3+0.01 -> 1.04 | K3: =J3+0.01 -> 1.05 | L3: =K3+0.01 -> 1.06 | M3: =L3+0.01 -> 1.07 | N3: =M3+0.01 -> 1.08 | P3: =N3+0.01 -> 1.09 | Q3: =P3+0.01 -> 1.1 | S3: =Q3+0.01 -> 1.11 | T3: =S3+0.01 -> 1.12
A4: Produit | C4: Unite | F4: Taille | N4: Relevé 1 | Q4: Relevé 2 | T4: Relevé 3
A5: Libellé | B5: CODE | C5: Libellé | D5: CODE | E5: Spécifier le nom de la nouvelle unité NOM | F5: Libellé | G5: CODE | J5: L'article a-t-il été mesuré 1 = Oui ►1.07 2 = Non | K5: Pourquoi l'article n'a pas été mesuré? 1. Produit non-disponible à cette periode (2 à 4) ►article suivant 2. Produit non-disponible en général dans ce marché 3. Unité non-utilisée dans ce marché 4. Autre (à specifier) | L5: Ecrire le code du mois òu le produit sera disponible prochainement. (1 pour Janvier, 2 pour Février, etc.) ►► Article suivant | M5: Quelle balance a été utilisée pour les relevés? 1. Balance personnelle 2. Balance certifiée du marché 3. Balance non-certifiée du marché CODE | N5: Poids (KG) | O5: Prix (FCFA) | P5: Y a-t-il un second relevé? 1 = Oui 2 = Non ►article suivant CODE | Q5: Poids (KG) | R5: Prix (FCFA) | S5: Y a-t-il un troisième relevé? 1 = Oui 2 = Non ►article suivant CODE | T5: Poids (KG) | U5: Prix (FCFA)
A6: CÉRÉALES ET PAINS | B6: NA | H6: =CONCATENATE(C6,IF(F6="N/A","",CONCATENATE(", ",F6))) -> ,
A7: Riz (Bagré/Sourou/Bama) | B7: 1 | C7: Kg | D7: =VLOOKUP(C7,Unités!A:B,2,FALSE) -> 100 | F7: N/A | G7: 0 | H7: =CONCATENATE(C7,IF(F7="N/A","",CONCATENATE(", ",F7))) -> Kg | I7: =CONCATENATE(D7,G7) -> 1000
A8: Riz (Bagré/Sourou/Bama) | B8: 1 | C8: Sac (25 Kg) | D8: =VLOOKUP(C8,Unités!A:B,2,FALSE) -> #N/A | F8: N/A | G8: 0 | H8: =CONCATENATE(C8,IF(F8="N/A","",CONCATENATE(", ",F8))) -> Sac (25 Kg) | I8: =CONCATENATE(D8,G8) -> #N/A
A9: Riz (Bagré/Sourou/Bama) | B9: 1 | C9: Sac (50 Kg) | D9: =VLOOKUP(C9,Unités!A:B,2,FALSE) -> #N/A | F9: N/A | G9: 0 | H9: =CONCATENATE(C9,IF(F9="N/A","",CONCATENATE(", ",F9))) -> Sac (50 Kg) | I9: =CONCATENATE(D9,G9) -> #N/A
A10: Riz (Bagré/Sourou/Bama) | B10: 1 | C10: Sac (100 Kg) | D10: =VLOOKUP(C10,Unités!A:B,2,FALSE) -> #N/A | F10: N/A | G10: 0 | H10: =CONCATENATE(C10,IF(F10="N/A","",CONCATENATE(", ",F10))) -> Sac (100 Kg) | I10: =CONCATENATE(D10,G10) -> #N/A
A11: Riz (Bagré/Sourou/Bama) | B11: 1 | C11: Boîte de tomate | D11: =VLOOKUP(C11,Unités!A:B,2,FALSE) -> 108 | F11: petit | G11: 1 | H11: =CONCATENATE(C11,IF(F11="N/A","",CONCATENATE(", ",F11))) -> Boîte de tomate, petit | I11: =CONCATENATE(D11,G11) -> 1081
A12: Riz (Bagré/Sourou/Bama) | B12: 1 | C12: Boîte de tomate | D12: =VLOOKUP(C12,Unités!A:B,2,FALSE) -> 108 | F12: moyen | G12: 2 | H12: =CONCATENATE(C12,IF(F12="N/A","",CONCATENATE(", ",F12))) -> Boîte de tomate, moyen | I12: =CONCATENATE(D12,G12) -> 1082
A13: Riz (Bagré/Sourou/Bama) | B13: 1 | C13: Boîte de tomate | D13: =VLOOKUP(C13,Unités!A:B,2,FALSE) -> 108 | F13: grand | G13: 3 | H13: =CONCATENATE(C13,IF(F13="N/A","",CONCATENATE(", ",F13))) -> Boîte de tomate, grand | I13: =CONCATENATE(D13,G13) -> 1083
A14: Riz (Bagré/Sourou/Bama) | B14: 1 | C14: Calebasse | D14: =VLOOKUP(C14,Unités!A:B,2,FALSE) -> 115 | F14: petit | G14: 1 | H14: =CONCATENATE(C14,IF(F14="N/A","",CONCATENATE(", ",F14))) -> Calebasse, petit | I14: =CONCATENATE(D14,G14) -> 1151
A15: Riz (Bagré/Sourou/Bama) | B15: 1 | C15: Calebasse | D15: =VLOOKUP(C15,Unités!A:B,2,FALSE) -> 115 | F15: moyen | G15: 2 | H15: =CONCATENATE(C15,IF(F15="N/A","",CONCATENATE(", ",F15))) -> Calebasse, moyen | I15: =CONCATENATE(D15,G15) -> 1152
A16: Riz (Bagré/Sourou/Bama) | B16: 1 | C16: Calebasse | D16: =VLOOKUP(C16,Unités!A:B,2,FALSE) -> 115 | F16: grand | G16: 3 | H16: =CONCATENATE(C16,IF(F16="N/A","",CONCATENATE(", ",F16))) -> Calebasse, grand | I16: =CONCATENATE(D16,G16) -> 1153
A17: Riz (Bagré/Sourou/Bama) | B17: 1 | C17: Quart-Yorouba | D17: =VLOOKUP(C17,Unités!A:B,2,FALSE) -> #N/A | F17: N/A | H17: =CONCATENATE(C17,IF(F17="N/A","",CONCATENATE(", ",F17))) -> Quart-Yorouba
A18: Riz (Bagré/Sourou/Bama) | B18: 1 | C18: Demi-Yorouba | D18: =VLOOKUP(C18,Unités!A:B,2,FALSE) -> #N/A | F18: N/A | G18: 0 | H18: =CONCATENATE(C18,IF(F18="N/A","",CONCATENATE(", ",F18))) -> Demi-Yorouba | I18: =CONCATENATE(D18,G18) -> #N/A
A19: Riz (Bagré/Sourou/Bama) | B19: 1 | C19: Yorouba | D19: =VLOOKUP(C19,Unités!A:B,2,FALSE) -> #N/A | F19: N/A | G19: 0 | H19: =CONCATENATE(C19,IF(F19="N/A","",CONCATENATE(", ",F19))) -> Yorouba | I19: =CONCATENATE(D19,G19) -> #N/A
A20: Riz (Bagré/Sourou/Bama) | B20: 1 | C20: Tine | D20: =VLOOKUP(C20,Unités!A:B,2,FALSE) -> #N/A | F20: N/A | G20: 0 | H20: =CONCATENATE(C20,IF(F20="N/A","",CONCATENATE(", ",F20))) -> Tine | I20: =CONCATENATE(D20,G20) -> #N/A
A21: Autre riz local | B21: =B7+1 -> 2 | C21: Kg | D21: =VLOOKUP(C21,Unités!A:B,2,FALSE) -> 100 | F21: N/A | G21: 0 | H21: =CONCATENATE(C21,IF(F21="N/A","",CONCATENATE(", ",F21))) -> Kg | I21: =CONCATENATE(D21,G21) -> 1000
A22: Autre riz local | B22: 2 | C22: Sac (25 Kg) | D22: =VLOOKUP(C22,Unités!A:B,2,FALSE) -> #N/A | F22: N/A | G22: 0 | H22: =CONCATENATE(C22,IF(F22="N/A","",CONCATENATE(", ",F22))) -> Sac (25 Kg) | I22: =CONCATENATE(D22,G22) -> #N/A
A23: Autre riz local | B23: 2 | C23: Sac (50 Kg) | D23: =VLOOKUP(C23,Unités!A:B,2,FALSE) -> #N/A | F23: N/A | G23: 0 | H23: =CONCATENATE(C23,IF(F23="N/A","",CONCATENATE(", ",F23))) -> Sac (50 Kg) | I23: =CONCATENATE(D23,G23) -> #N/A
A24: Autre riz local | B24: 2 | C24: Sac (100 Kg) | D24: =VLOOKUP(C24,Unités!A:B,2,FALSE) -> #N/A | F24: N/A | G24: 0 | H24: =CONCATENATE(C24,IF(F24="N/A","",CONCATENATE(", ",F24))) -> Sac (100 Kg) | I24: =CONCATENATE(D24,G24) -> #N/A
A25: Autre riz local | B25: 2 | C25: Boîte de tomate | D25: =VLOOKUP(C25,Unités!A:B,2,FALSE) -> 108 | F25: petit | G25: 1 | H25: =CONCATENATE(C25,IF(F25="N/A","",CONCATENATE(", ",F25))) -> Boîte de tomate, petit | I25: =CONCATENATE(D25,G25) -> 1081
A26: Autre riz local | B26: 2 | C26: Boîte de tomate | D26: =VLOOKUP(C26,Unités!A:B,2,FALSE) -> 108 | F26: moyen | G26: 2 | H26: =CONCATENATE(C26,IF(F26="N/A","",CONCATENATE(", ",F26))) -> Boîte de tomate, moyen | I26: =CONCATENATE(D26,G26) -> 1082
A27: Autre riz local | B27: 2 | C27: Boîte de tomate | D27: =VLOOKUP(C27,Unités!A:B,2,FALSE) -> 108 | F27: grand | G27: 3 | H27: =CONCATENATE(C27,IF(F27="N/A","",CONCATENATE(", ",F27))) -> Boîte de tomate, grand | I27: =CONCATENATE(D27,G27) -> 1083
A28: Autre riz local | B28: 2 | C28: Calebasse | D28: =VLOOKUP(C28,Unités!A:B,2,FALSE) -> 115 | F28: petit | G28: 1 | H28: =CONCATENATE(C28,IF(F28="N/A","",CONCATENATE(", ",F28))) -> Calebasse, petit | I28: =CONCATENATE(D28,G28) -> 1151
A29: Autre riz local | B29: 2 | C29: Calebasse | D29: =VLOOKUP(C29,Unités!A:B,2,FALSE) -> 115 | F29: moyen | G29: 2 | H29: =CONCATENATE(C29,IF(F29="N/A","",CONCATENATE(", ",F29))) -> Calebasse, moyen | I29: =CONCATENATE(D29,G29) -> 1152
A30: Autre riz local | B30: 2 | C30: Calebasse | D30: =VLOOKUP(C30,Unités!A:B,2,FALSE) -> 115 | F30: grand | G30: 3 | H30: =CONCATENATE(C30,IF(F30="N/A","",CONCATENATE(", ",F30))) -> Calebasse, grand | I30: =CONCATENATE(D30,G30) -> 1153
A31: Autre riz local | B31: 2 | C31: Quart-Yorouba | D31: =VLOOKUP(C31,Unités!A:B,2,FALSE) -> #N/A
A32: Autre riz local | B32: 2 | C32: Demi-Yorouba | D32: =VLOOKUP(C32,Unités!A:B,2,FALSE) -> #N/A | F32: N/A | G32: 0 | H32: =CONCATENATE(C32,IF(F32="N/A","",CONCATENATE(", ",F32))) -> Demi-Yorouba | I32: =CONCATENATE(D32,G32) -> #N/A
A33: Autre riz local | B33: 2 | C33: Yorouba | D33: =VLOOKUP(C33,Unités!A:B,2,FALSE) -> #N/A | F33: N/A | G33: 0 | H33: =CONCATENATE(C33,IF(F33="N/A","",CONCATENATE(", ",F33))) -> Yorouba | I33: =CONCATENATE(D33,G33) -> #N/A
A34: Autre riz local | B34: 2 | C34: Tine | D34: =VLOOKUP(C34,Unités!A:B,2,FALSE) -> #N/A | F34: N/A | G34: 0 | H34: =CONCATENATE(C34,IF(F34="N/A","",CONCATENATE(", ",F34))) -> Tine | I34: =CONCATENATE(D34,G34) -> #N/A
A35: Riz importé long grain | B35: =B21+1 -> 3 | C35: Kg | D35: =VLOOKUP(C35,Unités!A:B,2,FALSE) -> 100 | F35: N/A | G35: 0 | H35: =CONCATENATE(C35,IF(F35="N/A","",CONCATENATE(", ",F35))) -> Kg | I35: =CONCATENATE(D35,G35) -> 1000
A36: Riz importé long grain | B36: 3 | C36: Sac (25 Kg) | D36: =VLOOKUP(C36,Unités!A:B,2,FALSE) -> #N/A | F36: N/A | G36: 0 | H36: =CONCATENATE(C36,IF(F36="N/A","",CONCATENATE(", ",F36))) -> Sac (25 Kg) | I36: =CONCATENATE(D36,G36) -> #N/A
A37: Riz importé long grain | B37: 3 | C37: Sac (50 Kg) | D37: =VLOOKUP(C37,Unités!A:B,2,FALSE) -> #N/A | F37: N/A | G37: 0 | H37: =CONCATENATE(C37,IF(F37="N/A","",CONCATENATE(", ",F37))) -> Sac (50 Kg) | I37: =CONCATENATE(D37,G37) -> #N/A
A38: Riz importé long grain | B38: 3 | C38: Sac (5 Kg) | D38: =VLOOKUP(C38,Unités!A:B,2,FALSE) -> #N/A
A39: Riz importé brisures | B39: =B35+1 -> 4 | C39: Kg | D39: =VLOOKUP(C39,Unités!A:B,2,FALSE) -> 100 | F39: N/A | G39: 0 | H39: =CONCATENATE(C39,IF(F39="N/A","",CONCATENATE(", ",F39))) -> Kg | I39: =CONCATENATE(D39,G39) -> 1000
A40: Riz importé brisures | B40: 4 | C40: Sac (25 Kg) | D40: =VLOOKUP(C40,Unités!A:B,2,FALSE) -> #N/A | F40: N/A | G40: 0 | H40: =CONCATENATE(C40,IF(F40="N/A","",CONCATENATE(", ",F40))) -> Sac (25 Kg) | I40: =CONCATENATE(D40,G40) -> #N/A
...

Sheet Unités
A1: Unité | B1: Code unité | C1: Unité | D1: Code unité
A2: Kg | B2: 100 | C2: Panier | D2: 128
A3: Litre | B3: 101 | C3: Paquet | D3: 129
A4: Alvéole | B4: 102 | C4: Plaquette | D4: 130
A5: Avec os au Kg | B5: 103 | C5: Pot | D5: 131
A6: Avec os au tas | B6: 104 | C6: Régime | D6: 132
A7: Bassine | B7: 105 | C7: Sac | D7: 133
A8: Bidon | B8: 106 | C8: Sac (10 Kg) | D8: 134
A9: Boite | B9: 107 | C9: Sac (100 Kg) | D9: 135
A10: Boîte de tomate | B10: 108 | C10: Sac (25 Kg) | D10: 136
A11: Bol | B11: 109 | C11: Sac (5 Kg) | D11: 137
A12: Botte | B12: 110 | C12: Sac (50 Kg) | D12: 138
A13: Boule | B13: 111 | C13: Sachet | D13: 139
... A28: Morceau | B28: 126 | C28: Entier | D28: 255
A29: Moudou | B29: 127
