Workbook
Name another: #REF!
Name blah: #REF!
Name Blahh: '[1](1) HOUSEHOLD ROSTER'!$B$1
Name cc: #REF!
Name ex: #REF!
Name food: #REF!
Name help: #REF!
Name malawi: #REF!
Name new: #REF!
Name Perberja_Familjare: #REF!
Name q: #REF!
Name SECTION_1: #REF!
Name SECTION_1__HOUSEHOLD_INFORMATION: #REF!
Name shc: '[2](1) HOUSEHOLD ROSTER'!$B$1
Name TEST: '[2](1) HOUSEHOLD ROSTER'!$B$1
Name test22: #REF!
Name tillf: #REF!
Name tillf2: '[3](1) HOUSEHOLD ROSTER'!$B$1
Name VAL: '[4](1) HOUSEHOLD ROSTER'!$B$1
Name WHATTHAT: #REF!
Name xx: '[2](1) HOUSEHOLD ROSTER'!$B$1
Name xxx: #REF!
Name zz: #REF!

Sheet couvert
C2: MINISTERE DE L'ECONOMIE, DES FINANCES | AL2: BURKINA FASO
C3: ET DU DEVELOPPEMENT | AL3: Unité-Progrès-Justice
F4: ----------
C5: SECRETARIAT GENERAL
F6: ----------
C7: INSTITUT NATIONAL DE LA STATISTIQUE
C8: ET DE LA DEMOGRAPHIE
V12: IDENTIFIANT DU MARCHE
V13: STRATE | AD13: MARCHE
AM15: LA BANQUE MONDIALE
A17: ENQUÊTE SUR LES UNITES NON STANDARDS 2017/2018
A18: AVEC L'APPUI DE LA COMMISSION DE L'UEMOA ET DE LA BANQUE MONDIALE
A21: Coordonnées GPS du marché | AG21: Sous quel format l'interview a-t-il ete effectué?
AG23: 1. PAPI
A24: Latitude | H24: N | AG24: 2. CAPI
A26: Longitude | H26: W
B29: Nom du Marché:
B31: Adresse (localisation) du marché:
A33: CONFIDENTIEL : Extrait de la loi n°12-2007/AN du 31 mai 2007 portant organisation et réglementation des activités statistiques. Article 08: Les données individuelles d'ordre économique et financier recueillies par les services ou organismes mentionnés à l'alinéa précédent ne peuvent en aucun cas être utilisées à des fins de contrôle fiscal, économique ou social, ni à des fins de recherche de la part des autorités administratives, politiques, militaires, policières ou judiciaires. Article 13: Les personnes physiques et morales soumises à des opérations d'enquêtes et de recensements statistiques organisés conformément aux dispositions de la présente loi, sont tenues sont tenues de répondre avec exactitude dans les délais impartis, aux questionnaires relatifs à ces opérations.

Sheet S0_Cont
A1: SECTION 0: RENSEIGNEMENTS DE CONTROLE
A3: A | B3: Identification du marché
A4: 01.- | B4: Région | E4: NOM: | L4: CODE:
A5: 02.- | B5: Province | E5: NOM: | L5: CODE:
A6: 03.- | B6: Commune/Département | E6: NOM: | L6: CODE:
A7: 04.- | B7: Milieu de résidence | F7: 1. Urbain 2. Rural | L7: CODE:
A8: 05.- | B8: Village/Quartier | E8: NOM:
A9: 06.- | B9: Nº de la strate | L9: CODE:
A10: 07.- | B10: Numéro du marché dans la strate | L10: CODE:
A12: B | B12: Caractéristiques du marché
A13: 08.- | B13: Nom du marché | E13: NOM:
A14: 09.- | B14: Localisation du marché | E14: NOM:
A15: 10.- | B15: Jours de marché | L15: Code (1= Oui, 2 = Non)
K16: A | L16: Lundi
K17: B | L17: Mardi
K18: C | L18: Mercredi
K19: D | L19: Jeudi
K20: E | L20: Vendredi
K21: F | L21: Samedi
K22: G | L22: Dimanche
A24: C | B24: Renseignements de contrôle
A25: 11.- | B25: Prénom et nom de l'agent enquêteur | L25: CODE:
A26: 12.- | B26: Prénom et nom du contrôleur | L26: CODE:
D27: Jour | F27: Mois | H27: Année | J27: Heure | L27: Minutes
A28: 13.- | B28: Début de collecte
A29: 14.- | B29: Fin de collecte
A30: 15.- | B30: Contrôle
A31: 16.- | B31: Résultat du questionnaire | D31: 1=Complet 2=Partiel | L31: CODE:
A32: 17.- | B32: Langue | D32: 01=Moore 02=Dioula 03=Foulfouldé 04=Gourmatchema 05=Bobo 06=Senoufo 07=Lobiri 08=San/Samo 09=Dagari 10=Français 11=Lélé/Nuni/Kassena 12=Bissa 13=Bwamu 14=Autre | L32: CODE:

Sheet S1_Relevés
A1: SECTION 1. Relevé des poids et prix | B1: NA
B2: NA
A3: 1 | C3: =A3+0.01 -> 1.01 | E3: =C3+0.01 -> 1.02 | F3: =E3+0.01 -> 1.03 | J3: =F3+0.01 -> 1.04 | K3: =J3+0.01 -> 1.05 | L3: =K3+0.01 -> 1.06 | M3: =L3+0.01 -> 1.07 | N3: =M3+0.01 -> 1.08 | P3: =N3+0.01 -> 1.09 | Q3: =P3+0.01 -> 1.1 | S3: =Q3+0.01 -> 1.11 | T3: =S3+0.01 -> 1.12
A4: Produit | C4: Unite | F4: Taille | N4: Relevé 1 | Q4: Relevé 2 | T4: Relevé 3
A5: Libellé | B5: CODE | C5: Libellé | D5: CODE | E5: Spécifier le nom de la nouvelle unité NOM | F5: Libellé | G5: CODE | J5: L'article a-t-il été mesuré 1 = Oui ►1.07 2 = Non | K5: Pourquoi l'article n'a pas été mesuré? 1. Produit non-disponible à cette periode (2 à 4) ►article suivant 2. Produit non-disponible en général dans ce marché 3. Unité non-utilisée dans ce marché 4. Autre (à specifier) | L5: Ecrire le code du mois òu le produit sera disponible prochainement. (1 pour Janvier, 2 pour Février, etc.) ►► Article suivant | M5: Quelle balance a été utilisée pour les relevés? 1. Balance personnelle 2. Balance certifiée du marché 3. Balance non-certifiée du marché CODE | N5: Poids (KG) | O5: Prix (FCFA) | P5: Y a-t-il un second relevé? 1 = Oui 2 = Non ►article suivant CODE | Q5: Poids (KG) | R5: Prix (FCFA) | S5: Y a-t-il un troisième relevé? 1 = Oui 2 = Non ►article suivant CODE | T5: Poids (KG) | U5: Prix (FCFA)
A6: CÉRÉALES ET PAINS | B6: NA | H6: =CONCATENATE(C6,IF(F6="N/A","",CONCATENATE(", ",F6))) -> ,
A7: Riz (Bagré/Sourou/Bama) | B7: 1 | C7: Kg | D7: =VLOOKUP(C7,Unités!A:B,2,FALSE) -> 100 | F7: N/A | G7: 0 | H7: =CONCATENATE(C7,IF(F7="N/A","",CONCATENATE(", ",F7))) -> Kg | I7: =CONCATENATE(D7,G7) -> 1000
A8: Riz (Bagré/Sourou/Bama) | B8: 1 | C8: Sac (25 Kg) | D8: =VLOOKUP(C8,Unités!A:B,2,FALSE) -> #N/A | F8: N/A | G8: 0 | H8: =CONCATENATE(C8,IF(F8="N/A","",CONCATENATE(", ",F8))) -> Sac (25 Kg) | I8: =CONCATENATE(D8,G8) -> #N/A
A9: Riz (Bagré/Sourou/Bama) | B9: 1 | C9: Sac (50 Kg) | D9: =VLOOKUP(C9,Unités!A:B,2,FALSE) -> #N/A | F9: N/A | G9: 0 | H9: =CONCATENATE(C9,IF(F9="N/A","",CONCATENATE(", ",F9))) -> Sac (50 Kg) | I9: =CONCATENATE(D9,G9) -> #N/A
A10: Riz (Bagré/Sourou/Bama) | B10: 1 | C10: Sac (100 Kg) | D10: =VLOOKUP(C10,Unités!A:B,2,FALSE) -> #N/A | F10: N/A | G10: 0 | H10: =CONCATENATE(C10,IF(F10="N/A","",CONCATENATE(", ",F10))) -> Sac (100 Kg) | I10: =CONCATENATE(D10,G10) -> #N/A
A11: Riz (Bagré/Sourou/Bama) | B11: 1 | C11: Boîte de tomate | D11: =VLOOKUP(C11,Unités!A:B,2,FALSE) -> 108 | F11: petit | G11: 1 | H11: =CONCATENATE(C11,IF(F11="N/A","",CONCATENATE(", ",F11))) -> Boîte de tomate, petit | I11: =CONCATENATE(D11,G11) -> 1081
A12: Riz (Bagré/Sourou/Bama) | B12: 1 | C12: Boîte de tomate | D12: =VLOOKUP(C12,Unités!A:B,2,FALSE) -> 108 | F12: moyen | G12: 2 | H12: =CONCATENATE(C12,IF(F12="N/A","",CONCATENATE(", ",F12))) -> Boîte de tomate, moyen | I12: =CONCATENATE(D12,G12) -> 1082
A13: Riz (Bagré/Sourou/Bama) | B13: 1 | C13: Boîte de tomate | D13: =VLOOKUP(C13,Unités!A:B,2,FALSE) -> 108 | F13: grand | G13: 3 | H13: =CONCATENATE(C13,IF(F13="N/A","",CONCATENATE(", ",F13))) -> Boîte de tomate, grand | I13: =CONCATENATE(D13,G13) -> 1083
A14: Riz (Bagré/Sourou/Bama) | B14: 1 | C14: Calebasse | D14: =VLOOKUP(C14,Unités!A:B,2,FALSE) -> 115 | F14: petit | G14: 1 | H14: =CONCATENATE(C14,IF(F14="N/A","",CONCATENATE(", ",F14))) -> Calebasse, petit | I14: =CONCATENATE(D14,G14) -> 1151
A15: Riz (Bagré/Sourou/Bama) | B15: 1 | C15: Calebasse | D15: =VLOOKUP(C15,Unités!A:B,2,FALSE) -> 115 | F15: moyen | G15: 2 | H15: =CONCATENATE(C15,IF(F15="N/A","",CONCATENATE(", ",F15))) -> Calebasse, moyen | I15: =CONCATENATE(D15,G15) -> 1152
A16: Riz (Bagré/Sourou/Bama) | B16: 1 | C16: Calebasse | D16: =VLOOKUP(C16,Unités!A:B,2,FALSE) -> 115 | F16: grand | G16: 3 | H16: =CONCATENATE(C16,IF(F16="N/A","",CONCATENATE(", ",F16))) -> Calebasse, grand | I16: =CONCATENATE(D16,G16) -> 1153
A17: Riz (Bagré/Sourou/Bama) | B17: 1 | C17: Quart-Yorouba | D17: =VLOOKUP(C17,Unités!A:B,2,FALSE) -> #N/A | F17: N/A | H17: =CONCATENATE(C17,IF(F17="N/A","",CONCATENATE(", ",F17))) -> Quart-Yorouba
A18: Riz (Bagré/Sourou/Bama) | B18: 1 | C18: Demi-Yorouba | D18: =VLOOKUP(C18,Unités!A:B,2,FALSE) -> #N/A | F18: N/A | G18: 0 | H18: =CONCATENATE(C18,IF(F18="N/A","",CONCATENATE(", ",F18))) -> Demi-Yorouba | I18: =CONCATENATE(D18,G18) -> #N/A
A19: Riz (Bagré/Sourou/Bama) | B19: 1 | C19: Yorouba | D19: =VLOOKUP(C19,Unités!A:B,2,FALSE) -> #N/A | F19: N/A | G19: 0 | H19: =CONCATENATE(C19,IF(F19="N/A","",CONCATENATE(", ",F19))) -> Yorouba | I19: =CONCATENATE(D19,G19) -> #N/A
A20: Riz (Bagré/Sourou/Bama) | B20: 1 | C20: Tine | D20: =VLOOKUP(C20,Unités!A:B,2,FALSE) -> #N/A | F20: N/A | G20: 0 | H20: =CONCATENATE(C20,IF(F20="N/A","",CONCATENATE(", ",F20))) -> Tine | I20: =CONCATENATE(D20,G20) -> #N/A
A21: Autre riz local | B21: =B7+1 -> 2 | C21: Kg | D21: =VLOOKUP(C21,Unités!A:B,2,FALSE) -> 100 | F21: N/A | G21: 0 | H21: =CONCATENATE(C21,IF(F21="N/A","",CONCATENATE(", ",F21))) -> Kg | I21: =CONCATENATE(D21,G21) -> 1000
A22: Autre riz local | B22: 2 | C22: Sac (25 Kg) | D22: =VLOOKUP(C22,Unités!A:B,2,FALSE) -> #N/A | F22: N/A | G22: 0 | H22: =CONCATENATE(C22,IF(F22="N/A","",CONCATENATE(", ",F22))) -> Sac (25 Kg) | I22: =CONCATENATE(D22,G22) -> #N/A
A23: Autre riz local | B23: 2 | C23: Sac (50 Kg) | D23: =VLOOKUP(C23,Unités!A:B,2,FALSE) -> #N/A | F23: N/A | G23: 0 | H23: =CONCATENATE(C23,IF(F23="N/A","",CONCATENATE(", ",F23))) -> Sac (50 Kg) | I23: =CONCATENATE(D23,G23) -> #N/A
A24: Autre riz local | B24: 2 | C24: Sac (100 Kg) | D24: =VLOOKUP(C24,Unités!A:B,2,FALSE) -> #N/A | F24: N/A | G24: 0 | H24: =CONCATENATE(C24,IF(F24="N/A","",CONCATENATE(", ",F24))) -> Sac (100 Kg) | I24: =CONCATENATE(D24,G24) -> #N/A
A25: Autre riz local | B25: 2 | C25: Boîte de tomate | D25: =VLOOKUP(C25,Unités!A:B,2,FALSE) -> 108 | F25: petit | G25: 1 | H25: =CONCATENATE(C25,IF(F25="N/A","",CONCATENATE(", ",F25))) -> Boîte de tomate, petit | I25: =CONCATENATE(D25,G25) -> 1081
A26: Autre riz local | B26: 2 | C26: Boîte de tomate | D26: =VLOOKUP(C26,Unités!A:B,2,FALSE) -> 108 | F26: moyen | G26: 2 | H26: =CONCATENATE(C26,IF(F26="N/A","",CONCATENATE(", ",F26))) -> Boîte de tomate, moyen | I26: =CONCATENATE(D26,G26) -> 1082
A27: Autre riz local | B27: 2 | C27: Boîte de tomate | D27: =VLOOKUP(C27,Unités!A:B,2,FALSE) -> 108 | F27: grand | G27: 3 | H27: =CONCATENATE(C27,IF(F27="N/A","",CONCATENATE(", ",F27))) -> Boîte de tomate, grand | I27: =CONCATENATE(D27,G27) -> 1083
A28: Autre riz local | B28: 2 | C28: Calebasse | D28: =VLOOKUP(C28,Unités!A:B,2,FALSE) -> 115 | F28: petit | G28: 1 | H28: =CONCATENATE(C28,IF(F28="N/A","",CONCATENATE(", ",F28))) -> Calebasse, petit | I28: =CONCATENATE(D28,G28) -> 1151
A29: Autre riz local | B29: 2 | C29: Calebasse | D29: =VLOOKUP(C29,Unités!A:B,2,FALSE) -> 115 | F29: moyen | G29: 2 | H29: =CONCATENATE(C29,IF(F29="N/A","",CONCATENATE(", ",F29))) -> Calebasse, moyen | I29: =CONCATENATE(D29,G29) -> 1152
A30: Autre riz local | B30: 2 | C30: Calebasse | D30: =VLOOKUP(C30,Unités!A:B,2,FALSE) -> 115 | F30: grand | G30: 3 | H30: =CONCATENATE(C30,IF(F30="N/A","",CONCATENATE(", ",F30))) -> Calebasse, grand | I30: =CONCATENATE(D30,G30) -> 1153
A31: Autre riz local | B31: 2 | C31: Quart-Yorouba | D31: =VLOOKUP(C31,Unités!A:B,2,FALSE) -> #N/A
A32: Autre riz local | B32: 2 | C32: Demi-Yorouba | D32: =VLOOKUP(C32,Unités!A:B,2,FALSE) -> #N/A | F32: N/A | G32: 0 | H32: =CONCATENATE(C32,IF(F32="N/A","",CONCATENATE(", ",F32))) -> Demi-Yorouba | I32: =CONCATENATE(D32,G32) -> #N/A
A33: Autre riz local | B33: 2 | C33: Yorouba | D33: =VLOOKUP(C33,Unités!A:B,2,FALSE) -> #N/A | F33: N/A | G33: 0 | H33: =CONCATENATE(C33,IF(F33="N/A","",CONCATENATE(", ",F33))) -> Yorouba | I33: =CONCATENATE(D33,G33) -> #N/A
A34: Autre riz local | B34: 2 | C34: Tine | D34: =VLOOKUP(C34,Unités!A:B,2,FALSE) -> #N/A | F34: N/A | G34: 0 | H34: =CONCATENATE(C34,IF(F34="N/A","",CONCATENATE(", ",F34))) -> Tine | I34: =CONCATENATE(D34,G34) -> #N/A
A35: Riz importé long grain | B35: =B21+1 -> 3 | C35: Kg | D35: =VLOOKUP(C35,Unités!A:B,2,FALSE) -> 100 | F35: N/A | G35: 0 | H35: =CONCATENATE(C35,IF(F35="N/A","",CONCATENATE(", ",F35))) -> Kg | I35: =CONCATENATE(D35,G35) -> 1000
A36: Riz importé long grain | B36: 3 | C36: Sac (25 Kg) | D36: =VLOOKUP(C36,Unités!A:B,2,FALSE) -> #N/A | F36: N/A | G36: 0 | H36: =CONCATENATE(C36,IF(F36="N/A","",CONCATENATE(", ",F36))) -> Sac (25 Kg) | I36: =CONCATENATE(D36,G36) -> #N/A
A37: Riz importé long grain | B37: 3 | C37: Sac (50 Kg) | D37: =VLOOKUP(C37,Unités!A:B,2,FALSE) -> #N/A | F37: N/A | G37: 0 | H37: =CONCATENATE(C37,IF(F37="N/A","",CONCATENATE(", ",F37))) -> Sac (50 Kg) | I37: =CONCATENATE(D37,G37) -> #N/A
A38: Riz importé long grain | B38: 3 | C38: Sac (5 Kg) | D38: =VLOOKUP(C38,Unités!A:B,2,FALSE) -> #N/A
A39: Riz importé brisures | B39: =B35+1 -> 4 | C39: Kg | D39: =VLOOKUP(C39,Unités!A:B,2,FALSE) -> 100 | F39: N/A | G39: 0 | H39: =CONCATENATE(C39,IF(F39="N/A","",CONCATENATE(", ",F39))) -> Kg | I39: =CONCATENATE(D39,G39) -> 1000
A40: Riz importé brisures | B40: 4 | C40: Sac (25 Kg) | D40: =VLOOKUP(C40,Unités!A:B,2,FALSE) -> #N/A | F40: N/A | G40: 0 | H40: =CONCATENATE(C40,IF(F40="N/A","",CONCATENATE(", ",F40))) -> Sac (25 Kg) | I40: =CONCATENATE(D40,G40) -> #N/A
A41: Riz importé brisures | B41: 4 | C41: Sac (50 Kg) | D41: =VLOOKUP(C41,Unités!A:B,2,FALSE) -> #N/A | F41: N/A | G41: 0 | H41: =CONCATENATE(C41,IF(F41="N/A","",CONCATENATE(", ",F41))) -> Sac (50 Kg) | I41: =CONCATENATE(D41,G41) -> #N/A
A42: Riz importé brisures | C42: Sac (5 Kg) | D42: =VLOOKUP(C42,Unités!A:B,2,FALSE) -> #N/A
A43: Maïs en épis | B43: =B39+1 -> 5 | C43: Unite | D43: =VLOOKUP(C43,Unités!A:B,2,FALSE) -> #N/A | F43: petit | G43: 1 | H43: =CONCATENATE(C43,IF(F43="N/A","",CONCATENATE(", ",F43))) -> Unite, petit | I43: =CONCATENATE(D43,G43) -> #N/A
A44: Maïs en épis | B44: =B40+1 -> 5 | C44: Unite | D44: =VLOOKUP(C44,Unités!A:B,2,FALSE) -> #N/A | F44: moyen | G44: 2 | H44: =CONCATENATE(C44,IF(F44="N/A","",CONCATENATE(", ",F44))) -> Unite, moyen | I44: =CONCATENATE(D44,G44) -> #N/A
A45: Maïs en épis | B45: =B41+1 -> 5 | C45: Unite | D45: =VLOOKUP(C45,Unités!A:B,2,FALSE) -> #N/A | F45: grand | G45: 3 | H45: =CONCATENATE(C45,IF(F45="N/A","",CONCATENATE(", ",F45))) -> Unite, grand | I45: =CONCATENATE(D45,G45) -> #N/A
A46: Maïs en épis | B46: 5 | C46: Tas | D46: =VLOOKUP(C46,Unités!A:B,2,FALSE) -> #N/A | F46: petit | G46: 1 | H46: =CONCATENATE(C46,IF(F46="N/A","",CONCATENATE(", ",F46))) -> Tas, petit | I46: =CONCATENATE(D46,G46) -> #N/A
A47: Maïs en épis | B47: 5 | C47: Tas | D47: =VLOOKUP(C47,Unités!A:B,2,FALSE) -> #N/A | F47: moyen | G47: 2 | H47: =CONCATENATE(C47,IF(F47="N/A","",CONCATENATE(", ",F47))) -> Tas, moyen | I47: =CONCATENATE(D47,G47) -> #N/A
A48: Maïs en épis | B48: 5 | C48: Tas | D48: =VLOOKUP(C48,Unités!A:B,2,FALSE) -> #N/A | F48: grand | G48: 3 | H48: =CONCATENATE(C48,IF(F48="N/A","",CONCATENATE(", ",F48))) -> Tas, grand | I48: =CONCATENATE(D48,G48) -> #N/A
A49: Maïs en épis | B49: 5 | C49: Sac (25 Kg) | D49: =VLOOKUP(C49,Unités!A:B,2,FALSE) -> #N/A | F49: N/A | G49: 0 | H49: =CONCATENATE(C49,IF(F49="N/A","",CONCATENATE(", ",F49))) -> Sac (25 Kg) | I49: =CONCATENATE(D49,G49) -> #N/A
A50: Maïs en épis | B50: 5 | C50: Sac (50 Kg) | D50: =VLOOKUP(C50,Unités!A:B,2,FALSE) -> #N/A | F50: N/A | G50: 0 | H50: =CONCATENATE(C50,IF(F50="N/A","",CONCATENATE(", ",F50))) -> Sac (50 Kg) | I50: =CONCATENATE(D50,G50) -> #N/A
A51: Maïs en épis | B51: 5 | C51: Sac (100 Kg) | D51: =VLOOKUP(C51,Unités!A:B,2,FALSE) -> #N/A | F51: N/A | G51: 0 | H51: =CONCATENATE(C51,IF(F51="N/A","",CONCATENATE(", ",F51))) -> Sac (100 Kg) | I51: =CONCATENATE(D51,G51) -> #N/A
A52: Maïs en grain | B52: =B43+1 -> 6 | C52: Kg | D52: =VLOOKUP(C52,Unités!A:B,2,FALSE) -> 100 | F52: N/A | G52: 0 | H52: =CONCATENATE(C52,IF(F52="N/A","",CONCATENATE(", ",F52))) -> Kg | I52: =CONCATENATE(D52,G52) -> 1000
A53: Maïs en grain | B53: 6 | C53: Sac (25 Kg) | D53: =VLOOKUP(C53,Unités!A:B,2,FALSE) -> #N/A | F53: N/A | G53: 0 | H53: =CONCATENATE(C53,IF(F53="N/A","",CONCATENATE(", ",F53))) -> Sac (25 Kg) | I53: =CONCATENATE(D53,G53) -> #N/A
A54: Maïs en grain | B54: 6 | C54: Sac (50 Kg) | D54: =VLOOKUP(C54,Unités!A:B,2,FALSE) -> #N/A | F54: N/A | G54: 0 | H54: =CONCATENATE(C54,IF(F54="N/A","",CONCATENATE(", ",F54))) -> Sac (50 Kg) | I54: =CONCATENATE(D54,G54) -> #N/A
A55: Maïs en grain | B55: 6 | C55: Sac (100 Kg) | D55: =VLOOKUP(C55,Unités!A:B,2,FALSE) -> #N/A | F55: N/A | G55: 0 | H55: =CONCATENATE(C55,IF(F55="N/A","",CONCATENATE(", ",F55))) -> Sac (100 Kg) | I55: =CONCATENATE(D55,G55) -> #N/A
A56: Maïs en grain | B56: 6 | C56: Boîte de tomate | D56: =VLOOKUP(C56,Unités!A:B,2,FALSE) -> 108 | F56: petit | G56: 1 | H56: =CONCATENATE(C56,IF(F56="N/A","",CONCATENATE(", ",F56))) -> Boîte de tomate, petit | I56: =CONCATENATE(D56,G56) -> 1081
A57: Maïs en grain | B57: 6 | C57: Boîte de tomate | D57: =VLOOKUP(C57,Unités!A:B,2,FALSE) -> 108 | F57: moyen | G57: 2 | H57: =CONCATENATE(C57,IF(F57="N/A","",CONCATENATE(", ",F57))) -> Boîte de tomate, moyen | I57: =CONCATENATE(D57,G57) -> 1082
A58: Maïs en grain | B58: 6 | C58: Boîte de tomate | D58: =VLOOKUP(C58,Unités!A:B,2,FALSE) -> 108 | F58: grand | G58: 3 | H58: =CONCATENATE(C58,IF(F58="N/A","",CONCATENATE(", ",F58))) -> Boîte de tomate, grand | I58: =CONCATENATE(D58,G58) -> 1083
A59: Maïs en grain | B59: 6 | C59: Calebasse | D59: =VLOOKUP(C59,Unités!A:B,2,FALSE) -> 115 | F59: petit | G59: 1 | H59: =CONCATENATE(C59,IF(F59="N/A","",CONCATENATE(", ",F59))) -> Calebasse, petit | I59: =CONCATENATE(D59,G59) -> 1151
A60: Maïs en grain | B60: 6 | C60: Calebasse | D60: =VLOOKUP(C60,Unités!A:B,2,FALSE) -> 115 | F60: moyen | G60: 2 | H60: =CONCATENATE(C60,IF(F60="N/A","",CONCATENATE(", ",F60))) -> Calebasse, moyen | I60: =CONCATENATE(D60,G60) -> 1152
A61: Maïs en grain | B61: 6 | C61: Calebasse | D61: =VLOOKUP(C61,Unités!A:B,2,FALSE) -> 115 | F61: grand | G61: 3 | H61: =CONCATENATE(C61,IF(F61="N/A","",CONCATENATE(", ",F61))) -> Calebasse, grand | I61: =CONCATENATE(D61,G61) -> 1153
A62: Maïs en grain | B62: 6 | C62: Demi-Yorouba | D62: =VLOOKUP(C62,Unités!A:B,2,FALSE) -> #N/A | F62: N/A | G62: 0 | H62: =CONCATENATE(C62,IF(F62="N/A","",CONCATENATE(", ",F62))) -> Demi-Yorouba | I62: =CONCATENATE(D62,G62) -> #N/A
A63: Maïs en grain | B63: 6 | C63: Yorouba | D63: =VLOOKUP(C63,Unités!A:B,2,FALSE) -> #N/A | F63: N/A | G63: 0 | H63: =CONCATENATE(C63,IF(F63="N/A","",CONCATENATE(", ",F63))) -> Yorouba | I63: =CONCATENATE(D63,G63) -> #N/A
A64: Maïs en grain | B64: 6 | C64: Tine | D64: =VLOOKUP(C64,Unités!A:B,2,FALSE) -> #N/A | F64: N/A | G64: 0 | H64: =CONCATENATE(C64,IF(F64="N/A","",CONCATENATE(", ",F64))) -> Tine | I64: =CONCATENATE(D64,G64) -> #N/A
A65: Petit Mil | B65: =B52+1 -> 7 | C65: Kg | D65: =VLOOKUP(C65,Unités!A:B,2,FALSE) -> 100 | F65: N/A | G65: 0 | H65: =CONCATENATE(C65,IF(F65="N/A","",CONCATENATE(", ",F65))) -> Kg | I65: =CONCATENATE(D65,G65) -> 1000
A66: Petit Mil | B66: 7 | C66: Sac (25 Kg) | D66: =VLOOKUP(C66,Unités!A:B,2,FALSE) -> #N/A | F66: N/A | G66: 0 | H66: =CONCATENATE(C66,IF(F66="N/A","",CONCATENATE(", ",F66))) -> Sac (25 Kg) | I66: =CONCATENATE(D66,G66) -> #N/A
A67: Petit Mil | B67: 7 | C67: Sac (50 Kg) | D67: =VLOOKUP(C67,Unités!A:B,2,FALSE) -> #N/A | F67: N/A | G67: 0 | H67: =CONCATENATE(C67,IF(F67="N/A","",CONCATENATE(", ",F67))) -> Sac (50 Kg) | I67: =CONCATENATE(D67,G67) -> #N/A
A68: Petit Mil | B68: 7 | C68: Sac (100 Kg) | D68: =VLOOKUP(C68,Unités!A:B,2,FALSE) -> #N/A | F68: N/A | G68: 0 | H68: =CONCATENATE(C68,IF(F68="N/A","",CONCATENATE(", ",F68))) -> Sac (100 Kg) | I68: =CONCATENATE(D68,G68) -> #N/A
A69: Petit Mil | B69: 7 | C69: Boîte de tomate | D69: =VLOOKUP(C69,Unités!A:B,2,FALSE) -> 108 | F69: petit | G69: 1 | H69: =CONCATENATE(C69,IF(F69="N/A","",CONCATENATE(", ",F69))) -> Boîte de tomate, petit | I69: =CONCATENATE(D69,G69) -> 1081
A70: Petit Mil | B70: 7 | C70: Boîte de tomate | D70: =VLOOKUP(C70,Unités!A:B,2,FALSE) -> 108 | F70: moyen | G70: 2 | H70: =CONCATENATE(C70,IF(F70="N/A","",CONCATENATE(", ",F70))) -> Boîte de tomate, moyen | I70: =CONCATENATE(D70,G70) -> 1082
A71: Petit Mil | B71: 7 | C71: Boîte de tomate | D71: =VLOOKUP(C71,Unités!A:B,2,FALSE) -> 108 | F71: grand | G71: 3 | H71: =CONCATENATE(C71,IF(F71="N/A","",CONCATENATE(", ",F71))) -> Boîte de tomate, grand | I71: =CONCATENATE(D71,G71) -> 1083
A72: Petit Mil | B72: 7 | C72: Calebasse | D72: =VLOOKUP(C72,Unités!A:B,2,FALSE) -> 115 | F72: petit | G72: 1 | H72: =CONCATENATE(C72,IF(F72="N/A","",CONCATENATE(", ",F72))) -> Calebasse, petit | I72: =CONCATENATE(D72,G72) -> 1151
A73: Petit Mil | B73: 7 | C73: Calebasse | D73: =VLOOKUP(C73,Unités!A:B,2,FALSE) -> 115 | F73: moyen | G73: 2 | H73: =CONCATENATE(C73,IF(F73="N/A","",CONCATENATE(", ",F73))) -> Calebasse, moyen | I73: =CONCATENATE(D73,G73) -> 1152
A74: Petit Mil | B74: 7 | C74: Calebasse | D74: =VLOOKUP(C74,Unités!A:B,2,FALSE) -> 115 | F74: grand | G74: 3 | H74: =CONCATENATE(C74,IF(F74="N/A","",CONCATENATE(", ",F74))) -> Calebasse, grand | I74: =CONCATENATE(D74,G74) -> 1153
A75: Petit Mil | B75: 7 | C75: Demi-Yorouba | D75: =VLOOKUP(C75,Unités!A:B,2,FALSE) -> #N/A | F75: N/A | G75: 0 | H75: =CONCATENATE(C75,IF(F75="N/A","",CONCATENATE(", ",F75))) -> Demi-Yorouba | I75: =CONCATENATE(D75,G75) -> #N/A
A76: Petit Mil | B76: 7 | C76: Yorouba | D76: =VLOOKUP(C76,Unités!A:B,2,FALSE) -> #N/A | F76: N/A | G76: 0 | H76: =CONCATENATE(C76,IF(F76="N/A","",CONCATENATE(", ",F76))) -> Yorouba | I76: =CONCATENATE(D76,G76) -> #N/A
A77: Petit Mil | B77: 7 | C77: Tine | D77: =VLOOKUP(C77,Unités!A:B,2,FALSE) -> #N/A | F77: N/A | G77: 0 | H77: =CONCATENATE(C77,IF(F77="N/A","",CONCATENATE(", ",F77))) -> Tine | I77: =CONCATENATE(D77,G77) -> #N/A
A78: Sorgho | B78: =B65+1 -> 8 | C78: Kg | D78: =VLOOKUP(C78,Unités!A:B,2,FALSE) -> 100 | F78: N/A | G78: 0 | H78: =CONCATENATE(C78,IF(F78="N/A","",CONCATENATE(", ",F78))) -> Kg | I78: =CONCATENATE(D78,G78) -> 1000
A79: Sorgho | B79: 8 | C79: Sac (25 Kg) | D79: =VLOOKUP(C79,Unités!A:B,2,FALSE) -> #N/A | F79: N/A | G79: 0 | H79: =CONCATENATE(C79,IF(F79="N/A","",CONCATENATE(", ",F79))) -> Sac (25 Kg) | I79: =CONCATENATE(D79,G79) -> #N/A
A80: Sorgho | B80: 8 | C80: Sac (50 Kg) | D80: =VLOOKUP(C80,Unités!A:B,2,FALSE) -> #N/A | F80: N/A | G80: 0 | H80: =CONCATENATE(C80,IF(F80="N/A","",CONCATENATE(", ",F80))) -> Sac (50 Kg) | I80: =CONCATENATE(D80,G80) -> #N/A
A81: Sorgho | B81: 8 | C81: Sac (100 Kg) | D81: =VLOOKUP(C81,Unités!A:B,2,FALSE) -> #N/A | F81: N/A | G81: 0 | H81: =CONCATENATE(C81,IF(F81="N/A","",CONCATENATE(", ",F81))) -> Sac (100 Kg) | I81: =CONCATENATE(D81,G81) -> #N/A
A82: Sorgho | B82: 8 | C82: Boîte de tomate | D82: =VLOOKUP(C82,Unités!A:B,2,FALSE) -> 108 | F82: petit | G82: 1 | H82: =CONCATENATE(C82,IF(F82="N/A","",CONCATENATE(", ",F82))) -> Boîte de tomate, petit | I82: =CONCATENATE(D82,G82) -> 1081
A83: Sorgho | B83: 8 | C83: Boîte de tomate | D83: =VLOOKUP(C83,Unités!A:B,2,FALSE) -> 108 | F83: moyen | G83: 2 | H83: =CONCATENATE(C83,IF(F83="N/A","",CONCATENATE(", ",F83))) -> Boîte de tomate, moyen | I83: =CONCATENATE(D83,G83) -> 1082
A84: Sorgho | B84: 8 | C84: Boîte de tomate | D84: =VLOOKUP(C84,Unités!A:B,2,FALSE) -> 108 | F84: grand | G84: 3 | H84: =CONCATENATE(C84,IF(F84="N/A","",CONCATENATE(", ",F84))) -> Boîte de tomate, grand | I84: =CONCATENATE(D84,G84) -> 1083
A85: Sorgho | B85: 8 | C85: Calebasse | D85: =VLOOKUP(C85,Unités!A:B,2,FALSE) -> 115 | F85: petit | G85: 1 | H85: =CONCATENATE(C85,IF(F85="N/A","",CONCATENATE(", ",F85))) -> Calebasse, petit | I85: =CONCATENATE(D85,G85) -> 1151
A86: Sorgho | B86: 8 | C86: Calebasse | D86: =VLOOKUP(C86,Unités!A:B,2,FALSE) -> 115 | F86: moyen | G86: 2 | H86: =CONCATENATE(C86,IF(F86="N/A","",CONCATENATE(", ",F86))) -> Calebasse, moyen | I86: =CONCATENATE(D86,G86) -> 1152
A87: Sorgho | B87: 8 | C87: Calebasse | D87: =VLOOKUP(C87,Unités!A:B,2,FALSE) -> 115 | F87: grand | G87: 3 | H87: =CONCATENATE(C87,IF(F87="N/A","",CONCATENATE(", ",F87))) -> Calebasse, grand | I87: =CONCATENATE(D87,G87) -> 1153
A88: Sorgho | B88: 8 | C88: Demi-Yorouba | D88: =VLOOKUP(C88,Unités!A:B,2,FALSE) -> #N/A | F88: N/A | G88: 0 | H88: =CONCATENATE(C88,IF(F88="N/A","",CONCATENATE(", ",F88))) -> Demi-Yorouba | I88: =CONCATENATE(D88,G88) -> #N/A
A89: Sorgho | B89: 8 | C89: Yorouba | D89: =VLOOKUP(C89,Unités!A:B,2,FALSE) -> #N/A | F89: N/A | G89: 0 | H89: =CONCATENATE(C89,IF(F89="N/A","",CONCATENATE(", ",F89))) -> Yorouba | I89: =CONCATENATE(D89,G89) -> #N/A
A90: Sorgho | B90: 8 | C90: Tine | D90: =VLOOKUP(C90,Unités!A:B,2,FALSE) -> #N/A | F90: N/A | G90: 0 | H90: =CONCATENATE(C90,IF(F90="N/A","",CONCATENATE(", ",F90))) -> Tine | I90: =CONCATENATE(D90,G90) -> #N/A
A91: Blé | B91: =B78+1 -> 9 | C91: Kg | D91: =VLOOKUP(C91,Unités!A:B,2,FALSE) -> 100 | F91: N/A | G91: 0 | H91: =CONCATENATE(C91,IF(F91="N/A","",CONCATENATE(", ",F91))) -> Kg | I91: =CONCATENATE(D91,G91) -> 1000
A92: Blé | B92: 9 | C92: Sac (25 Kg) | D92: =VLOOKUP(C92,Unités!A:B,2,FALSE) -> #N/A | F92: N/A | G92: 0 | H92: =CONCATENATE(C92,IF(F92="N/A","",CONCATENATE(", ",F92))) -> Sac (25 Kg) | I92: =CONCATENATE(D92,G92) -> #N/A
A93: Blé | B93: 9 | C93: Sac (50 Kg) | D93: =VLOOKUP(C93,Unités!A:B,2,FALSE) -> #N/A | F93: N/A | G93: 0 | H93: =CONCATENATE(C93,IF(F93="N/A","",CONCATENATE(", ",F93))) -> Sac (50 Kg) | I93: =CONCATENATE(D93,G93) -> #N/A
A94: Blé | B94: 9 | C94: Sac (100 Kg) | D94: =VLOOKUP(C94,Unités!A:B,2,FALSE) -> #N/A | F94: N/A | G94: 0 | H94: =CONCATENATE(C94,IF(F94="N/A","",CONCATENATE(", ",F94))) -> Sac (100 Kg) | I94: =CONCATENATE(D94,G94) -> #N/A
A95: Blé | B95: 9 | C95: Boîte de tomate | D95: =VLOOKUP(C95,Unités!A:B,2,FALSE) -> 108 | F95: petit | G95: 1 | H95: =CONCATENATE(C95,IF(F95="N/A","",CONCATENATE(", ",F95))) -> Boîte de tomate, petit | I95: =CONCATENATE(D95,G95) -> 1081
A96: Blé | B96: 9 | C96: Boîte de tomate | D96: =VLOOKUP(C96,Unités!A:B,2,FALSE) -> 108 | F96: moyen | G96: 2 | H96: =CONCATENATE(C96,IF(F96="N/A","",CONCATENATE(", ",F96))) -> Boîte de tomate, moyen | I96: =CONCATENATE(D96,G96) -> 1082
A97: Blé | B97: 9 | C97: Boîte de tomate | D97: =VLOOKUP(C97,Unités!A:B,2,FALSE) -> 108 | F97: grand | G97: 3 | H97: =CONCATENATE(C97,IF(F97="N/A","",CONCATENATE(", ",F97))) -> Boîte de tomate, grand | I97: =CONCATENATE(D97,G97) -> 1083
A98: Blé | B98: 9 | C98: Calebasse | D98: =VLOOKUP(C98,Unités!A:B,2,FALSE) -> 115 | F98: petit | G98: 1 | H98: =CONCATENATE(C98,IF(F98="N/A","",CONCATENATE(", ",F98))) -> Calebasse, petit | I98: =CONCATENATE(D98,G98) -> 1151
A99: Blé | B99: 9 | C99: Calebasse | D99: =VLOOKUP(C99,Unités!A:B,2,FALSE) -> 115 | F99: moyen | G99: 2 | H99: =CONCATENATE(C99,IF(F99="N/A","",CONCATENATE(", ",F99))) -> Calebasse, moyen | I99: =CONCATENATE(D99,G99) -> 1152
A100: Blé | B100: 9 | C100: Calebasse | D100: =VLOOKUP(C100,Unités!A:B,2,FALSE) -> 115 | F100: grand | G100: 3 | H100: =CONCATENATE(C100,IF(F100="N/A","",CONCATENATE(", ",F100))) -> Calebasse, grand | I100: =CONCATENATE(D100,G100) -> 1153
...

Sheet Unités
A1: Unité | B1: Code unité | C1: Unité | D1: Code unité
A2: Kg | B2: 100 | C2: Panier | D2: 128
A3: Litre | B3: 101 | C3: Paquet | D3: 129
A4: Alvéole | B4: 102 | C4: Plaquette | D4: 130
A5: Avec os au Kg | B5: 103 | C5: Pot | D5: 131
A6: Avec os au tas | B6: 104 | C6: Régime | D6: 132
A7: Bassine | B7: 105 | C7: Sac | D7: 133
A8: Bidon | B8: 106 | C8: Sac (10 Kg) | D8: 134
A9: Boite | B9: 107 | C9: Sac (100 Kg) | D9: 135
A10: Boîte de tomate | B10: 108 | C10: Sac (25 Kg) | D10: 136
A11: Bol | B11: 109 | C11: Sac (5 Kg) | D11: 137
A12: Botte | B12: 110 | C12: Sac (50 Kg) | D12: 138
A13: Boule | B13: 111 | C13: Sachet | D13: 139
... A28: Morceau | B28: 126 | C28: Entier | D28: 255
A29: Moudou | B29: 127
